Workbook
Name _GoBack: OKJ!$B$1

Sheet Munka1
A1: PÁLYÁZATI DOKUMENTÁCIÓ – PÁLYÁZATI KIÍRÁS Az NFA képzési alaprész decentralizált beruházási keretéből finanszírozandó, fejlesztésre irányuló beruházások támogatásához kiírásra kerülő pályázathoz
K3: 8. melléklet
A6: Igazolás tanulószerződéses tanulólétszámról (Területileg illetékes gazdasági kamara állítja ki beruházási helyszínenként, a szakképzési hozzájárulásra kötelezett pályázók esetében kötelező a kitöltése és a pályázathoz történő csatolása,)
A11: Alulírott | K11: , (név)
K12: (beosztás)
J13: (területi kamara neve)
A14: részéről igazolom, hogy a
A15: szakképzési hozzájárulásra kötelezett a 2013/2014-es tanévben gyakorlati képzésben tanulószerződéssel az alábbi létszámú tanulót oktat:
A17: Gyakorlati képzés helyszíne:
A19: Szakképesítés megnevezése | G19: OKJ azonosító szám | K19: Létszám (fő) 2013/2014-es tanév
G20: =IF(A20=0,"-",VLOOKUP(A20,OKJ!D1:E718,2)) -> -
G21: =IF(A21=0,"-",VLOOKUP(A21,OKJ!D2:E719,2)) -> -
G22: =IF(A22=0,"-",VLOOKUP(A22,OKJ!D3:E720,2)) -> -
G23: =IF(A23=0,"-",VLOOKUP(A23,OKJ!D4:E721,2)) -> -
G24: =IF(A24=0,"-",VLOOKUP(A24,OKJ!D5:E722,2)) -> -
G25: =IF(A25=0,"-",VLOOKUP(A25,OKJ!D6:E723,2)) -> -
G26: =IF(A26=0,"-",VLOOKUP(A26,OKJ!D7:E724,2)) -> -
G27: =IF(A27=0,"-",VLOOKUP(A27,OKJ!D8:E725,2)) -> -
G29: =IF(A29=0,"-",VLOOKUP(A29,SNI!A:B,2)) -> -
G30: =IF(A30=0,"-",VLOOKUP(A30,SNI!A:B,2)) -> -
G31: =IF(A31=0,"-",VLOOKUP(A31,SNI!A:B,2)) -> -
G32: =IF(A32=0,"-",VLOOKUP(A32,SNI!A:B,2)) -> -
A33: Összesen: | K33: =SUM(K20+K21+K22+K23+K24+K25+K26+K27+K29+K30+K31+K32) -> 0
A35: Az igazolást a Nemzeti Foglalkoztatási Alap képzési alaprész 2013. évi decentralizált beruházási keretének felhasználására kiírt pályázat céljára adom ki.
A38: A | K38: (pályázó neve)
A39: pályázatát támogatom.
A41: Keltezés:
H44: aláírás, bélyegző lenyomat

Sheet OKJ
A1: Abroncsgyártó | B1: 335430200103301 | C1: , | D1: =CONCATENATE(A1,$C$1, B1) -> Abroncsgyártó, 335430200103301 | E1: 335430200103301
A2: Abroncsgyártó | B2: 3454301 | D2: =CONCATENATE(A2,$C$1, B2) -> Abroncsgyártó, 3454301 | E2: 3454301
A3: Ács | B3: 3458201 | D3: =CONCATENATE(A3,$C$1, B3) -> Ács, 3458201 | E3: 3458201
A4: Ács, állványozó | B4: 335820110000000 | D4: =CONCATENATE(A4,$C$1, B4) -> Ács, állványozó, 335820110000000 | E4: 335820110000000
A5: Agrár áruforgalmazó szaktechnikus | B5: 5562101 | D5: =CONCATENATE(A5,$C$1, B5) -> Agrár áruforgalmazó szaktechnikus, 5562101 | E5: 5562101
A6: Agrárkörnyezetgazda | B6: 526210110000000 | D6: =CONCATENATE(A6,$C$1, B6) -> Agrárkörnyezetgazda, 526210110000000 | E6: 526210110000000
A7: Agrár-közgazdasági és -áruforgalmazó technikus | B7: 546210100000000 | D7: =CONCATENATE(A7,$C$1, B7) -> Agrár-közgazdasági és -áruforgalmazó technikus, 546210100000000 | E7: 546210100000000
A8: Alkalmazott grafikus | B8: 542110900105401 | D8: =CONCATENATE(A8,$C$1, B8) -> Alkalmazott grafikus, 542110900105401 | E8: 542110900105401
A9: Állategészségügyi technikus | B9: 546210300105401 | D9: =CONCATENATE(A9,$C$1, B9) -> Állategészségügyi technikus, 546210300105401 | E9: 546210300105401
A10: Állattartó szakmunkás | B10: 3562101 | D10: =CONCATENATE(A10,$C$1, B10) -> Állattartó szakmunkás, 3562101 | E10: 3562101
A11: Állattenyésztési gépüzemeltető, gépkarbantartó | B11: 315212000103101 | D11: =CONCATENATE(A11,$C$1, B11) -> Állattenyésztési gépüzemeltető, gépkarbantartó, 315212000103101 | E11: 315212000103101
A12: Állattenyésztő (baromfi és kisállat) | B12: 316210300103101 | D12: =CONCATENATE(A12,$C$1, B12) -> Állattenyésztő (baromfi és kisállat), 316210300103101 | E12: 316210300103101
A13: Állattenyésztő (juh és kecske) | B13: 316210300103102 | D13: =CONCATENATE(A13,$C$1, B13) -> Állattenyésztő (juh és kecske), 316210300103102 | E13: 316210300103102
... A72: Cukoripari technikus | B72: 545410100105402 | D72: =CONCATENATE(A72,$C$1, B72) -> Cukoripari technikus, 545410100105402 | E72: 545410100105402
D73: Cukrász, 338110100000000 | E73: 338110100000000
A74: Cukrász | B74: 338110110000000 | D74: =CONCATENATE(A74,$C$1, B74) -> Cukrász, 338110110000000 | E74: 338110110000000
A75: Cukrász | B75: 3481101 | D75: =CONCATENATE(A75,$C$1, B75) -> Cukrász, 3481101 | E75: 3481101
A76: Családpedagógiai mentor | B76: 547610100000000 | D76: =CONCATENATE(A76,$C$1, B76) -> Családpedagógiai mentor, 547610100000000 | E76: 547610100000000
A77: Csatornamű-kezelő | B77: 318530100000000 | D77: =CONCATENATE(A77,$C$1, B77) -> Csatornamű-kezelő, 318530100000000 | E77: 318530100000000
A78: Csecsemő- és gyermekápoló | B78: 547230100105402 | D78: =CONCATENATE(A78,$C$1, B78) -> Csecsemő- és gyermekápoló, 547230100105402 | E78: 547230100105402
A79: Csecsemő és gyermekápoló | B79: 5572302 | D79: =CONCATENATE(A79,$C$1, B79) -> Csecsemő és gyermekápoló, 5572302 | E79: 5572302
A80: Csipkekészítő | B80: 312150200103101 | D80: =CONCATENATE(A80,$C$1, B80) -> Csipkekészítő, 312150200103101 | E80: 312150200103101
A81: Dekoratőr | B81: 5421101 | D81: =CONCATENATE(A81,$C$1, B81) -> Dekoratőr, 5421101 | E81: 5421101
A82: Dekoratőr | B82: 542110100000000 | D82: =CONCATENATE(A82,$C$1, B82) -> Dekoratőr, 542110100000000 | E82: 542110100000000
A83: Dieseladagoló-javító | B83: 315210100013301 | D83: =CONCATENATE(A83,$C$1, B83) -> Dieseladagoló-javító, 315210100013301 | E83: 315210100013301
A84: Díszítő festő | B84: 542110800105402 | D84: =CONCATENATE(A84,$C$1, B84) -> Díszítő festő, 542110800105402 | E84: 542110800105402
A85: Díszítő festő | B85: 5521103 | D85: =CONCATENATE(A85,$C$1, B85) -> Díszítő festő, 5521103 | E85: 5521103
... A126: Épület- és építménybádogos | B126: 315820700103101 | D126: =CONCATENATE(A126,$C$1, B126) -> Épület- és építménybádogos, 315820700103101 | E126: 315820700103101
D127: Épület- és építménybádogos, 315820710000000
A128: Épület- és szerkezetlakatos | B128: 3458203 | D128: =CONCATENATE(A128,$C$1, B128) -> Épület- és szerkezetlakatos, 3458203 | E128: 3458203
A129: Épületasztalos | B129: 315820810000000 | D129: =CONCATENATE(A129,$C$1, B129) -> Épületasztalos, 315820810000000 | E129: 315820810000000
A130: Épületgépész technikus | B130: 5458201 | D130: =CONCATENATE(A130,$C$1, B130) -> Épületgépész technikus, 5458201 | E130: 5458201
A131: Épületgépész technikus | B131: 545820600105401 | D131: =CONCATENATE(A131,$C$1, B131) -> Épületgépész technikus, 545820600105401 | E131: 545820600105401
A132: Épületlakatos | B132: 315821010000000 | D132: =CONCATENATE(A132,$C$1, B132) -> Épületlakatos, 315821010000000 | E132: 315821010000000
A133: Erdészeti és vadgazdálkodási technikus | B133: 5462301 | D133: =CONCATENATE(A133,$C$1, B133) -> Erdészeti és vadgazdálkodási technikus, 5462301 | E133: 5462301
A134: Erdészeti gépésztechnikus | B134: 5452102 | D134: =CONCATENATE(A134,$C$1, B134) -> Erdészeti gépésztechnikus, 5452102 | E134: 5452102
A135: Erdészeti gépszerelő, gépjavító | B135: 315210100103101 | D135: =CONCATENATE(A135,$C$1, B135) -> Erdészeti gépszerelő, gépjavító, 315210100103101 | E135: 315210100103101
A136: Erdészeti szakmunkás | B136: 316230110000000 | D136: =CONCATENATE(A136,$C$1, B136) -> Erdészeti szakmunkás, 316230110000000 | E136: 316230110000000
A137: Erdészeti szakmunkás | B137: 3462301 | D137: =CONCATENATE(A137,$C$1, B137) -> Erdészeti szakmunkás, 3462301 | E137: 3462301
A138: Erdésztechnikus | B138: 546230100000000 | D138: =CONCATENATE(A138,$C$1, B138) -> Erdésztechnikus, 546230100000000 | E138: 546230100000000
...

Sheet SNI
A1: Állatgondozó, 3162101 | B1: 3162101
A2: Állatgondozó, 3162101 | B2: 3162101
A3: Állattartó-telepimunkás, 316210101002101 | B3: 316210101002101
A4: Ápolásiasszisztens, 3272301 | B4: 3272301
A5: Ápolásiasszisztens, 547230101003301 | B5: 547230101003301
A6: Aranykalászosgazda, 3162102 | B6: 3162102
A7: Aranykalászosgazda, 336210201003101 | B7: 336210201003101
A8: Asztalos, 3454302 | B8: 3454302
A9: Asztalosiparigépkezelő, 335430101003103 | B9: 335430101003103
A10: Asztalosipariszerelő, 2154301 | B10: 2154301
A11: Asztalosipariszerelő, 335430101002101 | B11: 335430101002101
A12: Bábkészítő, 3121201 | B12: 3121201
... A172: Zöldségtermesztő, 316220100103104 | B172: 316220100103104
