Workbook
Name _GoBack: OKJ!$B$1

Sheet Munka1
A1: PÁLYÁZATI DOKUMENTÁCIÓ – PÁLYÁZATI KIÍRÁS Az NFA képzési alaprész decentralizált beruházási keretéből finanszírozandó, fejlesztésre irányuló beruházások támogatásához kiírásra kerülő pályázathoz
K3: 8. melléklet
A6: Igazolás tanulószerződéses tanulólétszámról (Területileg illetékes gazdasági kamara állítja ki beruházási helyszínenként, a szakképzési hozzájárulásra kötelezett pályázók esetében kötelező a kitöltése és a pályázathoz történő csatolása,)
A11: Alulírott | K11: , (név)
K12: (beosztás)
J13: (területi kamara neve)
A14: részéről igazolom, hogy a
A15: szakképzési hozzájárulásra kötelezett a 2013/2014-es tanévben gyakorlati képzésben tanulószerződéssel az alábbi létszámú tanulót oktat:
A17: Gyakorlati képzés helyszíne:
A19: Szakképesítés megnevezése | G19: OKJ azonosító szám | K19: Létszám (fő) 2013/2014-es tanév
G20: =IF(A20=0,"-",VLOOKUP(A20,OKJ!D1:E718,2)) -> -
G21: =IF(A21=0,"-",VLOOKUP(A21,OKJ!D2:E719,2)) -> -
G22: =IF(A22=0,"-",VLOOKUP(A22,OKJ!D3:E720,2)) -> -
G23: =IF(A23=0,"-",VLOOKUP(A23,OKJ!D4:E721,2)) -> -
G24: =IF(A24=0,"-",VLOOKUP(A24,OKJ!D5:E722,2)) -> -
G25: =IF(A25=0,"-",VLOOKUP(A25,OKJ!D6:E723,2)) -> -
G26: =IF(A26=0,"-",VLOOKUP(A26,OKJ!D7:E724,2)) -> -
G27: =IF(A27=0,"-",VLOOKUP(A27,OKJ!D8:E725,2)) -> -
G29: =IF(A29=0,"-",VLOOKUP(A29,SNI!A:B,2)) -> -
G30: =IF(A30=0,"-",VLOOKUP(A30,SNI!A:B,2)) -> -
G31: =IF(A31=0,"-",VLOOKUP(A31,SNI!A:B,2)) -> -
G32: =IF(A32=0,"-",VLOOKUP(A32,SNI!A:B,2)) -> -
A33: Összesen: | K33: =SUM(K20+K21+K22+K23+K24+K25+K26+K27+K29+K30+K31+K32) -> 0
A35: Az igazolást a Nemzeti Foglalkoztatási Alap képzési alaprész 2013. évi decentralizált beruházási keretének felhasználására kiírt pályázat céljára adom ki.
A38: A | K38: (pályázó neve)
A39: pályázatát támogatom.
A41: Keltezés:
H44: aláírás, bélyegző lenyomat

Sheet OKJ
A1: Abroncsgyártó | B1: 335430200103301 | C1: , | D1: =CONCATENATE(A1,$C$1, B1) -> Abroncsgyártó, 335430200103301 | E1: 335430200103301
A2: Abroncsgyártó | B2: 3454301 | D2: =CONCATENATE(A2,$C$1, B2) -> Abroncsgyártó, 3454301 | E2: 3454301
A3: Ács | B3: 3458201 | D3: =CONCATENATE(A3,$C$1, B3) -> Ács, 3458201 | E3: 3458201
A4: Ács, állványozó | B4: 335820110000000 | D4: =CONCATENATE(A4,$C$1, B4) -> Ács, állványozó, 335820110000000 | E4: 335820110000000
A5: Agrár áruforgalmazó szaktechnikus | B5: 5562101 | D5: =CONCATENATE(A5,$C$1, B5) -> Agrár áruforgalmazó szaktechnikus, 5562101 | E5: 5562101
A6: Agrárkörnyezetgazda | B6: 526210110000000 | D6: =CONCATENATE(A6,$C$1, B6) -> Agrárkörnyezetgazda, 526210110000000 | E6: 526210110000000
A7: Agrár-közgazdasági és -áruforgalmazó technikus | B7: 546210100000000 | D7: =CONCATENATE(A7,$C$1, B7) -> Agrár-közgazdasági és -áruforgalmazó technikus, 546210100000000 | E7: 546210100000000
A8: Alkalmazott grafikus | B8: 542110900105401 | D8: =CONCATENATE(A8,$C$1, B8) -> Alkalmazott grafikus, 542110900105401 | E8: 542110900105401
A9: Állategészségügyi technikus | B9: 546210300105401 | D9: =CONCATENATE(A9,$C$1, B9) -> Állategészségügyi technikus, 546210300105401 | E9: 546210300105401
A10: Állattartó szakmunkás | B10: 3562101 | D10: =CONCATENATE(A10,$C$1, B10) -> Állattartó szakmunkás, 3562101 | E10: 3562101
A11: Állattenyésztési gépüzemeltető, gépkarbantartó | B11: 315212000103101 | D11: =CONCATENATE(A11,$C$1, B11) -> Állattenyésztési gépüzemeltető, gépkarbantartó, 315212000103101 | E11: 315212000103101
A12: Állattenyésztő (baromfi és kisállat) | B12: 316210300103101 | D12: =CONCATENATE(A12,$C$1, B12) -> Állattenyésztő (baromfi és kisállat), 316210300103101 | E12: 316210300103101
A13: Állattenyésztő (juh és kecske) | B13: 316210300103102 | D13: =CONCATENATE(A13,$C$1, B13) -> Állattenyésztő (juh és kecske), 316210300103102 | E13: 316210300103102
... A72: Cukoripari technikus | B72: 545410100105402 | D72: =CONCATENATE(A72,$C$1, B72) -> Cukoripari technikus, 545410100105402 | E72: 545410100105402
D73: Cukrász, 338110100000000 | E73: 338110100000000
A74: Cukrász | B74: 338110110000000 | D74: =CONCATENATE(A74,$C$1, B74) -> Cukrász, 338110110000000 | E74: 338110110000000
A75: Cukrász | B75: 3481101 | D75: =CONCATENATE(A75,$C$1, B75) -> Cukrász, 3481101 | E75: 3481101
A76: Családpedagógiai mentor | B76: 547610100000000 | D76: =CONCATENATE(A76,$C$1, B76) -> Családpedagógiai mentor, 547610100000000 | E76: 547610100000000
A77: Csatornamű-kezelő | B77: 318530100000000 | D77: =CONCATENATE(A77,$C$1, B77) -> Csatornamű-kezelő, 318530100000000 | E77: 318530100000000
A78: Csecsemő- és gyermekápoló | B78: 547230100105402 | D78: =CONCATENATE(A78,$C$1, B78) -> Csecsemő- és gyermekápoló, 547230100105402 | E78: 547230100105402
A79: Csecsemő és gyermekápoló | B79: 5572302 | D79: =CONCATENATE(A79,$C$1, B79) -> Csecsemő és gyermekápoló, 5572302 | E79: 5572302
A80: Csipkekészítő | B80: 312150200103101 | D80: =CONCATENATE(A80,$C$1, B80) -> Csipkekészítő, 312150200103101 | E80: 312150200103101
A81: Dekoratőr | B81: 5421101 | D81: =CONCATENATE(A81,$C$1, B81) -> Dekoratőr, 5421101 | E81: 5421101
A82: Dekoratőr | B82: 542110100000000 | D82: =CONCATENATE(A82,$C$1, B82) -> Dekoratőr, 542110100000000 | E82: 542110100000000
A83: Dieseladagoló-javító | B83: 315210100013301 | D83: =CONCATENATE(A83,$C$1, B83) -> Dieseladagoló-javító, 315210100013301 | E83: 315210100013301
A84: Díszítő festő | B84: 542110800105402 | D84: =CONCATENATE(A84,$C$1, B84) -> Díszítő festő, 542110800105402 | E84: 542110800105402
A85: Díszítő festő | B85: 5521103 | D85: =CONCATENATE(A85,$C$1, B85) -> Díszítő festő, 5521103 | E85: 5521103
... A126: Épület- és építménybádogos | B126: 315820700103101 | D126: =CONCATENATE(A126,$C$1, B126) -> Épület- és építménybádogos, 315820700103101 | E126: 315820700103101
D127: Épület- és építménybádogos, 315820710000000
A128: Épület- és szerkezetlakatos | B128: 3458203 | D128: =CONCATENATE(A128,$C$1, B128) -> Épület- és szerkezetlakatos, 3458203 | E128: 3458203
A129: Épületasztalos | B129: 315820810000000 | D129: =CONCATENATE(A129,$C$1, B129) -> Épületasztalos, 315820810000000 | E129: 315820810000000
A130: Épületgépész technikus | B130: 5458201 | D130: =CONCATENATE(A130,$C$1, B130) -> Épületgépész technikus, 5458201 | E130: 5458201
A131: Épületgépész technikus | B131: 545820600105401 | D131: =CONCATENATE(A131,$C$1, B131) -> Épületgépész technikus, 545820600105401 | E131: 545820600105401
A132: Épületlakatos | B132: 315821010000000 | D132: =CONCATENATE(A132,$C$1, B132) -> Épületlakatos, 315821010000000 | E132: 315821010000000
A133: Erdészeti és vadgazdálkodási technikus | B133: 5462301 | D133: =CONCATENATE(A133,$C$1, B133) -> Erdészeti és vadgazdálkodási technikus, 5462301 | E133: 5462301
A134: Erdészeti gépésztechnikus | B134: 5452102 | D134: =CONCATENATE(A134,$C$1, B134) -> Erdészeti gépésztechnikus, 5452102 | E134: 5452102
A135: Erdészeti gépszerelő, gépjavító | B135: 315210100103101 | D135: =CONCATENATE(A135,$C$1, B135) -> Erdészeti gépszerelő, gépjavító, 315210100103101 | E135: 315210100103101
A136: Erdészeti szakmunkás | B136: 316230110000000 | D136: =CONCATENATE(A136,$C$1, B136) -> Erdészeti szakmunkás, 316230110000000 | E136: 316230110000000
A137: Erdészeti szakmunkás | B137: 3462301 | D137: =CONCATENATE(A137,$C$1, B137) -> Erdészeti szakmunkás, 3462301 | E137: 3462301
A138: Erdésztechnikus | B138: 546230100000000 | D138: =CONCATENATE(A138,$C$1, B138) -> Erdésztechnikus, 546230100000000 | E138: 546230100000000
A139: Erdőgazdasági gépésztechnikus | B139: 545250200105401 | D139: =CONCATENATE(A139,$C$1, B139) -> Erdőgazdasági gépésztechnikus, 545250200105401 | E139: 545250200105401
... A190: Gazdasági informatikus | B190: 544810400105401 | D190: =CONCATENATE(A190,$C$1, B190) -> Gazdasági informatikus, 544810400105401 | E190: 544810400105401
D191: Gázfogyasztó-berendezés és csőhálózat-szerelő, 315820900103102 | E191: 315820900103102
A192: Geológiai technikus | B192: 545440100105401 | D192: =CONCATENATE(A192,$C$1, B192) -> Geológiai technikus, 545440100105401 | E192: 545440100105401
A193: Gépgyártástechnológiai technikus | B193: 545210100000000 | D193: =CONCATENATE(A193,$C$1, B193) -> Gépgyártástechnológiai technikus, 545210100000000 | E193: 545210100000000
A194: Gépgyártástechnológiai technikus | B194: 5452103 | D194: =CONCATENATE(A194,$C$1, B194) -> Gépgyártástechnológiai technikus, 5452103 | E194: 5452103
A195: Gépgyártósori gépkezelő, gépszerelő | B195: 315210800000000 | D195: =CONCATENATE(A195,$C$1, B195) -> Gépgyártósori gépkezelő, gépszerelő, 315210800000000 | E195: 315210800000000
A196: Gépi forgácsoló | B196: 315210910000000 | D196: =CONCATENATE(A196,$C$1, B196) -> Gépi forgácsoló, 315210910000000 | E196: 315210910000000
A197: Gépi forgácsoló | B197: 3452103 | D197: =CONCATENATE(A197,$C$1, B197) -> Gépi forgácsoló, 3452103 | E197: 3452103
A198: Gépjármű mechatronikus | B198: 3452502 | D198: =CONCATENATE(A198,$C$1, B198) -> Gépjármű mechatronikus, 3452502 | E198: 3452502
A199: Gépjármű-építési, szerelési logisztikus | B199: 3484101 | D199: =CONCATENATE(A199,$C$1, B199) -> Gépjármű-építési, szerelési logisztikus, 3484101 | E199: 3484101
A200: Gépjárműépítő, szerelő | B200: 3452501 | D200: =CONCATENATE(A200,$C$1, B200) -> Gépjárműépítő, szerelő, 3452501 | E200: 3452501
A201: Géplakatos | B201: 315211010000000 | D201: =CONCATENATE(A201,$C$1, B201) -> Géplakatos, 315211010000000 | E201: 315211010000000
A202: Gerontológiai gondozó | B202: 547620200105401 | D202: =CONCATENATE(A202,$C$1, B202) -> Gerontológiai gondozó, 547620200105401 | E202: 547620200105401
A203: Gerontológiai gondozó | B203: 5576202 | D203: =CONCATENATE(A203,$C$1, B203) -> Gerontológiai gondozó, 5576202 | E203: 5576202
... A244: Határrendészeti-rendőr | B244: 528610600105201 | D244: =CONCATENATE(A244,$C$1, B244) -> Határrendészeti-rendőr, 528610600105201 | E244: 528610600105201
D245: Hegesztő, 315211100000000 | E245: 315211100000000
A246: Hegesztő | B246: 315211110000000 | D246: =CONCATENATE(A246,$C$1, B246) -> Hegesztő, 315211110000000 | E246: 315211110000000
A247: Hegesztő | B247: 3452106 | D247: =CONCATENATE(A247,$C$1, B247) -> Hegesztő, 3452106 | E247: 3452106
A248: Hídépítő és -fenntartó technikus | B248: 5458202 | D248: =CONCATENATE(A248,$C$1, B248) -> Hídépítő és -fenntartó technikus, 5458202 | E248: 5458202
A249: Hídépítő és –fenntartó technikus | B249: 545820200105401 | D249: =CONCATENATE(A249,$C$1, B249) -> Hídépítő és –fenntartó technikus, 545820200105401 | E249: 545820200105401
A250: Hidraulika-javító | B250: 315210100013303 | D250: =CONCATENATE(A250,$C$1, B250) -> Hidraulika-javító, 315210100013303 | E250: 315210100013303
A251: Honvéd altiszt | B251: 5486302 | D251: =CONCATENATE(A251,$C$1, B251) -> Honvéd altiszt , 5486302 | E251: 5486302
A252: Honvéd tiszthelyettes I. | B252: 528630110000000 | D252: =CONCATENATE(A252,$C$1, B252) -> Honvéd tiszthelyettes I. , 528630110000000 | E252: 528630110000000
A253: Honvéd zászlós | B253: 548630100000000 | D253: =CONCATENATE(A253,$C$1, B253) -> Honvéd zászlós, 548630100000000 | E253: 548630100000000
A254: Honvéd zászlós | B254: 5586301 | D254: =CONCATENATE(A254,$C$1, B254) -> Honvéd zászlós, 5586301 | E254: 5586301
A255: Hulladékgazdálkodó szaktechnikus | B255: 5585001 | D255: =CONCATENATE(A255,$C$1, B255) -> Hulladékgazdálkodó szaktechnikus, 5585001 | E255: 5585001
A256: Hulladékgazdálkodó | B256: 548500100105402 | D256: =CONCATENATE(A256,$C$1, B256) -> Hulladékgazdálkodó, 548500100105402 | E256: 548500100105402
A257: Hús- és baromfiipari szaktechnikus | B257: 5554104 | D257: =CONCATENATE(A257,$C$1, B257) -> Hús- és baromfiipari szaktechnikus, 5554104 | E257: 5554104
... A260: Húsipari termékgyártó | B260: 3454103 | D260: =CONCATENATE(A260,$C$1, B260) -> Húsipari termékgyártó, 3454103 | E260: 3454103
D261: Hűtő- és klímaberendezés-szerelő, karbantartó, 335220200000000 | E261: 335220200000000
A262: Hűtő- és légtechnikai rendszerszerelő | B262: 315822100103101 | D262: =CONCATENATE(A262,$C$1, B262) -> Hűtő- és légtechnikai rendszerszerelő, 315822100103101 | E262: 315822100103101
A263: Hűtő- és légtechnikai rendszerszerelő | B263: 3458205 | D263: =CONCATENATE(A263,$C$1, B263) -> Hűtő- és légtechnikai rendszerszerelő, 3458205 | E263: 3458205
A264: Hűtő-, klíma- és hőszivattyú berendezés-szerelő | B264: 315822100013104 | D264: =CONCATENATE(A264,$C$1, B264) -> Hűtő-, klíma- és hőszivattyú berendezés-szerelő, 315822100013104 | E264: 315822100013104
A265: Hűtő-, klíma- és hőszivattyú berendezés-szerelő | B265: 3558203 | D265: =CONCATENATE(A265,$C$1, B265) -> Hűtő-, klíma- és hőszivattyú berendezés-szerelő, 3558203 | E265: 3558203
A266: Hűtő-klíma technikus | B266: 545820600105402 | D266: =CONCATENATE(A266,$C$1, B266) -> Hűtő-klíma technikus, 545820600105402 | E266: 545820600105402
A267: Idegenvezető | B267: 5481201 | D267: =CONCATENATE(A267,$C$1, B267) -> Idegenvezető, 5481201 | E267: 5481201
A268: Idegenvezető | B268: 548120110000000 | D268: =CONCATENATE(A268,$C$1, B268) -> Idegenvezető, 548120110000000 | E268: 548120110000000
A269: Infokommunikációs hálózatépítő és üzemeltető | B269: 5448103 | D269: =CONCATENATE(A269,$C$1, B269) -> Infokommunikációs hálózatépítő és üzemeltető, 5448103 | E269: 5448103
A270: Informatikai hálózattelepítő és üzemeltető | B270: 544810300105401 | D270: =CONCATENATE(A270,$C$1, B270) -> Informatikai hálózattelepítő és üzemeltető, 544810300105401 | E270: 544810300105401
A271: Informatikai rendszergazda | B271: 5448104 | D271: =CONCATENATE(A271,$C$1, B271) -> Informatikai rendszergazda, 5448104 | E271: 5448104
A272: Ipari gépész | B272: 3452104 | D272: =CONCATENATE(A272,$C$1, B272) -> Ipari gépész, 3452104 | E272: 3452104
A273: Ipari gumitermék előállító | B273: 335430200103303 | D273: =CONCATENATE(A273,$C$1, B273) -> Ipari gumitermék előállító, 335430200103303 | E273: 335430200103303
... A351: Közösségi Civil szervező | B351: 553450300000000 | D351: =CONCATENATE(A351,$C$1, B351) -> Közösségi Civil szervező, 553450300000000 | E351: 553450300000000
D352: Központifűtés- és csőhálózat-szerszerelő 315820900103103 | E352: 315820900103103
A353: Központifűtés- és gázhálózat rendszerszerelő | B353: 315822100103102 | D353: =CONCATENATE(A353,$C$1, B353) -> Központifűtés- és gázhálózat rendszerszerelő, 315822100103102 | E353: 315822100103102
A354: Központifűtés- és gázhálózat rendszerszerelő | B354: 3458209 | D354: =CONCATENATE(A354,$C$1, B354) -> Központifűtés- és gázhálózat rendszerszerelő, 3458209 | E354: 3458209
A355: Közrendvédelmi-rendőr | B355: 528610600105202 | D355: =CONCATENATE(A355,$C$1, B355) -> Közrendvédelmi-rendőr, 528610600105202 | E355: 528610600105202
A356: Közúti közlekedésüzemvitel-ellátó | B356: 528410100105201 | D356: =CONCATENATE(A356,$C$1, B356) -> Közúti közlekedésüzemvitel-ellátó, 528410100105201 | E356: 528410100105201
A357: Közúti közlekedésüzemvitel-ellátó | B357: 5484102 | D357: =CONCATENATE(A357,$C$1, B357) -> Közúti közlekedésüzemvitel-ellátó, 5484102 | E357: 5484102
A358: Külszíni bányaipari technikus | B358: 545440100105402 | D358: =CONCATENATE(A358,$C$1, B358) -> Külszíni bányaipari technikus, 545440100105402 | E358: 545440100105402
A359: Laboratóriumi technikus | B359: 5452401 | D359: =CONCATENATE(A359,$C$1, B359) -> Laboratóriumi technikus, 5452401 | E359: 5452401
A360: Lakberendező | B360: 522140100000000 | D360: =CONCATENATE(A360,$C$1, B360) -> Lakberendező, 522140100000000 | E360: 522140100000000
A361: Lakberendező | B361: 5521106 | D361: =CONCATENATE(A361,$C$1, B361) -> Lakberendező, 5521106 | E361: 5521106
A362: Lánckészítő | B362: 542111300105406 | D362: =CONCATENATE(A362,$C$1, B362) -> Lánckészítő, 542111300105406 | E362: 542111300105406
A363: Látszerész és fotócikk-kereskedő | B363: 5472501 | D363: =CONCATENATE(A363,$C$1, B363) -> Látszerész és fotócikk-kereskedő , 5472501 | E363: 5472501
A364: Látszerész és fotócikk-kereskedő | B364: 527250100000000 | D364: =CONCATENATE(A364,$C$1, B364) -> Látszerész és fotócikk-kereskedő, 527250100000000 | E364: 527250100000000
... A526: Szerkezetlakatos | B526: 315212410000000 | D526: =CONCATENATE(A526,$C$1, B526) -> Szerkezetlakatos, 315212410000000 | E526: 315212410000000
D527: Szerszámkészítő, 335210800000000
A528: Szerszámkészítő | B528: 335210810000000 | D528: =CONCATENATE(A528,$C$1, B528) -> Szerszámkészítő, 335210810000000 | E528: 335210810000000
...

Sheet SNI
A1: Állatgondozó, 3162101 | B1: 3162101
A2: Állatgondozó, 3162101 | B2: 3162101
A3: Állattartó-telepimunkás, 316210101002101 | B3: 316210101002101
A4: Ápolásiasszisztens, 3272301 | B4: 3272301
A5: Ápolásiasszisztens, 547230101003301 | B5: 547230101003301
A6: Aranykalászosgazda, 3162102 | B6: 3162102
A7: Aranykalászosgazda, 336210201003101 | B7: 336210201003101
A8: Asztalos, 3454302 | B8: 3454302
A9: Asztalosiparigépkezelő, 335430101003103 | B9: 335430101003103
A10: Asztalosipariszerelő, 2154301 | B10: 2154301
A11: Asztalosipariszerelő, 335430101002101 | B11: 335430101002101
A12: Bábkészítő, 3121201 | B12: 3121201
... A172: Zöldségtermesztő, 316220100103104 | B172: 316220100103104
