Workbook

Sheet Módszertan
A1: Fájl neve | B1: Leírás | C1: Módszertan
A2: SZIR_2022_3_1 | B2: Tanulói létszámadatok ágazat és nem szerinti bontásban vármegyénként. | C2: Az adatok forrása a tanulói SZIR adatbázis tárgyév október 15-i állapota alapján készült szakképzési statisztika (SZIRSTAT). Az adatok leválogatása során a tanulói létszámok ágazatok szerinti és nemi bontásban kerültek be a táblázatba. Jelölésre került, hogy az adott képzés Országos Képzési Jegyzék (OKJ) szerint indult (régi rendszer szerinti képzés, 2020-at megelőzően) vagy Szakmajegyzék szerint indult (új rendszer szerinti képzés, 2020. 09. 01-től). Az ágazatok között szerepelnek a 2011. évi CXC. törvény (Nkt.) szerinti képzések tanulmányi területei (művészeti, pedagógiai, illetve közművelődési) is. Azon tanulók, akiknél az ágazati felosztásnál "Nem besorolható" jelenik meg, olyan képzésben vesznek részt, mely nem kapcsolódik közvetlenül ágazathoz vagy többször is kapcsolódik (pl. ágazati alapképzés, orientációs évfolyam, érettségire felkészítő évfolyam). Amennyiben egy ágazathoz nem tartozik egyetlen tanuló sem valamely vármegyében, az adott ágazat nem kerül feltüntetésre. Az adatok vármegyénként szerepelnek, az intézmény működési helyeinek vármegyéje szerint. Az adatok évente kerülnek frissítésre.
A4: Vármegye | B4: Ugrás a munkalapra
A5: Bács-Kiskun | B5: =Módszertan!A5 -> Bács-Kiskun
A6: Baranya | B6: =Módszertan!A6 -> Baranya
A7: Békés | B7: =Módszertan!A7 -> Békés
A8: Borsod-Abaúj-Zemplén | B8: =Módszertan!A8 -> Borsod-Abaúj-Zemplén
A9: Budapest | B9: =Módszertan!A9 -> Budapest
A10: Csongrád-Csanád | B10: =Módszertan!A10 -> Csongrád-Csanád
A11: Fejér | B11: =Módszertan!A11 -> Fejér
A12: Győr-Moson-Sopron | B12: =Módszertan!A12 -> Győr-Moson-Sopron
A13: Hajdú-Bihar | B13: =Módszertan!A13 -> Hajdú-Bihar
A14: Heves | B14: =Módszertan!A14 -> Heves
A15: Jász-Nagykun-Szolnok | B15: =Módszertan!A15 -> Jász-Nagykun-Szolnok
A16: Komárom-Esztergom | B16: =Módszertan!A16 -> Komárom-Esztergom
... A24: Zala | B24: =Módszertan!A24 -> Zala

Sheet Bács-Kiskun
A1: Ágazati besorolás | B1: Ágazat | C1: Férfi | D1: Nő
A2: Szakmajegyzék szerinti | B2: Egészségügy - 03 (2020) | C2: 87 | D2: 445
B3: Elektronika és elektrotechnika - 04 (2020) | C3: 496 | D3: 1
B4: Élelmiszeripar - 05 (2020) | C4: 118 | D4: 186
B5: Építőipar - 06 (2020) | C5: 448 | D5: 18
B6: Épületgépészet - 07 (2020) | C6: 120 | D6: 0
B7: Fa- és bútoripar - 08 (2020) | C7: 241 | D7: 16
B8: Gazdálkodás és menedzsment - 09 (2020) | C8: 242 | D8: 851
B9: Gépészet - 10 (2020) | C9: 900 | D9: 24
B10: Honvédelem - 11 (2020) | C10: 74 | D10: 40
B11: Informatika és távközlés - 12 (2020) | C11: 728 | D11: 51
B12: Kereskedelem - 13 (2020) | C12: 150 | D12: 341
B13: Környezetvédelem és vízügy - 14 (2020) | C13: 31 | D13: 27
B14: Közlekedés és szállítmányozás - 15 (2020) | C14: 328 | D14: 277
... B23: Turizmus-vendéglátás - 23 (2020) | C23: 395 | D23: 844
A24: OKJ szerinti | B24: Agrár gépész - XXXI. | C24: 34 | D24: 2
B25: Egészségügy - I. | C25: 6 | D25: 53
B26: Élelmiszeripar - XXXVI. | C26: 12 | D26: 23
B27: Előadóművészet - XLII. | C27: 0 | D27: 4
B28: Építőipar - XVI. | C28: 4 | D28: 5
B29: Faipar - XVIII. | C29: 2 | D29: 0
B30: Gépészet - IX. | C30: 170 | D30: 3
B31: Informatika - XIII. | C31: 328 | D31: 18
B32: Képző- és iparművészet - V. | C32: 13 | D32: 64
B33: Kereskedelem - XXVI. | C33: 16 | D33: 25
B34: Kertészet és parképítés - XXXIV. | C34: 6 | D34: 8
B35: Környezetvédelem - XXIII. | C35: 17 | D35: 15
B36: Közgazdaság - XXIV. | C36: 72 | D36: 178
... B49: Villamosipar és elektronika - XI. | C49: 33 | D49: 1
A50: Nkt. szerinti | B50: Művészet (2020) | C50: 10 | D50: 69
B51: Pedagógia (2020) | C51: 7 | D51: 90
A52: Nem besorolható | B52: A képzés nem kapcsolódik ágazathoz | C52: 468 | D52: 348

Sheet Baranya
A1: Ágazati besorolás | B1: Ágazat | C1: Férfi | D1: Nő
A2: Szakmajegyzék szerinti | B2: Egészségügy - 03 (2020) | C2: 112 | D2: 556
B3: Egészségügyi technika - 02 (2020) | C3: 8 | D3: 43
B4: Elektronika és elektrotechnika - 04 (2020) | C4: 284 | D4: 3
B5: Élelmiszeripar - 05 (2020) | C5: 103 | D5: 97
B6: Építőipar - 06 (2020) | C6: 501 | D6: 64
B7: Épületgépészet - 07 (2020) | C7: 318 | D7: 3
B8: Fa- és bútoripar - 08 (2020) | C8: 132 | D8: 7
B9: Gazdálkodás és menedzsment - 09 (2020) | C9: 53 | D9: 198
B10: Gépészet - 10 (2020) | C10: 358 | D10: 0
B11: Informatika és távközlés - 12 (2020) | C11: 542 | D11: 66
B12: Kereskedelem - 13 (2020) | C12: 110 | D12: 298
B13: Közlekedés és szállítmányozás - 15 (2020) | C13: 63 | D13: 60
B14: Kreatív - 16 (2020) | C14: 38 | D14: 152
... B22: Vegyipar - 24 (2020) | C22: 45 | D22: 63
A23: OKJ szerinti | B23: Agrár gépész - XXXI. | C23: 9 | D23: 1
B24: Egészségügy - I. | C24: 8 | D24: 35
B25: Építőipar - XVI. | C25: 47 | D25: 16
B26: Épületgépészet - VIII. | C26: 22 | D26: 0
B27: Faipar - XVIII. | C27: 17 | D27: 0
B28: Földmérés - XXXV. | C28: 19 | D28: 4
B29: Gépészet - IX. | C29: 50 | D29: 1
B30: Informatika - XIII. | C30: 134 | D30: 14
B31: Képző- és iparművészet - V. | C31: 5 | D31: 39
B32: Kereskedelem - XXVI. | C32: 11 | D32: 35
B33: Közgazdaság - XXIV. | C33: 12 | D33: 36
B34: Közlekedés, szállítmányozás és logisztika - XL. | C34: 23 | D34: 24
B35: Közlekedésgépész - XXII. | C35: 21 | D35: 0
... B44: Villamosipar és elektronika - XI. | C44: 25 | D44: 0
A45: Nem besorolható | B45: A képzés nem kapcsolódik ágazathoz | C45: 284 | D45: 224

Sheet Békés
A1: Ágazati besorolás | B1: Ágazat | C1: Férfi | D1: Nő
A2: Szakmajegyzék szerinti | B2: Bányászat és kohászat - 01 (2020) | C2: 49 | D2: 9
B3: Egészségügy - 03 (2020) | C3: 76 | D3: 266
B4: Elektronika és elektrotechnika - 04 (2020) | C4: 253 | D4: 1
B5: Élelmiszeripar - 05 (2020) | C5: 100 | D5: 220
B6: Építőipar - 06 (2020) | C6: 451 | D6: 61
B7: Épületgépészet - 07 (2020) | C7: 152 | D7: 1
B8: Fa- és bútoripar - 08 (2020) | C8: 133 | D8: 4
B9: Gazdálkodás és menedzsment - 09 (2020) | C9: 114 | D9: 316
B10: Gépészet - 10 (2020) | C10: 387 | D10: 4
B11: Informatika és távközlés - 12 (2020) | C11: 467 | D11: 36
B12: Kereskedelem - 13 (2020) | C12: 84 | D12: 196
B13: Környezetvédelem és vízügy - 14 (2020) | C13: 74 | D13: 83
B14: Közlekedés és szállítmányozás - 15 (2020) | C14: 102 | D14: 80
... B23: Turizmus-vendéglátás - 23 (2020) | C23: 359 | D23: 700
A24: OKJ szerinti | B24: Agrár gépész - XXXI. | C24: 45 | D24: 2
B25: Bányászat - VII. | C25: 9 | D25: 3
B26: Egészségügy - I. | C26: 5 | D26: 74
B27: Építőipar - XVI. | C27: 83 | D27: 28
B28: Faipar - XVIII. | C28: 2 | D28: 0
B29: Földmérés - XXXV. | C29: 14 | D29: 6
B30: Gépészet - IX. | C30: 64 | D30: 0
B31: Informatika - XIII. | C31: 223 | D31: 24
B32: Képző- és iparművészet - V. | C32: 7 | D32: 32
B33: Kereskedelem - XXVI. | C33: 2 | D33: 19
B34: Környezetvédelem - XXIII. | C34: 20 | D34: 16
B35: Közgazdaság - XXIV. | C35: 37 | D35: 65
B36: Közlekedés, szállítmányozás és logisztika - XL. | C36: 53 | D36: 38
... B48: Vízügy - XLI. | C48: 14 | D48: 3
A49: Nkt. szerinti | B49: Pedagógia (2020) | C49: 1 | D49: 35
A50: Nem besorolható | B50: A képzés nem kapcsolódik ágazathoz | C50: 305 | D50: 221

Sheet Borsod-Abaúj-Zemplén
A1: Ágazati besorolás | B1: Ágazat | C1: Férfi | D1: Nő
A2: Szakmajegyzék szerinti | B2: Bányászat és kohászat - 01 (2020) | C2: 7 | D2: 0
B3: Egészségügy - 03 (2020) | C3: 181 | D3: 745
B4: Egészségügyi technika - 02 (2020) | C4: 3 | D4: 22
B5: Elektronika és elektrotechnika - 04 (2020) | C5: 1028 | D5: 20
B6: Élelmiszeripar - 05 (2020) | C6: 96 | D6: 245
B7: Építőipar - 06 (2020) | C7: 863 | D7: 40
B8: Épületgépészet - 07 (2020) | C8: 478 | D8: 6
B9: Fa- és bútoripar - 08 (2020) | C9: 75 | D9: 6
B10: Gazdálkodás és menedzsment - 09 (2020) | C10: 258 | D10: 861
B11: Gépészet - 10 (2020) | C11: 1314 | D11: 18
B12: Honvédelem - 11 (2020) | C12: 16 | D12: 0
B13: Informatika és távközlés - 12 (2020) | C13: 933 | D13: 82
B14: Kereskedelem - 13 (2020) | C14: 125 | D14: 472
... B26: Vegyipar - 24 (2020) | C26: 18 | D26: 10
A27: OKJ szerinti | B27: Agrár gépész - XXXI. | C27: 40 | D27: 1
B28: Egészségügy - I. | C28: 21 | D28: 76
B29: Élelmiszeripar - XXXVI. | C29: 2 | D29: 9
B30: Építőipar - XVI. | C30: 16 | D30: 7
B31: Épületgépészet - VIII. | C31: 62 | D31: 4
B32: Erdészet és vadgazdálkodás - XXXII. | C32: 10 | D32: 2
B33: Gépészet - IX. | C33: 124 | D33: 2
B34: Informatika - XIII. | C34: 376 | D34: 27
B35: Képző- és iparművészet - V. | C35: 12 | D35: 46
B36: Kereskedelem - XXVI. | C36: 13 | D36: 40
B37: Közgazdaság - XXIV. | C37: 51 | D37: 106
B38: Közlekedés, szállítmányozás és logisztika - XL. | C38: 74 | D38: 79
B39: Közlekedésgépész - XXII. | C39: 98 | D39: 0
... B52: Villamosipar és elektronika - XI. | C52: 150 | D52: 1
A53: Nkt. szerinti | B53: Közművelődés (2020) | C53: 1 | D53: 28
B54: Művészet (2020) | C54: 15 | D54: 30
B55: Pedagógia (2020) | C55: 15 | D55: 176
A56: Nem besorolható | B56: A képzés nem kapcsolódik ágazathoz | C56: 333 | D56: 277

Sheet Budapest
A1: Ágazati besorolás | B1: Ágazat | C1: Férfi | D1: Nő
A2: Szakmajegyzék szerinti | B2: Egészségügy - 03 (2020) | C2: 596 | D2: 3223
B3: Egészségügyi technika - 02 (2020) | C3: 61 | D3: 207
B4: Elektronika és elektrotechnika - 04 (2020) | C4: 2983 | D4: 75
B5: Élelmiszeripar - 05 (2020) | C5: 244 | D5: 367
B6: Építőipar - 06 (2020) | C6: 1257 | D6: 138
B7: Épületgépészet - 07 (2020) | C7: 1177 | D7: 14
B8: Fa- és bútoripar - 08 (2020) | C8: 704 | D8: 61
B9: Gazdálkodás és menedzsment - 09 (2020) | C9: 1534 | D9: 2625
B10: Gépészet - 10 (2020) | C10: 938 | D10: 12
B11: Honvédelem - 11 (2020) | C11: 206 | D11: 78
B12: Informatika és távközlés - 12 (2020) | C12: 4954 | D12: 476
B13: Kereskedelem - 13 (2020) | C13: 703 | D13: 996
B14: Környezetvédelem és vízügy - 14 (2020) | C14: 230 | D14: 205
... B25: Vegyipar - 24 (2020) | C25: 181 | D25: 172
A26: OKJ szerinti | B26: Egészségügy - I. | C26: 26 | D26: 109
B27: Élelmiszeripar - XXXVI. | C27: 23 | D27: 19
B28: Építőipar - XVI. | C28: 180 | D28: 23
B29: Épületgépészet - VIII. | C29: 67 | D29: 1
B30: Faipar - XVIII. | C30: 94 | D30: 1
B31: Földmérés - XXXV. | C31: 28 | D31: 7
B32: Gépészet - IX. | C32: 243 | D32: 2
B33: Honvédelem - XLIII. | C33: 43 | D33: 14
B34: Informatika - XIII. | C34: 1313 | D34: 102
B35: Képző- és iparművészet - V. | C35: 16 | D35: 137
B36: Kereskedelem - XXVI. | C36: 125 | D36: 215
B37: Kertészet és parképítés - XXXIV. | C37: 41 | D37: 22
B38: Könnyűipar - XVII. | C38: 2 | D38: 11
... B55: Vízügy - XLI. | C55: 6 | D55: 5
A56: Nkt. szerinti | B56: Közművelődés (2020) | C56: 20 | D56: 38
B57: Művészet (2020) | C57: 62 | D57: 184
B58: Pedagógia (2020) | C58: 41 | D58: 489
A59: Nem besorolható | B59: A képzés nem kapcsolódik ágazathoz | C59: 958 | D59: 626
C60: =SUM(C2:D59) -> 50310

Sheet Csongrád-Csanád
A1: Ágazati besorolás | B1: Ágazat | C1: Férfi | D1: Nő
A2: Szakmajegyzék szerinti | B2: Egészségügy - 03 (2020) | C2: 96 | D2: 624
B3: Egészségügyi technika - 02 (2020) | C3: 19 | D3: 69
B4: Elektronika és elektrotechnika - 04 (2020) | C4: 873 | D4: 23
B5: Élelmiszeripar - 05 (2020) | C5: 50 | D5: 66
B6: Építőipar - 06 (2020) | C6: 1021 | D6: 87
B7: Épületgépészet - 07 (2020) | C7: 524 | D7: 11
B8: Fa- és bútoripar - 08 (2020) | C8: 184 | D8: 27
B9: Gazdálkodás és menedzsment - 09 (2020) | C9: 310 | D9: 675
B10: Gépészet - 10 (2020) | C10: 514 | D10: 27
B11: Honvédelem - 11 (2020) | C11: 268 | D11: 23
B12: Informatika és távközlés - 12 (2020) | C12: 973 | D12: 113
B13: Kereskedelem - 13 (2020) | C13: 180 | D13: 441
B14: Környezetvédelem és vízügy - 14 (2020) | C14: 47 | D14: 53
... B25: Vegyipar - 24 (2020) | C25: 17 | D25: 14
A26: OKJ szerinti | B26: Agrár gépész - XXXI. | C26: 46 | D26: 3
B27: Egészségügy - I. | C27: 6 | D27: 93
B28: Előadóművészet - XLII. | C28: 2 | D28: 10
B29: Építőipar - XVI. | C29: 72 | D29: 23
B30: Épületgépészet - VIII. | C30: 5 | D30: 0
B31: Erdészet és vadgazdálkodás - XXXII. | C31: 117 | D31: 35
B32: Gépészet - IX. | C32: 103 | D32: 3
B33: Informatika - XIII. | C33: 323 | D33: 41
B34: Képző- és iparművészet - V. | C34: 8 | D34: 49
B35: Kereskedelem - XXVI. | C35: 14 | D35: 29
B36: Környezetvédelem - XXIII. | C36: 9 | D36: 18
B37: Közgazdaság - XXIV. | C37: 62 | D37: 174
B38: Közlekedés, szállítmányozás és logisztika - XL. | C38: 64 | D38: 55
... B51: Vízügy - XLI. | C51: 7 | D51: 0
A52: Nkt. szerinti | B52: Pedagógia (2020) | C52: 11 | D52: 175
A53: Nem besorolható | B53: A képzés nem kapcsolódik ágazathoz | C53: 364 | D53: 271

Sheet Fejér
A1: Ágazati besorolás | B1: Ágazat | C1: Férfi | D1: Nő
A2: Szakmajegyzék szerinti | B2: Egészségügy - 03 (2020) | C2: 68 | D2: 323
B3: Elektronika és elektrotechnika - 04 (2020) | C3: 599 | D3: 15
B4: Élelmiszeripar - 05 (2020) | C4: 41 | D4: 85
B5: Építőipar - 06 (2020) | C5: 458 | D5: 50
B6: Épületgépészet - 07 (2020) | C6: 222 | D6: 2
B7: Fa- és bútoripar - 08 (2020) | C7: 188 | D7: 7
B8: Gazdálkodás és menedzsment - 09 (2020) | C8: 107 | D8: 555
B9: Gépészet - 10 (2020) | C9: 631 | D9: 22
B10: Honvédelem - 11 (2020) | C10: 54 | D10: 27
B11: Informatika és távközlés - 12 (2020) | C11: 945 | D11: 87
B12: Kereskedelem - 13 (2020) | C12: 108 | D12: 285
B13: Környezetvédelem és vízügy - 14 (2020) | C13: 61 | D13: 98
B14: Közlekedés és szállítmányozás - 15 (2020) | C14: 92 | D14: 164
... B24: Vegyipar - 24 (2020) | C24: 20 | D24: 17
A25: OKJ szerinti | B25: Agrár gépész - XXXI. | C25: 13 | D25: 1
B26: Egészségügy - I. | C26: 2 | D26: 58
B27: Építőipar - XVI. | C27: 79 | D27: 25
B28: Épületgépészet - VIII. | C28: 10 | D28: 0
B29: Faipar - XVIII. | C29: 4 | D29: 0
B30: Földmérés - XXXV. | C30: 15 | D30: 8
B31: Gépészet - IX. | C31: 162 | D31: 2
B32: Honvédelem - XLIII. | C32: 8 | D32: 2
B33: Informatika - XIII. | C33: 413 | D33: 55
B34: Kereskedelem - XXVI. | C34: 23 | D34: 80
B35: Kertészet és parképítés - XXXIV. | C35: 4 | D35: 3
B36: Környezetvédelem - XXIII. | C36: 16 | D36: 30
B37: Közgazdaság - XXIV. | C37: 13 | D37: 79
... B53: Vízügy - XLI. | C53: 8 | D53: 8
A54: Nkt. szerinti | B54: Pedagógia (2020) | C54: 6 | D54: 88
A55: Nem besorolható | B55: A képzés nem kapcsolódik ágazathoz | C55: 378 | D55: 289

Sheet Győr-Moson-Sopron
A1: Ágazati besorolás | B1: Ágazat | C1: Férfi | D1: Nő
A2: Szakmajegyzék szerinti | B2: Bányászat és kohászat - 01 (2020) | C2: 14 | D2: 2
B3: Egészségügy - 03 (2020) | C3: 33 | D3: 241
B4: Elektronika és elektrotechnika - 04 (2020) | C4: 836 | D4: 17
B5: Élelmiszeripar - 05 (2020) | C5: 45 | D5: 111
B6: Építőipar - 06 (2020) | C6: 740 | D6: 168
B7: Épületgépészet - 07 (2020) | C7: 228 | D7: 0
B8: Fa- és bútoripar - 08 (2020) | C8: 260 | D8: 20
B9: Gazdálkodás és menedzsment - 09 (2020) | C9: 373 | D9: 967
B10: Gépészet - 10 (2020) | C10: 928 | D10: 25
B11: Informatika és távközlés - 12 (2020) | C11: 803 | D11: 64
B12: Kereskedelem - 13 (2020) | C12: 132 | D12: 365
B13: Környezetvédelem és vízügy - 14 (2020) | C13: 23 | D13: 13
B14: Közlekedés és szállítmányozás - 15 (2020) | C14: 376 | D14: 383
... B23: Turizmus-vendéglátás - 23 (2020) | C23: 554 | D23: 1208
A24: OKJ szerinti | B24: Agrár gépész - XXXI. | C24: 55 | D24: 1
B25: Egészségügy - I. | C25: 2 | D25: 10
B26: Építőipar - XVI. | C26: 57 | D26: 32
B27: Erdészet és vadgazdálkodás - XXXII. | C27: 93 | D27: 9
B28: Faipar - XVIII. | C28: 26 | D28: 0
B29: Gépészet - IX. | C29: 139 | D29: 2
B30: Informatika - XIII. | C30: 297 | D30: 20
B31: Képző- és iparművészet - V. | C31: 7 | D31: 41
B32: Kereskedelem - XXVI. | C32: 17 | D32: 37
B33: Környezetvédelem - XXIII. | C33: 10 | D33: 12
B34: Közgazdaság - XXIV. | C34: 86 | D34: 187
B35: Közlekedés, szállítmányozás és logisztika - XL. | C35: 94 | D35: 75
B36: Közlekedésgépész - XXII. | C36: 112 | D36: 2
... B47: Villamosipar és elektronika - XI. | C47: 86 | D47: 2
A48: Nkt. szerinti | B48: Pedagógia (2020) | C48: 4 | D48: 146
A49: Nem besorolható | B49: A képzés nem kapcsolódik ágazathoz | C49: 489 | D49: 372

Sheet Hajdú-Bihar
A1: Ágazati besorolás | B1: Ágazat | C1: Férfi | D1: Nő
A2: Szakmajegyzék szerinti | B2: Egészségügy - 03 (2020) | C2: 145 | D2: 706
B3: Elektronika és elektrotechnika - 04 (2020) | C3: 931 | D3: 16
B4: Élelmiszeripar - 05 (2020) | C4: 150 | D4: 239
B5: Építőipar - 06 (2020) | C5: 1052 | D5: 153
B6: Épületgépészet - 07 (2020) | C6: 358 | D6: 5
B7: Fa- és bútoripar - 08 (2020) | C7: 257 | D7: 23
B8: Gazdálkodás és menedzsment - 09 (2020) | C8: 274 | D8: 835
B9: Gépészet - 10 (2020) | C9: 894 | D9: 11
B10: Honvédelem - 11 (2020) | C10: 61 | D10: 7
B11: Informatika és távközlés - 12 (2020) | C11: 1051 | D11: 71
B12: Kereskedelem - 13 (2020) | C12: 222 | D12: 575
B13: Környezetvédelem és vízügy - 14 (2020) | C13: 2 | D13: 11
B14: Közlekedés és szállítmányozás - 15 (2020) | C14: 226 | D14: 249
... B24: Vegyipar - 24 (2020) | C24: 241 | D24: 395
A25: OKJ szerinti | B25: Agrár gépész - XXXI. | C25: 39 | D25: 0
B26: Egészségügy - I. | C26: 14 | D26: 42
B27: Élelmiszeripar - XXXVI. | C27: 5 | D27: 16
B28: Építőipar - XVI. | C28: 43 | D28: 9
B29: Épületgépészet - VIII. | C29: 53 | D29: 1
B30: Erdészet és vadgazdálkodás - XXXII. | C30: 18 | D30: 6
B31: Faipar - XVIII. | C31: 9 | D31: 0
B32: Gépészet - IX. | C32: 207 | D32: 1
B33: Honvédelem - XLIII. | C33: 17 | D33: 3
B34: Informatika - XIII. | C34: 443 | D34: 30
B35: Képző- és iparművészet - V. | C35: 0 | D35: 14
B36: Kereskedelem - XXVI. | C36: 3 | D36: 5
B37: Kertészet és parképítés - XXXIV. | C37: 0 | D37: 4
... B52: Villamosipar és elektronika - XI. | C52: 85 | D52: 0
A53: Nem besorolható | B53: A képzés nem kapcsolódik ágazathoz | C53: 389 | D53: 289

Sheet Heves
A1: Ágazati besorolás | B1: Ágazat | C1: Férfi | D1: Nő
A2: Szakmajegyzék szerinti | B2: Bányászat és kohászat - 01 (2020) | C2: 10 | D2: 0
B3: Egészségügy - 03 (2020) | C3: 56 | D3: 228
B4: Elektronika és elektrotechnika - 04 (2020) | C4: 306 | D4: 6
B5: Élelmiszeripar - 05 (2020) | C5: 36 | D5: 70
B6: Építőipar - 06 (2020) | C6: 287 | D6: 2
B7: Épületgépészet - 07 (2020) | C7: 66 | D7: 0
B8: Fa- és bútoripar - 08 (2020) | C8: 67 | D8: 2
B9: Gazdálkodás és menedzsment - 09 (2020) | C9: 86 | D9: 366
B10: Gépészet - 10 (2020) | C10: 538 | D10: 12
B11: Honvédelem - 11 (2020) | C11: 67 | D11: 9
B12: Informatika és távközlés - 12 (2020) | C12: 431 | D12: 38
B13: Kereskedelem - 13 (2020) | C13: 67 | D13: 215
B14: Környezetvédelem és vízügy - 14 (2020) | C14: 20 | D14: 17
... B24: Turizmus-vendéglátás - 23 (2020) | C24: 298 | D24: 664
A25: OKJ szerinti | B25: Egészségügy - I. | C25: 4 | D25: 72
B26: Erdészet és vadgazdálkodás - XXXII. | C26: 91 | D26: 19
B27: Gépészet - IX. | C27: 137 | D27: 1
B28: Informatika - XIII. | C28: 193 | D28: 13
B29: Kereskedelem - XXVI. | C29: 1 | D29: 2
B30: Közgazdaság - XXIV. | C30: 33 | D30: 105
B31: Közlekedés, szállítmányozás és logisztika - XL. | C31: 36 | D31: 37
B32: Közlekedésgépész - XXII. | C32: 28 | D32: 1
B33: Mezőgazdaság - XXXIII. | C33: 3 | D33: 3
B34: Pedagógia - IV. | C34: 0 | D34: 23
B35: Rendészet és közszolgálat - XXXVIII. | C35: 26 | D35: 34
B36: Sport - XXXVII. | C36: 4 | D36: 6
B37: Szépészet - XXX. | C37: 2 | D37: 50
... B43: Villamosipar és elektronika - XI. | C43: 60 | D43: 0
A44: Nkt. szerinti | B44: Pedagógia (2020) | C44: 0 | D44: 16
A45: Nem besorolható | B45: A képzés nem kapcsolódik ágazathoz | C45: 237 | D45: 157

Sheet Jász-Nagykun-Szolnok
A1: Ágazati besorolás | B1: Ágazat | C1: Férfi | D1: Nő
A2: Szakmajegyzék szerinti | B2: Egészségügy - 03 (2020) | C2: 55 | D2: 272
B3: Elektronika és elektrotechnika - 04 (2020) | C3: 571 | D3: 2
B4: Élelmiszeripar - 05 (2020) | C4: 11 | D4: 6
B5: Építőipar - 06 (2020) | C5: 644 | D5: 23
B6: Épületgépészet - 07 (2020) | C6: 42 | D6: 0
B7: Fa- és bútoripar - 08 (2020) | C7: 176 | D7: 2
B8: Gazdálkodás és menedzsment - 09 (2020) | C8: 135 | D8: 577
B9: Gépészet - 10 (2020) | C9: 690 | D9: 21
B10: Informatika és távközlés - 12 (2020) | C10: 506 | D10: 36
B11: Kereskedelem - 13 (2020) | C11: 75 | D11: 320
B12: Környezetvédelem és vízügy - 14 (2020) | C12: 58 | D12: 64
B13: Közlekedés és szállítmányozás - 15 (2020) | C13: 133 | D13: 131
B14: Kreatív - 16 (2020) | C14: 35 | D14: 199
... B23: Vegyipar - 24 (2020) | C23: 25 | D23: 15
A24: OKJ szerinti | B24: Agrár gépész - XXXI. | C24: 40 | D24: 2
B25: Egészségügy - I. | C25: 5 | D25: 51
B26: Építőipar - XVI. | C26: 21 | D26: 2
B27: Faipar - XVIII. | C27: 11 | D27: 0
B28: Gépészet - IX. | C28: 94 | D28: 2
B29: Informatika - XIII. | C29: 276 | D29: 13
B30: Képző- és iparművészet - V. | C30: 10 | D30: 35
B31: Kereskedelem - XXVI. | C31: 4 | D31: 25
B32: Környezetvédelem - XXIII. | C32: 13 | D32: 20
B33: Közgazdaság - XXIV. | C33: 18 | D33: 94
B34: Közlekedés, szállítmányozás és logisztika - XL. | C34: 59 | D34: 74
B35: Közlekedésgépész - XXII. | C35: 94 | D35: 1
B36: Pedagógia - IV. | C36: 1 | D36: 24
... B45: Vízügy - XLI. | C45: 6 | D45: 3
A46: Nkt. szerinti | B46: Pedagógia (2020) | C46: 1 | D46: 12
A47: Nem besorolható | B47: A képzés nem kapcsolódik ágazathoz | C47: 412 | D47: 330

Sheet Komárom-Esztergom
A1: Ágazati besorolás | B1: Ágazat | C1: Férfi | D1: Nő
A2: Szakmajegyzék szerinti | B2: Egészségügy - 03 (2020) | C2: 34 | D2: 176
B3: Elektronika és elektrotechnika - 04 (2020) | C3: 510 | D3: 11
B4: Élelmiszeripar - 05 (2020) | C4: 34 | D4: 65
B5: Építőipar - 06 (2020) | C5: 212 | D5: 5
B6: Épületgépészet - 07 (2020) | C6: 94 | D6: 0
B7: Fa- és bútoripar - 08 (2020) | C7: 128 | D7: 9
B8: Gazdálkodás és menedzsment - 09 (2020) | C8: 64 | D8: 312
B9: Gépészet - 10 (2020) | C9: 550 | D9: 15
B10: Honvédelem - 11 (2020) | C10: 109 | D10: 40
B11: Informatika és távközlés - 12 (2020) | C11: 565 | D11: 51
B12: Kereskedelem - 13 (2020) | C12: 59 | D12: 218
B13: Közlekedés és szállítmányozás - 15 (2020) | C13: 264 | D13: 271
B14: Kreatív - 16 (2020) | C14: 21 | D14: 146
... B23: Vegyipar - 24 (2020) | C23: 81 | D23: 54
A24: OKJ szerinti | B24: Egészségügy - I. | C24: 3 | D24: 15
B25: Gépészet - IX. | C25: 95 | D25: 3
B26: Honvédelem - XLIII. | C26: 19 | D26: 8
B27: Informatika - XIII. | C27: 263 | D27: 24
B28: Kereskedelem - XXVI. | C28: 9 | D28: 33
B29: Közgazdaság - XXIV. | C29: 16 | D29: 50
B30: Közlekedés, szállítmányozás és logisztika - XL. | C30: 48 | D30: 86
B31: Közlekedésgépész - XXII. | C31: 85 | D31: 0
B32: Pedagógia - IV. | C32: 1 | D32: 18
B33: Rendészet és közszolgálat - XXXVIII. | C33: 20 | D33: 20
B34: Sport - XXXVII. | C34: 41 | D34: 29
B35: Szépészet - XXX. | C35: 3 | D35: 69
B36: Szociális - III. | C36: 0 | D36: 31
... B41: Villamosipar és elektronika - XI. | C41: 53 | D41: 0
A42: Nkt. szerinti | B42: Pedagógia (2020) | C42: 2 | D42: 22
A43: Nem besorolható | B43: A képzés nem kapcsolódik ágazathoz | C43: 291 | D43: 230

Sheet Nógrád
A1: Ágazati besorolás | B1: Ágazat | C1: Férfi | D1: Nő
A2: Szakmajegyzék szerinti | B2: Egészségügy - 03 (2020) | C2: 41 | D2: 209
B3: Elektronika és elektrotechnika - 04 (2020) | C3: 108 | D3: 4
B4: Élelmiszeripar - 05 (2020) | C4: 16 | D4: 55
B5: Építőipar - 06 (2020) | C5: 229 | D5: 12
B6: Épületgépészet - 07 (2020) | C6: 34 | D6: 1
B7: Fa- és bútoripar - 08 (2020) | C7: 33 | D7: 3
B8: Gazdálkodás és menedzsment - 09 (2020) | C8: 45 | D8: 94
B9: Gépészet - 10 (2020) | C9: 228 | D9: 1
B10: Informatika és távközlés - 12 (2020) | C10: 276 | D10: 27
B11: Kereskedelem - 13 (2020) | C11: 45 | D11: 114
B12: Közlekedés és szállítmányozás - 15 (2020) | C12: 62 | D12: 66
B13: Kreatív - 16 (2020) | C13: 7 | D13: 17
B14: Mezőgazdaság és erdészet - 17 (2020) | C14: 93 | D14: 16
... B21: Turizmus-vendéglátás - 23 (2020) | C21: 128 | D21: 390
A22: OKJ szerinti | B22: Egészségügy - I. | C22: 1 | D22: 19
B23: Építőipar - XVI. | C23: 21 | D23: 9
B24: Gépészet - IX. | C24: 55 | D24: 0
B25: Informatika - XIII. | C25: 107 | D25: 17
B26: Közgazdaság - XXIV. | C26: 2 | D26: 23
B27: Közlekedés, szállítmányozás és logisztika - XL. | C27: 7 | D27: 7
B28: Közlekedésgépész - XXII. | C28: 4 | D28: 0
B29: Rendészet és közszolgálat - XXXVIII. | C29: 22 | D29: 18
B30: Sport - XXXVII. | C30: 9 | D30: 13
B31: Szépészet - XXX. | C31: 3 | D31: 26
B32: Turisztika - XXVIII. | C32: 12 | D32: 18
B33: Ügyvitel - XXV. | C33: 6 | D33: 15
B34: Vendéglátóipar - XXVII. | C34: 13 | D34: 24
A35: Nkt. szerinti | B35: Pedagógia (2020) | C35: 0 | D35: 19
A36: Nem besorolható | B36: A képzés nem kapcsolódik ágazathoz | C36: 114 | D36: 73

Sheet Pest
A1: Ágazati besorolás | B1: Ágazat | C1: Férfi | D1: Nő
A2: Szakmajegyzék szerinti | B2: Egészségügy - 03 (2020) | C2: 61 | D2: 258
B3: Elektronika és elektrotechnika - 04 (2020) | C3: 913 | D3: 26
B4: Élelmiszeripar - 05 (2020) | C4: 105 | D4: 161
B5: Építőipar - 06 (2020) | C5: 723 | D5: 28
B6: Épületgépészet - 07 (2020) | C6: 81 | D6: 0
B7: Fa- és bútoripar - 08 (2020) | C7: 361 | D7: 21
B8: Gazdálkodás és menedzsment - 09 (2020) | C8: 251 | D8: 717
B9: Gépészet - 10 (2020) | C9: 744 | D9: 22
B10: Informatika és távközlés - 12 (2020) | C10: 720 | D10: 80
B11: Kereskedelem - 13 (2020) | C11: 212 | D11: 530
B12: Környezetvédelem és vízügy - 14 (2020) | C12: 47 | D12: 78
B13: Közlekedés és szállítmányozás - 15 (2020) | C13: 252 | D13: 211
B14: Kreatív - 16 (2020) | C14: 12 | D14: 149
... B22: Vegyipar - 24 (2020) | C22: 9 | D22: 18
A23: OKJ szerinti | B23: Agrár gépész - XXXI. | C23: 48 | D23: 2
B24: Egészségügy - I. | C24: 10 | D24: 50
B25: Élelmiszeripar - XXXVI. | C25: 2 | D25: 24
B26: Építőipar - XVI. | C26: 8 | D26: 1
B27: Erdészet és vadgazdálkodás - XXXII. | C27: 29 | D27: 4
B28: Gépészet - IX. | C28: 104 | D28: 1
B29: Informatika - XIII. | C29: 232 | D29: 22
B30: Kereskedelem - XXVI. | C30: 33 | D30: 30
B31: Kertészet és parképítés - XXXIV. | C31: 8 | D31: 5
B32: Környezetvédelem - XXIII. | C32: 11 | D32: 17
B33: Közgazdaság - XXIV. | C33: 75 | D33: 109
B34: Közlekedés, szállítmányozás és logisztika - XL. | C34: 49 | D34: 48
B35: Közlekedésgépész - XXII. | C35: 85 | D35: 2
... B45: Villamosipar és elektronika - XI. | C45: 69 | D45: 3
A46: Nem besorolható | B46: A képzés nem kapcsolódik ágazathoz | C46: 444 | D46: 392

Sheet Somogy
A1: Ágazati besorolás | B1: Ágazat | C1: Férfi | D1: Nő
A2: Szakmajegyzék szerinti | B2: Egészségügy - 03 (2020) | C2: 50 | D2: 259
B3: Elektronika és elektrotechnika - 04 (2020) | C3: 296 | D3: 3
B4: Élelmiszeripar - 05 (2020) | C4: 106 | D4: 159
B5: Építőipar - 06 (2020) | C5: 358 | D5: 12
B6: Épületgépészet - 07 (2020) | C6: 180 | D6: 0
B7: Fa- és bútoripar - 08 (2020) | C7: 62 | D7: 2
B8: Gazdálkodás és menedzsment - 09 (2020) | C8: 59 | D8: 324
B9: Gépészet - 10 (2020) | C9: 355 | D9: 2
B10: Honvédelem - 11 (2020) | C10: 60 | D10: 21
B11: Informatika és távközlés - 12 (2020) | C11: 488 | D11: 32
B12: Kereskedelem - 13 (2020) | C12: 83 | D12: 250
B13: Környezetvédelem és vízügy - 14 (2020) | C13: 24 | D13: 36
B14: Közlekedés és szállítmányozás - 15 (2020) | C14: 77 | D14: 67
... B24: Vegyipar - 24 (2020) | C24: 4 | D24: 0
A25: OKJ szerinti | B25: Agrár gépész - XXXI. | C25: 23 | D25: 1
B26: Egészségügy - I. | C26: 2 | D26: 25
B27: Építőipar - XVI. | C27: 6 | D27: 3
B28: Épületgépészet - VIII. | C28: 30 | D28: 0
B29: Erdészet és vadgazdálkodás - XXXII. | C29: 27 | D29: 4
B30: Gépészet - IX. | C30: 42 | D30: 0
B31: Honvédelem - XLIII. | C31: 21 | D31: 9
B32: Informatika - XIII. | C32: 188 | D32: 11
B33: Kereskedelem - XXVI. | C33: 0 | D33: 4
B34: Környezetvédelem - XXIII. | C34: 8 | D34: 7
B35: Közgazdaság - XXIV. | C35: 21 | D35: 65
B36: Közlekedés, szállítmányozás és logisztika - XL. | C36: 29 | D36: 38
B37: Közlekedésgépész - XXII. | C37: 40 | D37: 0
... B46: Vendéglátóipar - XXVII. | C46: 7 | D46: 10
A47: Nkt. szerinti | B47: Közművelődés (2020) | C47: 1 | D47: 6
B48: Művészet (2020) | C48: 0 | D48: 1
B49: Pedagógia (2020) | C49: 6 | D49: 40
A50: Nem besorolható | B50: A képzés nem kapcsolódik ágazathoz | C50: 377 | D50: 264

Sheet Szabolcs-Szatmár-Bereg
A1: Ágazati besorolás | B1: Ágazat | C1: Férfi | D1: Nő
A2: Szakmajegyzék szerinti | B2: Egészségügy - 03 (2020) | C2: 161 | D2: 826
B3: Egészségügyi technika - 02 (2020) | C3: 38 | D3: 76
B4: Elektronika és elektrotechnika - 04 (2020) | C4: 942 | D4: 6
B5: Élelmiszeripar - 05 (2020) | C5: 135 | D5: 338
B6: Építőipar - 06 (2020) | C6: 1859 | D6: 131
B7: Épületgépészet - 07 (2020) | C7: 286 | D7: 0
B8: Fa- és bútoripar - 08 (2020) | C8: 304 | D8: 36
B9: Gazdálkodás és menedzsment - 09 (2020) | C9: 283 | D9: 640
B10: Gépészet - 10 (2020) | C10: 1195 | D10: 30
B11: Informatika és távközlés - 12 (2020) | C11: 742 | D11: 82
B12: Kereskedelem - 13 (2020) | C12: 285 | D12: 925
B13: Környezetvédelem és vízügy - 14 (2020) | C13: 133 | D13: 89
B14: Közlekedés és szállítmányozás - 15 (2020) | C14: 180 | D14: 158
... B24: Vegyipar - 24 (2020) | C24: 39 | D24: 30
A25: OKJ szerinti | B25: Agrár gépész - XXXI. | C25: 39 | D25: 2
B26: Egészségügy - I. | C26: 6 | D26: 98
B27: Élelmiszeripar - XXXVI. | C27: 4 | D27: 16
B28: Építőipar - XVI. | C28: 77 | D28: 21
B29: Erdészet és vadgazdálkodás - XXXII. | C29: 7 | D29: 2
B30: Faipar - XVIII. | C30: 12 | D30: 0
B31: Gépészet - IX. | C31: 138 | D31: 2
B32: Informatika - XIII. | C32: 236 | D32: 23
B33: Képző- és iparművészet - V. | C33: 0 | D33: 13
B34: Kereskedelem - XXVI. | C34: 20 | D34: 51
B35: Környezetvédelem - XXIII. | C35: 12 | D35: 10
B36: Közgazdaság - XXIV. | C36: 37 | D36: 74
B37: Közlekedés, szállítmányozás és logisztika - XL. | C37: 27 | D37: 29
... B49: Vízügy - XLI. | C49: 23 | D49: 7
A50: Nkt. szerinti | B50: Pedagógia (2020) | C50: 6 | D50: 186
A51: Nem besorolható | B51: A képzés nem kapcsolódik ágazathoz | C51: 668 | D51: 424

Sheet Tolna
A1: Ágazati besorolás | B1: Ágazat | C1: Férfi | D1: Nő
A2: Szakmajegyzék szerinti | B2: Egészségügy - 03 (2020) | C2: 41 | D2: 253
B3: Elektronika és elektrotechnika - 04 (2020) | C3: 323 | D3: 5
B4: Élelmiszeripar - 05 (2020) | C4: 88 | D4: 121
B5: Építőipar - 06 (2020) | C5: 202 | D5: 6
B6: Épületgépészet - 07 (2020) | C6: 112 | D6: 0
B7: Fa- és bútoripar - 08 (2020) | C7: 103 | D7: 5
B8: Gazdálkodás és menedzsment - 09 (2020) | C8: 38 | D8: 307
B9: Gépészet - 10 (2020) | C9: 581 | D9: 8
B10: Honvédelem - 11 (2020) | C10: 39 | D10: 15
B11: Informatika és távközlés - 12 (2020) | C11: 290 | D11: 34
B12: Kereskedelem - 13 (2020) | C12: 75 | D12: 225
B13: Környezetvédelem és vízügy - 14 (2020) | C13: 18 | D13: 24
B14: Közlekedés és szállítmányozás - 15 (2020) | C14: 99 | D14: 67
... B23: Turizmus-vendéglátás - 23 (2020) | C23: 191 | D23: 516
A24: OKJ szerinti | B24: Egészségügy - I. | C24: 2 | D24: 18
B25: Gépészet - IX. | C25: 94 | D25: 1
B26: Honvédelem - XLIII. | C26: 7 | D26: 3
B27: Informatika - XIII. | C27: 103 | D27: 9
B28: Kereskedelem - XXVI. | C28: 0 | D28: 12
B29: Környezetvédelem - XXIII. | C29: 12 | D29: 15
B30: Közgazdaság - XXIV. | C30: 18 | D30: 80
B31: Közlekedés, szállítmányozás és logisztika - XL. | C31: 9 | D31: 12
B32: Közlekedésgépész - XXII. | C32: 24 | D32: 0
B33: Mezőgazdaság - XXXIII. | C33: 8 | D33: 5
B34: Rendészet és közszolgálat - XXXVIII. | C34: 32 | D34: 33
B35: Sport - XXXVII. | C35: 5 | D35: 3
B36: Szépészet - XXX. | C36: 1 | D36: 33
... B40: Villamosipar és elektronika - XI. | C40: 52 | D40: 0
A41: Nkt. szerinti | B41: Pedagógia (2020) | C41: 5 | D41: 42
A42: Nem besorolható | B42: A képzés nem kapcsolódik ágazathoz | C42: 168 | D42: 183

Sheet Vas
A1: Ágazati besorolás | B1: Ágazat | C1: Férfi | D1: Nő
A2: Szakmajegyzék szerinti | B2: Egészségügy - 03 (2020) | C2: 33 | D2: 260
B3: Egészségügyi technika - 02 (2020) | C3: 8 | D3: 33
B4: Elektronika és elektrotechnika - 04 (2020) | C4: 400 | D4: 14
B5: Élelmiszeripar - 05 (2020) | C5: 35 | D5: 135
B6: Építőipar - 06 (2020) | C6: 140 | D6: 6
B7: Épületgépészet - 07 (2020) | C7: 51 | D7: 0
B8: Fa- és bútoripar - 08 (2020) | C8: 87 | D8: 5
B9: Gazdálkodás és menedzsment - 09 (2020) | C9: 46 | D9: 216
B10: Gépészet - 10 (2020) | C10: 378 | D10: 4
B11: Informatika és távközlés - 12 (2020) | C11: 399 | D11: 39
B12: Kereskedelem - 13 (2020) | C12: 74 | D12: 214
B13: Környezetvédelem és vízügy - 14 (2020) | C13: 30 | D13: 26
B14: Közlekedés és szállítmányozás - 15 (2020) | C14: 77 | D14: 115
... B24: Vegyipar - 24 (2020) | C24: 4 | D24: 12
A25: OKJ szerinti | B25: Agrár gépész - XXXI. | C25: 24 | D25: 1
B26: Egészségügy - I. | C26: 4 | D26: 30
B27: Élelmiszeripar - XXXVI. | C27: 7 | D27: 17
B28: Építőipar - XVI. | C28: 3 | D28: 2
B29: Erdészet és vadgazdálkodás - XXXII. | C29: 41 | D29: 6
B30: Faipar - XVIII. | C30: 9 | D30: 1
B31: Földmérés - XXXV. | C31: 23 | D31: 2
B32: Gépészet - IX. | C32: 49 | D32: 0
B33: Informatika - XIII. | C33: 220 | D33: 26
B34: Képző- és iparművészet - V. | C34: 2 | D34: 18
B35: Kereskedelem - XXVI. | C35: 17 | D35: 45
B36: Kertészet és parképítés - XXXIV. | C36: 16 | D36: 5
B37: Környezetvédelem - XXIII. | C37: 8 | D37: 12
... B49: Villamosipar és elektronika - XI. | C49: 29 | D49: 0
A50: Nkt. szerinti | B50: Pedagógia (2020) | C50: 4 | D50: 31
A51: Nem besorolható | B51: A képzés nem kapcsolódik ágazathoz | C51: 243 | D51: 192

Sheet Veszprém
A1: Ágazati besorolás | B1: Ágazat | C1: Férfi | D1: Nő
A2: Szakmajegyzék szerinti | B2: Bányászat és kohászat - 01 (2020) | C2: 15 | D2: 3
B3: Egészségügy - 03 (2020) | C3: 23 | D3: 122
B4: Elektronika és elektrotechnika - 04 (2020) | C4: 377 | D4: 10
B5: Élelmiszeripar - 05 (2020) | C5: 95 | D5: 264
B6: Építőipar - 06 (2020) | C6: 386 | D6: 31
B7: Épületgépészet - 07 (2020) | C7: 164 | D7: 4
B8: Fa- és bútoripar - 08 (2020) | C8: 181 | D8: 10
B9: Gazdálkodás és menedzsment - 09 (2020) | C9: 304 | D9: 709
B10: Gépészet - 10 (2020) | C10: 542 | D10: 10
B11: Honvédelem - 11 (2020) | C11: 57 | D11: 21
B12: Informatika és távközlés - 12 (2020) | C12: 493 | D12: 40
B13: Kereskedelem - 13 (2020) | C13: 821 | D13: 835
B14: Környezetvédelem és vízügy - 14 (2020) | C14: 36 | D14: 64
... B24: Vegyipar - 24 (2020) | C24: 108 | D24: 40
A25: OKJ szerinti | B25: Agrár gépész - XXXI. | C25: 7 | D25: 0
B26: Egészségügy - I. | C26: 1 | D26: 4
B27: Építőipar - XVI. | C27: 17 | D27: 4
B28: Épületgépészet - VIII. | C28: 4 | D28: 0
B29: Erdészet és vadgazdálkodás - XXXII. | C29: 13 | D29: 4
B30: Gépészet - IX. | C30: 107 | D30: 0
B31: Honvédelem - XLIII. | C31: 20 | D31: 8
B32: Informatika - XIII. | C32: 171 | D32: 11
B33: Kereskedelem - XXVI. | C33: 5 | D33: 15
B34: Környezetvédelem - XXIII. | C34: 14 | D34: 11
B35: Közgazdaság - XXIV. | C35: 58 | D35: 110
B36: Közlekedés, szállítmányozás és logisztika - XL. | C36: 47 | D36: 63
B37: Közlekedésgépész - XXII. | C37: 57 | D37: 3
... B48: Villamosipar és elektronika - XI. | C48: 54 | D48: 0
A49: Nem besorolható | B49: A képzés nem kapcsolódik ágazathoz | C49: 384 | D49: 302

Sheet Zala
A1: Ágazati besorolás | B1: Ágazat | C1: Férfi | D1: Nő
A2: Szakmajegyzék szerinti | B2: Bányászat és kohászat - 01 (2020) | C2: 12 | D2: 0
B3: Egészségügy - 03 (2020) | C3: 73 | D3: 281
B4: Elektronika és elektrotechnika - 04 (2020) | C4: 420 | D4: 9
B5: Élelmiszeripar - 05 (2020) | C5: 14 | D5: 24
B6: Építőipar - 06 (2020) | C6: 351 | D6: 25
B7: Épületgépészet - 07 (2020) | C7: 193 | D7: 1
B8: Fa- és bútoripar - 08 (2020) | C8: 154 | D8: 14
B9: Gazdálkodás és menedzsment - 09 (2020) | C9: 142 | D9: 368
B10: Gépészet - 10 (2020) | C10: 362 | D10: 2
B11: Honvédelem - 11 (2020) | C11: 30 | D11: 12
B12: Informatika és távközlés - 12 (2020) | C12: 546 | D12: 54
B13: Kereskedelem - 13 (2020) | C13: 107 | D13: 120
B14: Közlekedés és szállítmányozás - 15 (2020) | C14: 110 | D14: 117
... B22: Turizmus-vendéglátás - 23 (2020) | C22: 292 | D22: 652
A23: OKJ szerinti | B23: Bányászat - VII. | C23: 11 | D23: 0
B24: Egészségügy - I. | C24: 2 | D24: 63
B25: Építőipar - XVI. | C25: 11 | D25: 2
B26: Épületgépészet - VIII. | C26: 19 | D26: 0
B27: Faipar - XVIII. | C27: 21 | D27: 1
B28: Gépészet - IX. | C28: 73 | D28: 1
B29: Informatika - XIII. | C29: 215 | D29: 16
B30: Kereskedelem - XXVI. | C30: 3 | D30: 12
B31: Közgazdaság - XXIV. | C31: 19 | D31: 86
B32: Közlekedés, szállítmányozás és logisztika - XL. | C32: 33 | D32: 12
B33: Közlekedésgépész - XXII. | C33: 61 | D33: 0
B34: Pedagógia - IV. | C34: 0 | D34: 90
B35: Rendészet és közszolgálat - XXXVIII. | C35: 48 | D35: 49
... B43: Villamosipar és elektronika - XI. | C43: 53 | D43: 1
A44: Nkt. szerinti | B44: Pedagógia (2020) | C44: 3 | D44: 177
A45: Nem besorolható | B45: A képzés nem kapcsolódik ágazathoz | C45: 193 | D45: 140
