Workbook
Name HétVége: [1]Költségelszámolás!$C$6
Name PÉHónapKezdő: [1]Eredményelőrejelzés!$AC$2
Name PÉKezdőÉv: [1]Eredményelőrejelzés!$AD$2
Name PénzügyiÉv: '[1]Éves pénzforgalom'!$P$2
Name ÚtiköltségDíj: [1]Költségelszámolás!$C$7

Sheet Segédtábla
B1: SZC | C1: nagykorú | D1: 8 | F1: igen | H1: magánszemély
B2: Bajai Szakképzési Centrum | C2: fiatalkorú | D2: 7 | F2: nem | H2: vállalkozó
B3: Baranya Vármegyei Szakképzési Centrum | E3: munkanapok
B4: Békéscsabai Szakképzési Centrum | D4: év | E4: január | F4: február | G4: március | H4: április | I4: május | J4: június | K4: július | L4: augusztus | M4: szeptember | N4: október | O4: november | P4: december | Q4: összesen | R4: átlag
B5: Berettyóújfalui Szakképzési Centrum | D5: 2024 | E5: 22 | F5: 21 | G5: 19 | H5: 21 | I5: 21 | J5: 20 | K5: 23 | L5: 21 | M5: 21 | N5: 22 | O5: 20 | P5: 20 | Q5: =SUM(E5:P5) -> 251 | R5: =AVERAGE(E5:P5) -> 20.916667
B6: Budapesti Gazdasági Szakképzési Centrum | D6: 2025 | E6: 22 | F6: 20 | G6: 20 | H6: 20 | I6: 22 | J6: 19 | K6: 23 | L6: 21 | M6: 21 | N6: 22 | O6: 20 | P6: 20 | Q6: =SUM(E6:P6) -> 250 | R6: =AVERAGE(E6:P6) -> 20.833333
B7: Budapesti Gépészeti Szakképzési Centrum | D7: 2026 | E7: 22 | F7: 20 | G7: 20 | H7: 20 | I7: 21 | J7: 20 | K7: 23 | L7: 21 | M7: 21 | N7: 22 | O7: 20 | P7: 20 | Q7: =SUM(E7:P7) -> 250 | R7: =AVERAGE(E7:P7) -> 20.833333
B8: Budapesti Komplex Szakképzési Centrum | D8: 2027 | E8: 22 | F8: 20 | G8: 18 | H8: 22 | I8: 21 | J8: 20 | K8: 23 | L8: 21 | M8: 21 | N8: 22 | O8: 20 | P8: 20 | Q8: =SUM(E8:P8) -> 250 | R8: =AVERAGE(E8:P8) -> 20.833333
B9: Budapesti Műszaki Szakképzési Centrum | D9: 2028 | E9: 22 | F9: 21 | G9: 20 | H9: 20 | I9: 22 | J9: 19 | K9: 23 | L9: 21 | M9: 21 | N9: 22 | O9: 20 | P9: 20 | Q9: =SUM(E9:P9) -> 251 | R9: =AVERAGE(E9:P9) -> 20.916667
B10: Ceglédi Szakképzési Centrum | D10: 2029 | E10: 22 | F10: 20 | G10: 19 | H10: 21 | I10: 21 | J10: 20 | K10: 23 | L10: 21 | M10: 21 | N10: 22 | O10: 20 | P10: 20 | Q10: =SUM(E10:P10) -> 250 | R10: =AVERAGE(E10:P10) -> 20.833333
B11: Debreceni Szakképzési Centrum | D11: 2030 | E11: 22 | F11: 20 | G11: 20 | H11: 20 | I11: 22 | J11: 19 | K11: 23 | L11: 21 | M11: 21 | N11: 22 | O11: 20 | P11: 20 | Q11: =SUM(E11:P11) -> 250 | R11: =AVERAGE(E11:P11) -> 20.833333
B12: Dunaújvárosi Szakképzési Centrum | D12: 2031 | E12: 22 | F12: 20 | G12: 20 | H12: 20 | I12: 22 | J12: 19 | K12: 23 | L12: 21 | M12: 21 | N12: 22 | O12: 20 | P12: 20 | Q12: =SUM(E12:P12) -> 250 | R12: =AVERAGE(E12:P12) -> 20.833333
B13: Érdi Szakképzési Centrum | D13: 2032 | E13: 22 | F13: 21 | G13: 18 | H13: 22 | I13: 21 | J13: 20 | K13: 23 | L13: 21 | M13: 21 | N13: 22 | O13: 20 | P13: 20 | Q13: =SUM(E13:P13) -> 251 | R13: =AVERAGE(E13:P13) -> 20.916667
B14: Esztergomi Szakképzési Centrum | D14: 2033 | E14: 22 | F14: 20 | G14: 20 | H14: 20 | I14: 22 | J14: 19 | K14: 23 | L14: 21 | M14: 21 | N14: 22 | O14: 20 | P14: 20 | Q14: =SUM(E14:P14) -> 250 | R14: =AVERAGE(E14:P14) -> 20.833333
B15: Győri Szakképzési Centrum | D15: 2034 | E15: 22 | F15: 20 | G15: 20 | H15: 20 | I15: 21 | J15: 20 | K15: 23 | L15: 21 | M15: 21 | N15: 22 | O15: 20 | P15: 20 | Q15: =SUM(E15:P15) -> 250 | R15: =AVERAGE(E15:P15) -> 20.833333
B16: Gyulai Szakképzési Centrum
B17: Heves Vármegyei Szakképzési Centrum
B18: Hódmezővásárhelyi Szakképzési Centrum
B19: Kaposvári Szakképzési Centrum
B20: Karcagi Szakképzési Centrum
B21: Kecskeméti Szakképzési Centrum
B22: Kiskunhalasi Szakképzési Centrum
B23: Kisvárdai Szakképzési Centrum
B24: Mátészalkai Szakképzési Centrum
B25: Miskolci Szakképzési Centrum
B26: Nagykanizsai Szakképzési Centrum
B27: Nógrád Vármegyei Szakképzési Centrum
... B42: Zalaegerszegi Szakképzési Centrum
B44: Szakmaszorzó | C44: szakképző iskola | D44: technikum
B45: Elektronika és elektrotechnika | C45: 2.42 | D45: 2.85
B46: Élelmiszeripar | C46: 2.2 | D46: 2.2
B47: Gépészet | C47: 2.42 | D47: 2.85
B48: Informatika és távközlés | C48: 2.2 | D48: 2.2
B49: Specializált gép- és járműgyártás | C49: 2.85 | D49: 2.85

Sheet Kitöltési útmutató
B11: KITÖLTÉSI ÚTMUTATÓ
B13: CÉL | C13: A GINOP Plusz-5.1.1-24 Szakképzési Ágazati Tudásközpontok létrehozása c. felhívásra benyújtandó támogatási kérelem részeként működési modell benyújtása szükséges. A működési modell központi eleme az üzleti terv, azon belül az ágazati tudásközpont létrejöttét követő 5 évre vonatkozó pénzügyi terv (bevételek-költségek-eredmények alakulása évenkénti bontásban) elkészítése szövegesen és számszerűen is, a kalkulációk részletes leírásával. Jelen sablon célja ezen pénzügyi terv elkészítésének támogatása.
B14: Technikai információ | C14: A táblázatban háttérszínnel kiemelésre kerültek a kitöltendő mezők. A kitöltésük a lent megjelölt eseteket kivéve szükséges.
C15: A kék háttérszínű mezők legördülő menüből történő választással tölthetők.
C16: A világoskék háttérszínű mezők kitöltése bármilyen értékkel lehetséges.
C17: A fehér háttérrel rendelkező cellák képletezettek/előre kitöltöttek.
C18: Az arany háttérszínű cellák előre kitöltött adatokat tartalmaznak, azonban felülírhatók, illetve ellenőrzésük szükséges.
C19: A kitöltéssel kapcsolatos kérdéseit az alábbi e-mail címen jelezheti:
C20: ginopplusz523@nive.hu
B21: Szöveges összefoglaló munkalap | C21: A munkalapon tudja alátámasztani, elmagyarázni a pénzügyi terv elkészítése során alkalmazott feltételezéseket, bemutatni a kialakításhoz felhasznált információkat. Amennyiben az eredménykimutatás során valamelyik évben negatív eredmény mutatkozik, a szöveges részben tudja bemutatni, hogy a vállalkozás ezt hogyan fogja finanszírozni (pl. a tőketartalék, vagy a korábbi üzleti években felhalmozott pozitív eredménytartalék terhére). Itt célszerű érinteni az alábbiakat: • a várható nyitónapi egyenleg bemutatása, • a tőke tervezett felhasználása, • az eredmény előrejelzés pénzügyi elemzése (pl. megtérülés szempontjából), • a feltételezések alátámasztása. A munkalap szükség esetén további információkkal (sorokkal) bővíthető.
B22: Bemeneti adatok munkalap | C22: Javaslat a Tudásközpont létrejöttének éve tervezéséhez: A 0. év a Tudásközpont létrejöttének éve. A Tudásközpont hivatalos létrejötte az az év, amikor a nonprofit gazdasági társaság megalakul. A működési modellben a Tudásközpont létrejöttének éveként javasoljuk azt az évet megadni, amikor a Tudásközpont mint létesítmény létrejött (megépült, felújításra került), a szükséges eszközök beszerzésre kerültek és a nonprofit gazdasági társaság megalakult.
C23: Az inflációt, bérinflációt az MNB (Magyar Nemzeti Bank) legfrissebb inflációs jelentése alapján célszerű tervezni. Jelenlegi adatok 2024. decemberi jelentés alapján szerepelnek, azonban felülírhatók. A jelentések az alábbi honlapon elérhetők:
C24: https://www.mnb.hu/kiadvanyok/jelentesek/inflacios-jelentes
C25: A szakirányú oktatás tanulólétszámára vonatkozóan csak a Szakképzési Ágazati Tudásközpont esetében releváns évfolyamokra vonatkozó adatok töltendőek.
C26: Szakmaszorzóhoz kapcsolódóan szakképző iskolai szakmaként került meghatározásra, ha a szakma Magyar Képesítési Keretrendszer szintje 4; technikumi szakmaként került meghatározásra, ha a szakma Magyar Képesítési Keretrendszer szintje 5.
C27: Javaslat a Tudásközpontban töltött idő aránya (%) tervezéséhez: Végzős évfolyamon: 100%, ha a tanuló tömbösítve vesz részt szakmai oktatásban, tehát a megjelölt hónapokban minden munkanapot a Tudásközpontban (vagy szabadságon, táppénzen) tölt. Kevesebb, mint 100%, ha a közismeretet és/ vagy a szakmai ismeretek egy részét az iskolában tanulja. Pl. ha egy héten 5 napból 3 napot tölt a Tudásközpontban ez az arány 60%, ha 5 napból 4-et 80% stb. Nem végzős évfolyamon: 100%, ha a tanuló tömbösítve vesz részt szakmai oktatásban és/vagy a nyári összefüggő gyakorlatot tölti a Tudásközpontban, tehát a megjelölt hónapokban minden munkanapot a Tudásközpontban (vagy szabadságon, táppénzen) tölt. Kevesebb, mint 100%, ha a közismeretet és/ vagy a szakmai ismeretek egy részét az iskolában tanulja. Pl. ha egy 11. évfolyamos tanuló a tanítási évben egy héten 5 napból 2 napot tölt a Tudásközpontban, de a teljes tanévre munkaszerződése van évi 41 hétre 40% az arány, a június 15. és augusztus 31. közötti 11 hétre pedig 100%, ez átlagosan (41x40 + 11x100)/52 = 52,7% ( természetesen januártól augusztusig nem ugyanaz a tanuló lesz pl.11. évfolyamos, mint szeptembertől decemberig).
B28: Működési költség munkalap | C28: A munkalapon tervezhetők (egymás alatt található táblázatokban) a nonprofit gazdasági társaság munkavállalóihoz kapcsolódó személyi jellegű ráfordítások, a megbízási jogviszonyban (magánszemélyek vagy vállalkozók) foglalkoztatottakkal kapcsolatos költségek, a duális képzésben foglalkoztatott tanulókkal kapcsolatos személyi jellegű ráfordítások, a tanulókhoz kapcsolódó egyéb költségek, illetve a nonprofit gazdasági társaság egyéb költségei.
C29: Személyi jellegű ráfordítások - dolgozók esetében a szükséges mennyiségű pozíció és a vonatkozó adatok töltendők. Kérjük, hogy a munkaviszonyban foglalkoztatott munkavállalókat az A11 cellában kezdődő, a megbízási jogviszonyban foglalkoztatottakat az A38 cellában kezdődő, a tanulókat az A107 cellában kezdődő táblázatban jelenítsék meg.
C30: Minden évre vonatkozóan az adott évi teljes létszám kitöltése szükséges, nem csak az új belépőké.
C31: Munkaviszonyban foglalkoztatott munkavállalók esetén a heti munkaidő ráfordítás arányát kérjük %-ban meghatározni. Pl. heti 40 órás munkaviszonyt 100%-nak tekintve a heti 20 órás munkaviszony esetében 50% feltüntetése szükséges.
C32: Személyi jellegű ráfordítások - tanulók, hallgatók esetén az alábbi törvények alapján a munkaszerződéssel lefedett hónapok teljes idejével terveztünk. Tanulók esetén: 2019. évi LXXX. tv. 85. § (3) A tanulót, illetve a képzésben részt vevő személyt az e § szerinti munkabér és juttatások a szakképzési munkaszerződés hatálybalépésének napjától, teljes hónapra illetik meg. Ha a szakképzési munkaszerződés a tanév megkezdése után, hónap közben jön létre vagy szűnik meg, a tanulót, illetve a képzésben részt vevő személyt az e § szerinti munkabér és juttatások időarányos része illeti meg. Hallgatók esetén: 2011. évi CCIV. törvény 44. §: (3) a) az (1) bekezdés a) pontja szerinti esetben díjazás illetheti, illetve a gyakorlatigényes szak szakmai gyakorlatának ideje alatt, valamint a duális képzés képzési ideje alatt díjazás illeti, amelynek mértéke legalább a kötelező legkisebb munkabér (minimálbér) hatvanöt százaléka, a díjat – eltérő megállapodás hiányában – a szakmai gyakorlóhely fizeti.
C33: További költségek esetén a D70-78 cellák vonatkozásában az 1 tanulóra, hallgatóra jutó éves bruttó egységköltség (Ft), a D81. cellától a havi bruttó költség feltüntetése lehetséges. Az A97-102 költségek esetében lehetőség van egyszeri éves költségek megadására.
C34: További költségek esetén releváns esetben töltendők az egyéb kiadások és kapcsolódó adataik.
B35: További költség-kimutatás munkalap | C35: További költségek kitöltése után kérjük, hogy frissítse a További költségek-kimutatás munkalapon található kimutatást. (A kimutatás a fájl megnyitásakor automatikusan is frissül.)
B36: Bevétel munkalap | C36: A munkalapon tervezhetők a szakképzési munkaszerződéshez kapcsolódó adóvisszatérítéssel kapcsolatos, illetve a sikerdíjjal kapcsolatos bevételek, illetve a nonprofit gazdasági társaság egyéb tervezett bevételei.
C37: Fiatalkorúak megállapításához kapcsolódó feltételezés: 10-12. évfolyamon a tanulók 18 év alattiak, 13-14. évfolyamon 18 év felettiek
C38: Sikerdíj kedvezmény igénybevétele sikeres szakmai vizsga és legalább 6 hónapos egybefüggő időtartamban fennálló szakképzési munkaszerződés esetében tervezhető. Jelen sablonban sikerdíjjal hallgatók esetén nem terveztünk.
C39: Egyéb működési bevétel és támogatási bevétel esetén a tevékenységek és a kapcsolódó adataik releváns esetben töltendők.
C40: Támogatási bevétel: célhoz kötött támogatások esetén nem keletkezhet sem pozitív, sem negatív eredmény, adott évre annyi bevétel tervezhető, amennyi költség az adott évben felmerül.
B41: Eredménykimutatás munkalap | C41: Az értékcsökkenési leírás, egyéb ráfordítás, pénzügyi műveletek bevételei és ráfordításai és az adófizetési kötelezettség vonatkozó cellái töltendők. Az eredménykimutatás többi cellája képletezett, a bevétel és a működési költségek munkalapról kerülnek át az adatok.
C42: Amennyiben valamelyik évben negatív eredmény mutatkozik, a pénzügyi terv szöveges részében be kell mutatni, hogy a vállalkozás ezt hogyan fogja finanszírozni (pl. a tőketartalék, vagy a korábbi üzleti években felhalmozott pozitív eredménytartalék terhére).

Sheet Szöveges összefoglaló
B12: SZÖVEGES ÖSSZEFOGLALÓ
B15: INPUT ADATOK ÖSSZEFOGLALÁSA
B16: Bevételt befolyásoló input paraméterek
B17: Költségoldalt befolyásoló input paraméterek
B18: ALKALMAZOTT FELTÉTELEZÉSEK
B19: Eredménykimutatást befolyásoló jelentős feltételezések
B20: Egyéb feltételezések
B21: OPTIMÁLIS MŰKÖDÉSHEZ SZÜKSÉGES ADATOK MEGHATÁROZÁSA
B22: Bevételi oldal jellemzése
B23: Kiadási oldal jellemzése
B24: EREDMÉNYKIMUTATÁS JELLEMZÉSE
B25: Esetleges negatív eredmény esetén a finanszírozás bemutatása
B26: Eredmény előrejelzés pénzügyi elemzése

Sheet Bemeneti adatok
B11: Szakképzési Centrum neve:
B12: Ágazat megnevezése:
B14: Tudásközpont létrejöttének tervezett dátuma (év, hó,nap):
B15: Induló év (törtév) hónapjainak száma alapítás időpontjától számolva:
B17: Periódus | E17: 0. év | F17: 1. év | G17: 2. év | H17: 3. év | I17: 4. év | J17: 5. év
B18: Év | D18: M.e. | E18: =YEAR(E14) -> 1900 | F18: =E18+1 -> 1901 | G18: =F18+1 -> 1902 | H18: =G18+1 -> 1903 | I18: =H18+1 -> 1904 | J18: =I18+1 -> 1905
B19: Infláció - HUF | D19: % | E19: 0.035 | F19: 0.035 | G19: 0.035 | H19: 0.03 | I19: 0.03 | J19: 0.03
B20: Infláció - HUF (kumulált) | D20: % | E20: 1 | F20: =E20*(1+F19) -> 1.035 | G20: =F20*(1+G19) -> 1.071225 | H20: =G20*(1+H19) -> 1.1033617 | I20: =H20*(1+I19) -> 1.1364626 | J20: =I20*(1+J19) -> 1.1705565
B21: Bérinfláció | D21: % | E21: 0.127 | F21: =E21-0.5% -> 0.122 | G21: =F21-0.5% -> 0.117 | H21: =G21-0.5% -> 0.112 | I21: =H21-0.5% -> 0.107 | J21: =I21-0.5% -> 0.102
B22: Bérinfláció (kumulált) | D22: % | E22: 1 | F22: =E22*(1+F21) -> 1.122 | G22: =F22*(1+G21) -> 1.253274 | H22: =G22*(1+H21) -> 1.3936407 | I22: =H22*(1+I21) -> 1.5427602 | J22: =I22*(1+J21) -> 1.7001218
B23: Munkanapok | D23: nap | E23: =IFERROR(VLOOKUP(E18,Segédtábla!$D$4:$Q$15,14,FALSE),"---") -> --- | F23: =IFERROR(VLOOKUP(F18,Segédtábla!$D$4:$Q$15,14,FALSE),"---") -> --- | G23: =IFERROR(VLOOKUP(G18,Segédtábla!$D$4:$Q$15,14,FALSE),"---") -> --- | H23: =IFERROR(VLOOKUP(H18,Segédtábla!$D$4:$Q$15,14,FALSE),"---") -> --- | I23: =IFERROR(VLOOKUP(I18,Segédtábla!$D$4:$Q$15,14,FALSE),"---") -> --- | J23: =IFERROR(VLOOKUP(J18,Segédtábla!$D$4:$Q$15,14,FALSE),"---") -> ---
B24: Átlagos havi munkanapok száma | D24: nap | E24: =IFERROR(ROUND(E23/12,0),"---") -> --- | F24: =IFERROR(ROUND(F23/12,0),"---") -> --- | G24: =IFERROR(ROUND(G23/12,0),"---") -> --- | H24: =IFERROR(ROUND(H23/12,0),"---") -> --- | I24: =IFERROR(ROUND(I23/12,0),"---") -> --- | J24: =IFERROR(ROUND(J23/12,0),"---") -> ---
B26: Foglalkoztatást terhelő adók, járulékok | D26: % | E26: 0.13
B27: Hallgatói munkabér (minimum) | D27: Ft | E27: =E28*65% -> 173420
B28: Minimálbér | D28: Ft | E28: 266800
B29: Tanulói munkabér (minimum) | D29: Ft | E29: =E30/12 -> 100000
B30: Átlagos képzési önköltség | D30: Ft | E30: 1200000
B31: Figyelembe vehető alapnormatíva | D31: Ft | E31: 650000
B32: Sikerdíj mértéke | D32: % | E32: 0.2
B33: Sikerességi ráta | D33: % | E33: 0.9
C35: Szakmaszorzó | E35: Elektronika és elektrotechnika | F35: Élelmiszeripar | G35: Gépészet | H35: Informatika és távközlés | I35: Specializált gép- és járműgyártás
C36: szakképző iskola | D36: - | E36: 2.42 | F36: 2.2 | G36: 2.42 | H36: 2.2 | I36: 2.85
C37: technikum | D37: - | E37: 2.85 | G37: 2.85
E40: 0. év | H40: 1. év | K40: 2. év | N40: 3. év | Q40: 4. év | T40: 5. év
E41: =YEAR(E14) -> 1900 | H41: =E41+1 -> 1901 | K41: =E41+2 -> 1902 | N41: =E41+3 -> 1903 | Q41: =E41+4 -> 1904 | T41: =E41+5 -> 1905
B42: Szakirányú oktatás időtartama | C42: Évfolyam | D42: Évfolyami szorzó | E42: Szakirányú oktatás tanulói létszám (fő) | F42: Munkaszerződés-sel lefedett hónapok száma (hónap) | G42: Tudásközpontban eltöltött idő aránya (%) | H42: Szakirányú oktatás tanulói létszám (fő) | I42: Munkaszerződés-sel lefedett hónapok száma (hónap) | J42: Tudásközpontban eltöltött idő aránya (%) | K42: Szakirányú oktatás tanulói létszám (fő) | L42: Munkaszerződés-sel lefedett hónapok száma (hónap) | M42: Tudásközpontban eltöltött idő aránya (%) | N42: Szakirányú oktatás tanulói létszám (fő) | O42: Munkaszerződés-sel lefedett hónapok száma (hónap) | P42: Tudásközpontban eltöltött idő aránya (%) | Q42: Szakirányú oktatás tanulói létszám (fő) | R42: Munkaszerződés-sel lefedett hónapok száma (hónap) | S42: Tudásközpontban eltöltött idő aránya (%) | T42: Szakirányú oktatás tanulói létszám (fő) | U42: Munkaszerződés-sel lefedett hónapok száma (hónap) | V42: Tudásközpontban eltöltött idő aránya (%)
B44: Legfeljebb 1 év | C44: 13. évfolyam | D44: 1
B45: Legfeljebb 2 év | C45: 10. évfolyam | D45: 1.2
C46: 11. évfolyam | D46: 0.8
B47: Legfeljebb 3 év | C47: 11. évfolyam | D47: 1.2
C48: 12. évfolyam | D48: 1
C49: 13. évfolyam | D49: 0.8
B50: Legfeljebb 4 év | C50: 11. évfolyam | D50: 1.2
C51: 12. évfolyam | D51: 1
C52: 13. évfolyam | D52: 1
C53: 14. évfolyam | D53: 0.8
B54: Felnőttek szakmai oktatása | C54: évfolyamtól független | D54: 1
B55: Hallgatók | C55: évfolyamtól független | D55: 1
C56: Összes tanuló | E56: =SUM(E44:E54) -> 0 | H56: =SUM(H44:H54) -> 0 | K56: =SUM(K44:K54) -> 0 | N56: =SUM(N44:N54) -> 0 | Q56: =SUM(Q44:Q54) -> 0 | T56: =SUM(T44:T54) -> 0
C57: Összes tanuló+hallgató | E57: =SUM(E44:E55) -> 0 | H57: =SUM(H44:H55) -> 0 | K57: =SUM(K44:K55) -> 0 | N57: =SUM(N44:N55) -> 0 | Q57: =SUM(Q44:Q55) -> 0 | T57: =SUM(T44:T55) -> 0

Sheet Működési költség
A11: SZEMÉLYI JELLEGŰ RÁFORDÍTÁSOK - DOLGOZÓK, OKTATÓK Munkaviszony esetén | D11: 0. év | E11: ='Bemeneti adatok'!E18 -> 1900 | F11: hónapok száma | G11: járulék szorzó | L11: 1. év | M11: ='Bemeneti adatok'!$F$18 -> 1901 | N11: hónapok száma | O11: járulék szorzó | P11: kumulált reálbér index | U11: 2. év | V11: ='Bemeneti adatok'!$G$18 -> 1902 | W11: hónapok száma | X11: járulék szorzó | Y11: kumulált reálbér index | AD11: 3. év | AE11: ='Bemeneti adatok'!$H$18 -> 1903 | AF11: hónapok száma | AG11: járulék szorzó | AH11: kumulált reálbér index | AM11: 4. év | AN11: ='Bemeneti adatok'!$I$18 -> 1904 | AO11: hónapok száma | AP11: járulék szorzó | AQ11: kumulált reálbér index | AV11: 5. év | AW11: ='Bemeneti adatok'!$J$18 -> 1905 | AX11: hónapok száma | AY11: járulék szorzó | AZ11: kumulált reálbér index
F12: ='Bemeneti adatok'!$E$15 -> 0 | G12: ='Bemeneti adatok'!$E$26 -> 0.13 | N12: 12 | O12: ='Bemeneti adatok'!$E$26 -> 0.13 | P12: ='Bemeneti adatok'!$F$22 -> 1.122 | W12: 12 | X12: ='Bemeneti adatok'!$E$26 -> 0.13 | Y12: ='Bemeneti adatok'!$G$22 -> 1.253274 | AF12: 12 | AG12: ='Bemeneti adatok'!$E$26 -> 0.13 | AH12: ='Bemeneti adatok'!$H$22 -> 1.3936407 | AO12: 12 | AP12: ='Bemeneti adatok'!$E$26 -> 0.13 | AQ12: ='Bemeneti adatok'!$I$22 -> 1.5427602 | AX12: 12 | AY12: ='Bemeneti adatok'!$E$26 -> 0.13 | AZ12: ='Bemeneti adatok'!$J$22 -> 1.7001218
A13: Pozíció | B13: Bruttó bér/fő/hó (Ft) | C13: Személyi jellegű egyéb kifizetések/fő/hó (Ft) | D13: Létszám (fő) | E13: Heti munkaidő ráfordítás aránya (%) | F13: Összes bruttó bér (Ft) | G13: Összes járulék (Ft) | H13: Összes bérköltség (Ft) | I13: Személyi jellegű egyéb kifizetések összesen (Ft) | J13: Személyi jellegű egyéb kifizetésekhez kapcsolódó járulékok (Ft) | K13: Összesen (Ft) | L13: Létszám (fő) | M13: Heti munkaidő ráfordítás aránya (%) | N13: Összes bruttó bér (Ft) | O13: Összes járulék (Ft) | P13: Összes bérköltség (Ft) | Q13: Személyi jellegű egyéb kifizetések összesen (Ft) | R13: Személyi jellegű egyéb kifizetésekhez kapcsolódó járulékok (Ft) | S13: Összesen (Ft) | T13: Összesen (Ft) kumulált reálbér indexszel növelve | U13: Létszám (fő) | V13: Heti munkaidő ráfordítás aránya (%) | W13: Összes bruttó bér (Ft) | X13: Összes járulék (Ft) | Y13: Összes bérköltség (Ft) | Z13: Személyi jellegű egyéb kifizetések összesen (Ft) | AA13: Személyi jellegű egyéb kifizetésekhez kapcsolódó járulékok (Ft) | AB13: Összesen (Ft) | AC13: Összesen (Ft) kumulált reálbér indexszel növelve | AD13: Létszám (fő) | AE13: Heti munkaidő ráfordítás aránya (%) | AF13: Összes bruttó bér (Ft) | AG13: Összes járulék (Ft) | AH13: Összes bérköltség (Ft) | AI13: Személyi jellegű egyéb kifizetések összesen (Ft) | AJ13: Személyi jellegű egyéb kifizetésekhez kapcsolódó járulékok (Ft) | AK13: Összesen (Ft) | AL13: Összesen (Ft) kumulált reálbér indexszel növelve | AM13: Létszám (fő) | AN13: Heti munkaidő ráfordítás aránya (%) | AO13: Összes bruttó bér (Ft) | AP13: Összes járulék (Ft) | AQ13: Összes bérköltség (Ft) | AR13: Személyi jellegű egyéb kifizetések összesen (Ft) | AS13: Személyi jellegű egyéb kifizetésekhez kapcsolódó járulékok (Ft) | AT13: Összesen (Ft) | AU13: Összesen (Ft) kumulált reálbér indexszel növelve | AV13: Létszám (fő) | AW13: Heti munkaidő ráfordítás aránya (%) | AX13: Összes bruttó bér (Ft) | AY13: Összes járulék (Ft) | AZ13: Összes bérköltség (Ft) | BA13: Személyi jellegű egyéb kifizetések összesen (Ft) | BB13: Személyi jellegű egyéb kifizetésekhez kapcsolódó járulékok (Ft) | BC13: Összesen (Ft) | BD13: Összesen (Ft) kumulált reálbér indexszel növelve
A14: Pozíció1 | F14: =$B14*$D14*$E14*$F$12 -> 0 | G14: =F14*$G$12 -> 0 | H14: =F14+G14 -> 0 | I14: =$C14*$D14*$F$12 -> 0 | K14: =H14+I14+J14 -> 0 | N14: =$B14*$L14*$M14*$N$12 -> 0 | O14: =N14*$O$12 -> 0 | P14: =N14+O14 -> 0 | Q14: =$C14*$L14*$N$12 -> 0 | S14: =P14+Q14+R14 -> 0 | T14: =S14*$P$12 -> 0 | W14: =$B14*$U14*$V14*$W$12 -> 0 | X14: =W14*$X$12 -> 0 | Y14: =W14+X14 -> 0 | Z14: =$C14*$U14*$W$12 -> 0 | AB14: =Y14+Z14+AA14 -> 0 | AC14: =AB14*$Y$12 -> 0 | AF14: =$B14*$AD14*$AE14*$AF$12 -> 0 | AG14: =AF14*$AG$12 -> 0 | AH14: =AF14+AG14 -> 0 | AI14: =$C14*$AD14*$AF$12 -> 0 | AK14: =AH14+AI14+AJ14 -> 0 | AL14: =AK14*$AH$12 -> 0 | AO14: =$B14*$AM14*$AN14*$AO$12 -> 0 | AP14: =AO14*$AP$12 -> 0 | AQ14: =AO14+AP14 -> 0 | AR14: =$C14*$AM14*$AO$12 -> 0 | AT14: =AQ14+AR14+AS14 -> 0 | AU14: =AT14*$AQ$12 -> 0 | AX14: =$B14*$AV14*$AW14*$AX$12 -> 0 | AY14: =AX14*$AY$12 -> 0 | AZ14: =AX14+AY14 -> 0 | BA14: =$C14*$AV14*$AX$12 -> 0 | BC14: =AZ14+BA14+BB14 -> 0 | BD14: =BC14*$AZ$12 -> 0
A15: Pozíció2 | F15: =$B15*$D15*$E15*$F$12 -> 0 | G15: =F15*$G$12 -> 0 | H15: =F15+G15 -> 0 | I15: =$C15*$D15*$F$12 -> 0 | K15: =H15+I15+J15 -> 0 | N15: =$B15*$L15*$M15*$N$12 -> 0 | O15: =N15*$O$12 -> 0 | P15: =N15+O15 -> 0 | Q15: =$C15*$L15*$N$12 -> 0 | S15: =P15+Q15+R15 -> 0 | T15: =S15*$P$12 -> 0 | W15: =$B15*$U15*$V15*$W$12 -> 0 | X15: =W15*$X$12 -> 0 | Y15: =W15+X15 -> 0 | Z15: =$C15*$U15*$W$12 -> 0 | AB15: =Y15+Z15+AA15 -> 0 | AC15: =AB15*$Y$12 -> 0 | AF15: =$B15*$AD15*$AE15*$AF$12 -> 0 | AG15: =AF15*$AG$12 -> 0 | AH15: =AF15+AG15 -> 0 | AI15: =$C15*$AD15*$AF$12 -> 0 | AK15: =AH15+AI15+AJ15 -> 0 | AL15: =AK15*$AH$12 -> 0 | AO15: =$B15*$AM15*$AN15*$AO$12 -> 0 | AP15: =AO15*$AP$12 -> 0 | AQ15: =AO15+AP15 -> 0 | AR15: =$C15*$AM15*$AO$12 -> 0 | AT15: =AQ15+AR15+AS15 -> 0 | AU15: =AT15*$AQ$12 -> 0 | AX15: =$B15*$AV15*$AW15*$AX$12 -> 0 | AY15: =AX15*$AY$12 -> 0 | AZ15: =AX15+AY15 -> 0 | BA15: =$C15*$AV15*$AX$12 -> 0 | BC15: =AZ15+BA15+BB15 -> 0 | BD15: =BC15*$AZ$12 -> 0
A16: Pozíció3 | F16: =$B16*$D16*$E16*$F$12 -> 0 | G16: =F16*$G$12 -> 0 | H16: =F16+G16 -> 0 | I16: =$C16*$D16*$F$12 -> 0 | K16: =H16+I16+J16 -> 0 | N16: =$B16*$L16*$M16*$N$12 -> 0 | O16: =N16*$O$12 -> 0 | P16: =N16+O16 -> 0 | Q16: =$C16*$L16*$N$12 -> 0 | S16: =P16+Q16+R16 -> 0 | T16: =S16*$P$12 -> 0 | W16: =$B16*$U16*$V16*$W$12 -> 0 | X16: =W16*$X$12 -> 0 | Y16: =W16+X16 -> 0 | Z16: =$C16*$U16*$W$12 -> 0 | AB16: =Y16+Z16+AA16 -> 0 | AC16: =AB16*$Y$12 -> 0 | AF16: =$B16*$AD16*$AE16*$AF$12 -> 0 | AG16: =AF16*$AG$12 -> 0 | AH16: =AF16+AG16 -> 0 | AI16: =$C16*$AD16*$AF$12 -> 0 | AK16: =AH16+AI16+AJ16 -> 0 | AL16: =AK16*$AH$12 -> 0 | AO16: =$B16*$AM16*$AN16*$AO$12 -> 0 | AP16: =AO16*$AP$12 -> 0 | AQ16: =AO16+AP16 -> 0 | AR16: =$C16*$AM16*$AO$12 -> 0 | AT16: =AQ16+AR16+AS16 -> 0 | AU16: =AT16*$AQ$12 -> 0 | AX16: =$B16*$AV16*$AW16*$AX$12 -> 0 | AY16: =AX16*$AY$12 -> 0 | AZ16: =AX16+AY16 -> 0 | BA16: =$C16*$AV16*$AX$12 -> 0 | BC16: =AZ16+BA16+BB16 -> 0 | BD16: =BC16*$AZ$12 -> 0
A17: Pozíció4 | F17: =$B17*$D17*$E17*$F$12 -> 0 | G17: =F17*$G$12 -> 0 | H17: =F17+G17 -> 0 | I17: =$C17*$D17*$F$12 -> 0 | K17: =H17+I17+J17 -> 0 | N17: =$B17*$L17*$M17*$N$12 -> 0 | O17: =N17*$O$12 -> 0 | P17: =N17+O17 -> 0 | Q17: =$C17*$L17*$N$12 -> 0 | S17: =P17+Q17+R17 -> 0 | T17: =S17*$P$12 -> 0 | W17: =$B17*$U17*$V17*$W$12 -> 0 | X17: =W17*$X$12 -> 0 | Y17: =W17+X17 -> 0 | Z17: =$C17*$U17*$W$12 -> 0 | AB17: =Y17+Z17+AA17 -> 0 | AC17: =AB17*$Y$12 -> 0 | AF17: =$B17*$AD17*$AE17*$AF$12 -> 0 | AG17: =AF17*$AG$12 -> 0 | AH17: =AF17+AG17 -> 0 | AI17: =$C17*$AD17*$AF$12 -> 0 | AK17: =AH17+AI17+AJ17 -> 0 | AL17: =AK17*$AH$12 -> 0 | AO17: =$B17*$AM17*$AN17*$AO$12 -> 0 | AP17: =AO17*$AP$12 -> 0 | AQ17: =AO17+AP17 -> 0 | AR17: =$C17*$AM17*$AO$12 -> 0 | AT17: =AQ17+AR17+AS17 -> 0 | AU17: =AT17*$AQ$12 -> 0 | AX17: =$B17*$AV17*$AW17*$AX$12 -> 0 | AY17: =AX17*$AY$12 -> 0 | AZ17: =AX17+AY17 -> 0 | BA17: =$C17*$AV17*$AX$12 -> 0 | BC17: =AZ17+BA17+BB17 -> 0 | BD17: =BC17*$AZ$12 -> 0
A18: Pozíció5 | F18: =$B18*$D18*$E18*$F$12 -> 0 | G18: =F18*$G$12 -> 0 | H18: =F18+G18 -> 0 | I18: =$C18*$D18*$F$12 -> 0 | K18: =H18+I18+J18 -> 0 | N18: =$B18*$L18*$M18*$N$12 -> 0 | O18: =N18*$O$12 -> 0 | P18: =N18+O18 -> 0 | Q18: =$C18*$L18*$N$12 -> 0 | S18: =P18+Q18+R18 -> 0 | T18: =S18*$P$12 -> 0 | W18: =$B18*$U18*$V18*$W$12 -> 0 | X18: =W18*$X$12 -> 0 | Y18: =W18+X18 -> 0 | Z18: =$C18*$U18*$W$12 -> 0 | AB18: =Y18+Z18+AA18 -> 0 | AC18: =AB18*$Y$12 -> 0 | AF18: =$B18*$AD18*$AE18*$AF$12 -> 0 | AG18: =AF18*$AG$12 -> 0 | AH18: =AF18+AG18 -> 0 | AI18: =$C18*$AD18*$AF$12 -> 0 | AK18: =AH18+AI18+AJ18 -> 0 | AL18: =AK18*$AH$12 -> 0 | AO18: =$B18*$AM18*$AN18*$AO$12 -> 0 | AP18: =AO18*$AP$12 -> 0 | AQ18: =AO18+AP18 -> 0 | AR18: =$C18*$AM18*$AO$12 -> 0 | AT18: =AQ18+AR18+AS18 -> 0 | AU18: =AT18*$AQ$12 -> 0 | AX18: =$B18*$AV18*$AW18*$AX$12 -> 0 | AY18: =AX18*$AY$12 -> 0 | AZ18: =AX18+AY18 -> 0 | BA18: =$C18*$AV18*$AX$12 -> 0 | BC18: =AZ18+BA18+BB18 -> 0 | BD18: =BC18*$AZ$12 -> 0
A19: Pozíció6 | F19: =$B19*$D19*$E19*$F$12 -> 0 | G19: =F19*$G$12 -> 0 | H19: =F19+G19 -> 0 | I19: =$C19*$D19*$F$12 -> 0 | K19: =H19+I19+J19 -> 0 | N19: =$B19*$L19*$M19*$N$12 -> 0 | O19: =N19*$O$12 -> 0 | P19: =N19+O19 -> 0 | Q19: =$C19*$L19*$N$12 -> 0 | S19: =P19+Q19+R19 -> 0 | T19: =S19*$P$12 -> 0 | W19: =$B19*$U19*$V19*$W$12 -> 0 | X19: =W19*$X$12 -> 0 | Y19: =W19+X19 -> 0 | Z19: =$C19*$U19*$W$12 -> 0 | AB19: =Y19+Z19+AA19 -> 0 | AC19: =AB19*$Y$12 -> 0 | AF19: =$B19*$AD19*$AE19*$AF$12 -> 0 | AG19: =AF19*$AG$12 -> 0 | AH19: =AF19+AG19 -> 0 | AI19: =$C19*$AD19*$AF$12 -> 0 | AK19: =AH19+AI19+AJ19 -> 0 | AL19: =AK19*$AH$12 -> 0 | AO19: =$B19*$AM19*$AN19*$AO$12 -> 0 | AP19: =AO19*$AP$12 -> 0 | AQ19: =AO19+AP19 -> 0 | AR19: =$C19*$AM19*$AO$12 -> 0 | AT19: =AQ19+AR19+AS19 -> 0 | AU19: =AT19*$AQ$12 -> 0 | AX19: =$B19*$AV19*$AW19*$AX$12 -> 0 | AY19: =AX19*$AY$12 -> 0 | AZ19: =AX19+AY19 -> 0 | BA19: =$C19*$AV19*$AX$12 -> 0 | BC19: =AZ19+BA19+BB19 -> 0 | BD19: =BC19*$AZ$12 -> 0
A20: Pozíció7 | F20: =$B20*$D20*$E20*$F$12 -> 0 | G20: =F20*$G$12 -> 0 | H20: =F20+G20 -> 0 | I20: =$C20*$D20*$F$12 -> 0 | K20: =H20+I20+J20 -> 0 | N20: =$B20*$L20*$M20*$N$12 -> 0 | O20: =N20*$O$12 -> 0 | P20: =N20+O20 -> 0 | Q20: =$C20*$L20*$N$12 -> 0 | S20: =P20+Q20+R20 -> 0 | T20: =S20*$P$12 -> 0 | W20: =$B20*$U20*$V20*$W$12 -> 0 | X20: =W20*$X$12 -> 0 | Y20: =W20+X20 -> 0 | Z20: =$C20*$U20*$W$12 -> 0 | AB20: =Y20+Z20+AA20 -> 0 | AC20: =AB20*$Y$12 -> 0 | AF20: =$B20*$AD20*$AE20*$AF$12 -> 0 | AG20: =AF20*$AG$12 -> 0 | AH20: =AF20+AG20 -> 0 | AI20: =$C20*$AD20*$AF$12 -> 0 | AK20: =AH20+AI20+AJ20 -> 0 | AL20: =AK20*$AH$12 -> 0 | AO20: =$B20*$AM20*$AN20*$AO$12 -> 0 | AP20: =AO20*$AP$12 -> 0 | AQ20: =AO20+AP20 -> 0 | AR20: =$C20*$AM20*$AO$12 -> 0 | AT20: =AQ20+AR20+AS20 -> 0 | AU20: =AT20*$AQ$12 -> 0 | AX20: =$B20*$AV20*$AW20*$AX$12 -> 0 | AY20: =AX20*$AY$12 -> 0 | AZ20: =AX20+AY20 -> 0 | BA20: =$C20*$AV20*$AX$12 -> 0 | BC20: =AZ20+BA20+BB20 -> 0 | BD20: =BC20*$AZ$12 -> 0
A21: Pozíció8 | F21: =$B21*$D21*$E21*$F$12 -> 0 | G21: =F21*$G$12 -> 0 | H21: =F21+G21 -> 0 | I21: =$C21*$D21*$F$12 -> 0 | K21: =H21+I21+J21 -> 0 | N21: =$B21*$L21*$M21*$N$12 -> 0 | O21: =N21*$O$12 -> 0 | P21: =N21+O21 -> 0 | Q21: =$C21*$L21*$N$12 -> 0 | S21: =P21+Q21+R21 -> 0 | T21: =S21*$P$12 -> 0 | W21: =$B21*$U21*$V21*$W$12 -> 0 | X21: =W21*$X$12 -> 0 | Y21: =W21+X21 -> 0 | Z21: =$C21*$U21*$W$12 -> 0 | AB21: =Y21+Z21+AA21 -> 0 | AC21: =AB21*$Y$12 -> 0 | AF21: =$B21*$AD21*$AE21*$AF$12 -> 0 | AG21: =AF21*$AG$12 -> 0 | AH21: =AF21+AG21 -> 0 | AI21: =$C21*$AD21*$AF$12 -> 0 | AK21: =AH21+AI21+AJ21 -> 0 | AL21: =AK21*$AH$12 -> 0 | AO21: =$B21*$AM21*$AN21*$AO$12 -> 0 | AP21: =AO21*$AP$12 -> 0 | AQ21: =AO21+AP21 -> 0 | AR21: =$C21*$AM21*$AO$12 -> 0 | AT21: =AQ21+AR21+AS21 -> 0 | AU21: =AT21*$AQ$12 -> 0 | AX21: =$B21*$AV21*$AW21*$AX$12 -> 0 | AY21: =AX21*$AY$12 -> 0 | AZ21: =AX21+AY21 -> 0 | BA21: =$C21*$AV21*$AX$12 -> 0 | BC21: =AZ21+BA21+BB21 -> 0 | BD21: =BC21*$AZ$12 -> 0
A22: Pozíció9 | F22: =$B22*$D22*$E22*$F$12 -> 0 | G22: =F22*$G$12 -> 0 | H22: =F22+G22 -> 0 | I22: =$C22*$D22*$F$12 -> 0 | K22: =H22+I22+J22 -> 0 | N22: =$B22*$L22*$M22*$N$12 -> 0 | O22: =N22*$O$12 -> 0 | P22: =N22+O22 -> 0 | Q22: =$C22*$L22*$N$12 -> 0 | S22: =P22+Q22+R22 -> 0 | T22: =S22*$P$12 -> 0 | W22: =$B22*$U22*$V22*$W$12 -> 0 | X22: =W22*$X$12 -> 0 | Y22: =W22+X22 -> 0 | Z22: =$C22*$U22*$W$12 -> 0 | AB22: =Y22+Z22+AA22 -> 0 | AC22: =AB22*$Y$12 -> 0 | AF22: =$B22*$AD22*$AE22*$AF$12 -> 0 | AG22: =AF22*$AG$12 -> 0 | AH22: =AF22+AG22 -> 0 | AI22: =$C22*$AD22*$AF$12 -> 0 | AK22: =AH22+AI22+AJ22 -> 0 | AL22: =AK22*$AH$12 -> 0 | AO22: =$B22*$AM22*$AN22*$AO$12 -> 0 | AP22: =AO22*$AP$12 -> 0 | AQ22: =AO22+AP22 -> 0 | AR22: =$C22*$AM22*$AO$12 -> 0 | AT22: =AQ22+AR22+AS22 -> 0 | AU22: =AT22*$AQ$12 -> 0 | AX22: =$B22*$AV22*$AW22*$AX$12 -> 0 | AY22: =AX22*$AY$12 -> 0 | AZ22: =AX22+AY22 -> 0 | BA22: =$C22*$AV22*$AX$12 -> 0 | BC22: =AZ22+BA22+BB22 -> 0 | BD22: =BC22*$AZ$12 -> 0
A23: Pozíció10 | F23: =$B23*$D23*$E23*$F$12 -> 0 | G23: =F23*$G$12 -> 0 | H23: =F23+G23 -> 0 | I23: =$C23*$D23*$F$12 -> 0 | K23: =H23+I23+J23 -> 0 | N23: =$B23*$L23*$M23*$N$12 -> 0 | O23: =N23*$O$12 -> 0 | P23: =N23+O23 -> 0 | Q23: =$C23*$L23*$N$12 -> 0 | S23: =P23+Q23+R23 -> 0 | T23: =S23*$P$12 -> 0 | W23: =$B23*$U23*$V23*$W$12 -> 0 | X23: =W23*$X$12 -> 0 | Y23: =W23+X23 -> 0 | Z23: =$C23*$U23*$W$12 -> 0 | AB23: =Y23+Z23+AA23 -> 0 | AC23: =AB23*$Y$12 -> 0 | AF23: =$B23*$AD23*$AE23*$AF$12 -> 0 | AG23: =AF23*$AG$12 -> 0 | AH23: =AF23+AG23 -> 0 | AI23: =$C23*$AD23*$AF$12 -> 0 | AK23: =AH23+AI23+AJ23 -> 0 | AL23: =AK23*$AH$12 -> 0 | AO23: =$B23*$AM23*$AN23*$AO$12 -> 0 | AP23: =AO23*$AP$12 -> 0 | AQ23: =AO23+AP23 -> 0 | AR23: =$C23*$AM23*$AO$12 -> 0 | AT23: =AQ23+AR23+AS23 -> 0 | AU23: =AT23*$AQ$12 -> 0 | AX23: =$B23*$AV23*$AW23*$AX$12 -> 0 | AY23: =AX23*$AY$12 -> 0 | AZ23: =AX23+AY23 -> 0 | BA23: =$C23*$AV23*$AX$12 -> 0 | BC23: =AZ23+BA23+BB23 -> 0 | BD23: =BC23*$AZ$12 -> 0
A24: Pozíció11 | F24: =$B24*$D24*$E24*$F$12 -> 0 | G24: =F24*$G$12 -> 0 | H24: =F24+G24 -> 0 | I24: =$C24*$D24*$F$12 -> 0 | K24: =H24+I24+J24 -> 0 | N24: =$B24*$L24*$M24*$N$12 -> 0 | O24: =N24*$O$12 -> 0 | P24: =N24+O24 -> 0 | Q24: =$C24*$L24*$N$12 -> 0 | S24: =P24+Q24+R24 -> 0 | T24: =S24*$P$12 -> 0 | W24: =$B24*$U24*$V24*$W$12 -> 0 | X24: =W24*$X$12 -> 0 | Y24: =W24+X24 -> 0 | Z24: =$C24*$U24*$W$12 -> 0 | AB24: =Y24+Z24+AA24 -> 0 | AC24: =AB24*$Y$12 -> 0 | AF24: =$B24*$AD24*$AE24*$AF$12 -> 0 | AG24: =AF24*$AG$12 -> 0 | AH24: =AF24+AG24 -> 0 | AI24: =$C24*$AD24*$AF$12 -> 0 | AK24: =AH24+AI24+AJ24 -> 0 | AL24: =AK24*$AH$12 -> 0 | AO24: =$B24*$AM24*$AN24*$AO$12 -> 0 | AP24: =AO24*$AP$12 -> 0 | AQ24: =AO24+AP24 -> 0 | AR24: =$C24*$AM24*$AO$12 -> 0 | AT24: =AQ24+AR24+AS24 -> 0 | AU24: =AT24*$AQ$12 -> 0 | AX24: =$B24*$AV24*$AW24*$AX$12 -> 0 | AY24: =AX24*$AY$12 -> 0 | AZ24: =AX24+AY24 -> 0 | BA24: =$C24*$AV24*$AX$12 -> 0 | BC24: =AZ24+BA24+BB24 -> 0 | BD24: =BC24*$AZ$12 -> 0
A25: Pozíció12 | F25: =$B25*$D25*$E25*$F$12 -> 0 | G25: =F25*$G$12 -> 0 | H25: =F25+G25 -> 0 | I25: =$C25*$D25*$F$12 -> 0 | K25: =H25+I25+J25 -> 0 | N25: =$B25*$L25*$M25*$N$12 -> 0 | O25: =N25*$O$12 -> 0 | P25: =N25+O25 -> 0 | Q25: =$C25*$L25*$N$12 -> 0 | S25: =P25+Q25+R25 -> 0 | T25: =S25*$P$12 -> 0 | W25: =$B25*$U25*$V25*$W$12 -> 0 | X25: =W25*$X$12 -> 0 | Y25: =W25+X25 -> 0 | Z25: =$C25*$U25*$W$12 -> 0 | AB25: =Y25+Z25+AA25 -> 0 | AC25: =AB25*$Y$12 -> 0 | AF25: =$B25*$AD25*$AE25*$AF$12 -> 0 | AG25: =AF25*$AG$12 -> 0 | AH25: =AF25+AG25 -> 0 | AI25: =$C25*$AD25*$AF$12 -> 0 | AK25: =AH25+AI25+AJ25 -> 0 | AL25: =AK25*$AH$12 -> 0 | AO25: =$B25*$AM25*$AN25*$AO$12 -> 0 | AP25: =AO25*$AP$12 -> 0 | AQ25: =AO25+AP25 -> 0 | AR25: =$C25*$AM25*$AO$12 -> 0 | AT25: =AQ25+AR25+AS25 -> 0 | AU25: =AT25*$AQ$12 -> 0 | AX25: =$B25*$AV25*$AW25*$AX$12 -> 0 | AY25: =AX25*$AY$12 -> 0 | AZ25: =AX25+AY25 -> 0 | BA25: =$C25*$AV25*$AX$12 -> 0 | BC25: =AZ25+BA25+BB25 -> 0 | BD25: =BC25*$AZ$12 -> 0
... A33: Pozíció20 | F33: =$B33*$D33*$E33*$F$12 -> 0 | G33: =F33*$G$12 -> 0 | H33: =F33+G33 -> 0 | I33: =$C33*$D33*$F$12 -> 0 | K33: =H33+I33+J33 -> 0 | N33: =$B33*$L33*$M33*$N$12 -> 0 | O33: =N33*$O$12 -> 0 | P33: =N33+O33 -> 0 | Q33: =$C33*$L33*$N$12 -> 0 | S33: =P33+Q33+R33 -> 0 | T33: =S33*$P$12 -> 0 | W33: =$B33*$U33*$V33*$W$12 -> 0 | X33: =W33*$X$12 -> 0 | Y33: =W33+X33 -> 0 | Z33: =$C33*$U33*$W$12 -> 0 | AB33: =Y33+Z33+AA33 -> 0 | AC33: =AB33*$Y$12 -> 0 | AF33: =$B33*$AD33*$AE33*$AF$12 -> 0 | AG33: =AF33*$AG$12 -> 0 | AH33: =AF33+AG33 -> 0 | AI33: =$C33*$AD33*$AF$12 -> 0 | AK33: =AH33+AI33+AJ33 -> 0 | AL33: =AK33*$AH$12 -> 0 | AO33: =$B33*$AM33*$AN33*$AO$12 -> 0 | AP33: =AO33*$AP$12 -> 0 | AQ33: =AO33+AP33 -> 0 | AR33: =$C33*$AM33*$AO$12 -> 0 | AT33: =AQ33+AR33+AS33 -> 0 | AU33: =AT33*$AQ$12 -> 0 | AX33: =$B33*$AV33*$AW33*$AX$12 -> 0 | AY33: =AX33*$AY$12 -> 0 | AZ33: =AX33+AY33 -> 0 | BA33: =$C33*$AV33*$AX$12 -> 0 | BC33: =AZ33+BA33+BB33 -> 0 | BD33: =BC33*$AZ$12 -> 0
A34: ÖSSZESEN | D34: =SUM(D14:D33) -> 0 | F34: =SUM(F14:F33) -> 0 | G34: =SUM(G14:G33) -> 0 | H34: =SUM(H14:H33) -> 0 | I34: =SUM(I14:I33) -> 0 | J34: =SUM(J14:J33) -> 0 | K34: =SUM(K14:K33) -> 0 | L34: =SUM(L14:L33) -> 0 | N34: =SUM(N14:N33) -> 0 | O34: =SUM(O14:O33) -> 0 | P34: =SUM(P14:P33) -> 0 | Q34: =SUM(Q14:Q33) -> 0 | R34: =SUM(R14:R33) -> 0 | S34: =SUM(S14:S33) -> 0 | T34: =SUM(T14:T33) -> 0 | U34: =SUM(U14:U33) -> 0 | W34: =SUM(W14:W33) -> 0 | X34: =SUM(X14:X33) -> 0 | Y34: =SUM(Y14:Y33) -> 0 | Z34: =SUM(Z14:Z33) -> 0 | AA34: =SUM(AA14:AA33) -> 0 | AB34: =SUM(AB14:AB33) -> 0 | AC34: =SUM(AC14:AC33) -> 0 | AD34: =SUM(AD14:AD33) -> 0 | AF34: =SUM(AF14:AF33) -> 0 | AG34: =SUM(AG14:AG33) -> 0 | AH34: =SUM(AH14:AH33) -> 0 | AI34: =SUM(AI14:AI33) -> 0 | AJ34: =SUM(AJ14:AJ33) -> 0 | AK34: =SUM(AK14:AK33) -> 0 | AL34: =SUM(AL14:AL33) -> 0 | AM34: =SUM(AM14:AM33) -> 0 | AO34: =SUM(AO14:AO33) -> 0 | AP34: =SUM(AP14:AP33) -> 0 | AQ34: =SUM(AQ14:AQ33) -> 0 | AR34: =SUM(AR14:AR33) -> 0 | AS34: =SUM(AS14:AS33) -> 0 | AT34: =SUM(AT14:AT33) -> 0 | AU34: =SUM(AU14:AU33) -> 0 | AV34: =SUM(AV14:AV33) -> 0 | AX34: =SUM(AX14:AX33) -> 0 | AY34: =SUM(AY14:AY33) -> 0 | AZ34: =SUM(AZ14:AZ33) -> 0 | BA34: =SUM(BA14:BA33) -> 0 | BB34: =SUM(BB14:BB33) -> 0 | BC34: =SUM(BC14:BC33) -> 0 | BD34: =SUM(BD14:BD33) -> 0
A38: SZEMÉLYI JELLEGŰ RÁFORDÍTÁSOK - DOLGOZÓK, OKTATÓK Megbízási jogviszony (magánszemély vagy vállalkozó) esetén | F38: 0. év | G38: ='Bemeneti adatok'!E18 -> 1900 | H38: járulék szorzó | L38: 1. év | M38: ='Bemeneti adatok'!$F$18 -> 1901 | N38: járulék szorzó | O38: kumulált reálbér index | S38: 2. év | T38: ='Bemeneti adatok'!$G$18 -> 1902 | U38: járulék szorzó | V38: kumulált reálbér index | Z38: 3. év | AA38: ='Bemeneti adatok'!$H$18 -> 1903 | AB38: járulék szorzó | AC38: kumulált reálbér index | AG38: 4. év | AH38: ='Bemeneti adatok'!$I$18 -> 1904 | AI38: járulék szorzó | AJ38: kumulált reálbér index | AN38: 5. év | AO38: ='Bemeneti adatok'!$J$18 -> 1905 | AP38: járulék szorzó | AQ38: kumulált reálbér index
H39: ='Bemeneti adatok'!$E$26 -> 0.13 | N39: ='Bemeneti adatok'!$E$26 -> 0.13 | O39: ='Bemeneti adatok'!$F$22 -> 1.122 | U39: ='Bemeneti adatok'!$E$26 -> 0.13 | V39: ='Bemeneti adatok'!$G$22 -> 1.253274 | AB39: ='Bemeneti adatok'!$E$26 -> 0.13 | AC39: ='Bemeneti adatok'!$H$22 -> 1.3936407 | AI39: ='Bemeneti adatok'!$E$26 -> 0.13 | AJ39: ='Bemeneti adatok'!$I$22 -> 1.5427602 | AP39: ='Bemeneti adatok'!$E$26 -> 0.13 | AQ39: ='Bemeneti adatok'!$J$22 -> 1.7001218
A40: Pozíció | B40: Magánszemély/ vállalkozó | C40: Bruttó megbízási díj/fő/hó (Ft) | D40: Költséghányad (%) | E40: Jövedelem/fő/hó (Ft) | F40: Létszám (fő) | G40: Megbízási szerződéssel érintett hónapok száma/év | H40: Összes bruttó megbízási díj (Ft) | I40: Összes jövedelem (Ft) | J40: Összes járulék | K40: Összesen (Ft) | L40: Létszám (fő) | M40: Megbízási szerződéssel érintett hónapok száma/év | N40: Összes bruttó megbízási díj (Ft) | O40: Összes jövedelem (Ft) | P40: Összes járulék | Q40: Összesen (Ft) | R40: Összesen (Ft) kumulált reálbér indexszel növelve | S40: Létszám (fő) | T40: Megbízási szerződéssel érintett hónapok száma/év | U40: Összes bruttó megbízási díj (Ft) | V40: Összes jövedelem (Ft) | W40: Összes járulék | X40: Összesen (Ft) | Y40: Összesen (Ft) kumulált reálbér indexszel növelve | Z40: Létszám (fő) | AA40: Megbízási szerződéssel érintett hónapok száma/év | AB40: Összes bruttó megbízási díj (Ft) | AC40: Összes jövedelem (Ft) | AD40: Összes járulék | AE40: Összesen (Ft) | AF40: Összesen (Ft) kumulált reálbér indexszel növelve | AG40: Létszám (fő) | AH40: Megbízási szerződéssel érintett hónapok száma/év | AI40: Összes bruttó megbízási díj (Ft) | AJ40: Összes jövedelem (Ft) | AK40: Összes járulék | AL40: Összesen (Ft) | AM40: Összesen (Ft) kumulált reálbér indexszel növelve | AN40: Létszám (fő) | AO40: Megbízási szerződéssel érintett hónapok száma/év | AP40: Összes bruttó megbízási díj (Ft) | AQ40: Összes jövedelem (Ft) | AR40: Összes járulék | AS40: Összesen (Ft) | AT40: Összesen (Ft) kumulált reálbér indexszel növelve
A41: Pozíció1 | E41: =C41*D41 -> 0 | H41: =$C41*F41*G41 -> 0 | I41: =$E41*F41*G41 -> 0 | J41: =IF($B41="magánszemély",I41*$H$39,0) -> 0 | K41: =H41+J41 -> 0 | N41: =$C41*L41*M41 -> 0 | O41: =$E41*L41*M41 -> 0 | P41: =IF($B41="magánszemély",O41*$N$39,0) -> 0 | Q41: =N41+P41 -> 0 | R41: =Q41*$O$39 -> 0 | U41: =$C41*S41*T41 -> 0 | V41: =$E41*S41*T41 -> 0 | W41: =IF($B41="magánszemély",V41*$U$39,0) -> 0 | X41: =U41+W41 -> 0 | Y41: =X41*$V$39 -> 0 | AB41: =$C41*Z41*AA41 -> 0 | AC41: =$E41*Z41*AA41 -> 0 | AD41: =IF($B41="magánszemély",AC41*$AB$39,0) -> 0 | AE41: =AB41+AD41 -> 0 | AF41: =AE41*$AC$39 -> 0 | AI41: =$C41*AG41*AH41 -> 0 | AJ41: =$E41*AG41*AH41 -> 0 | AK41: =IF($B41="magánszemély",AJ41*$AI$39,0) -> 0 | AL41: =AI41+AK41 -> 0 | AM41: =AL41*$AJ$39 -> 0 | AP41: =$C41*AN41*AO41 -> 0 | AQ41: =$E41*AN41*AO41 -> 0 | AR41: =IF($B41="magánszemély",AQ41*$AP$39,0) -> 0 | AS41: =AP41+AR41 -> 0 | AT41: =AS41*$AQ$39 -> 0
A42: Pozíció2 | E42: =C42*D42 -> 0 | H42: =$C42*F42*G42 -> 0 | I42: =$E42*F42*G42 -> 0 | J42: =IF($B42="magánszemély",I42*$H$39,0) -> 0 | K42: =H42+J42 -> 0 | N42: =$C42*L42*M42 -> 0 | O42: =$E42*L42*M42 -> 0 | P42: =IF($B42="magánszemély",O42*$N$39,0) -> 0 | Q42: =N42+P42 -> 0 | R42: =Q42*$O$39 -> 0 | U42: =$C42*S42*T42 -> 0 | V42: =$E42*S42*T42 -> 0 | W42: =IF($B42="magánszemély",V42*$U$39,0) -> 0 | X42: =U42+W42 -> 0 | Y42: =X42*$V$39 -> 0 | AB42: =$C42*Z42*AA42 -> 0 | AC42: =$E42*Z42*AA42 -> 0 | AD42: =IF($B42="magánszemély",AC42*$AB$39,0) -> 0 | AE42: =AB42+AD42 -> 0 | AF42: =AE42*$AC$39 -> 0 | AI42: =$C42*AG42*AH42 -> 0 | AJ42: =$E42*AG42*AH42 -> 0 | AK42: =IF($B42="magánszemély",AJ42*$AI$39,0) -> 0 | AL42: =AI42+AK42 -> 0 | AM42: =AL42*$AJ$39 -> 0 | AP42: =$C42*AN42*AO42 -> 0 | AQ42: =$E42*AN42*AO42 -> 0 | AR42: =IF($B42="magánszemély",AQ42*$AP$39,0) -> 0 | AS42: =AP42+AR42 -> 0 | AT42: =AS42*$AQ$39 -> 0
A43: Pozíció3 | E43: =C43*D43 -> 0 | H43: =$C43*F43*G43 -> 0 | I43: =$E43*F43*G43 -> 0 | J43: =IF($B43="magánszemély",I43*$H$39,0) -> 0 | K43: =H43+J43 -> 0 | N43: =$C43*L43*M43 -> 0 | O43: =$E43*L43*M43 -> 0 | P43: =IF($B43="magánszemély",O43*$N$39,0) -> 0 | Q43: =N43+P43 -> 0 | R43: =Q43*$O$39 -> 0 | U43: =$C43*S43*T43 -> 0 | V43: =$E43*S43*T43 -> 0 | W43: =IF($B43="magánszemély",V43*$U$39,0) -> 0 | X43: =U43+W43 -> 0 | Y43: =X43*$V$39 -> 0 | AB43: =$C43*Z43*AA43 -> 0 | AC43: =$E43*Z43*AA43 -> 0 | AD43: =IF($B43="magánszemély",AC43*$AB$39,0) -> 0 | AE43: =AB43+AD43 -> 0 | AF43: =AE43*$AC$39 -> 0 | AI43: =$C43*AG43*AH43 -> 0 | AJ43: =$E43*AG43*AH43 -> 0 | AK43: =IF($B43="magánszemély",AJ43*$AI$39,0) -> 0 | AL43: =AI43+AK43 -> 0 | AM43: =AL43*$AJ$39 -> 0 | AP43: =$C43*AN43*AO43 -> 0 | AQ43: =$E43*AN43*AO43 -> 0 | AR43: =IF($B43="magánszemély",AQ43*$AP$39,0) -> 0 | AS43: =AP43+AR43 -> 0 | AT43: =AS43*$AQ$39 -> 0
A44: Pozíció4 | E44: =C44*D44 -> 0 | H44: =$C44*F44*G44 -> 0 | I44: =$E44*F44*G44 -> 0 | J44: =IF($B44="magánszemély",I44*$H$39,0) -> 0 | K44: =H44+J44 -> 0 | N44: =$C44*L44*M44 -> 0 | O44: =$E44*L44*M44 -> 0 | P44: =IF($B44="magánszemély",O44*$N$39,0) -> 0 | Q44: =N44+P44 -> 0 | R44: =Q44*$O$39 -> 0 | U44: =$C44*S44*T44 -> 0 | V44: =$E44*S44*T44 -> 0 | W44: =IF($B44="magánszemély",V44*$U$39,0) -> 0 | X44: =U44+W44 -> 0 | Y44: =X44*$V$39 -> 0 | AB44: =$C44*Z44*AA44 -> 0 | AC44: =$E44*Z44*AA44 -> 0 | AD44: =IF($B44="magánszemély",AC44*$AB$39,0) -> 0 | AE44: =AB44+AD44 -> 0 | AF44: =AE44*$AC$39 -> 0 | AI44: =$C44*AG44*AH44 -> 0 | AJ44: =$E44*AG44*AH44 -> 0 | AK44: =IF($B44="magánszemély",AJ44*$AI$39,0) -> 0 | AL44: =AI44+AK44 -> 0 | AM44: =AL44*$AJ$39 -> 0 | AP44: =$C44*AN44*AO44 -> 0 | AQ44: =$E44*AN44*AO44 -> 0 | AR44: =IF($B44="magánszemély",AQ44*$AP$39,0) -> 0 | AS44: =AP44+AR44 -> 0 | AT44: =AS44*$AQ$39 -> 0
A45: Pozíció5 | E45: =C45*D45 -> 0 | H45: =$C45*F45*G45 -> 0 | I45: =$E45*F45*G45 -> 0 | J45: =IF($B45="magánszemély",I45*$H$39,0) -> 0 | K45: =H45+J45 -> 0 | N45: =$C45*L45*M45 -> 0 | O45: =$E45*L45*M45 -> 0 | P45: =IF($B45="magánszemély",O45*$N$39,0) -> 0 | Q45: =N45+P45 -> 0 | R45: =Q45*$O$39 -> 0 | U45: =$C45*S45*T45 -> 0 | V45: =$E45*S45*T45 -> 0 | W45: =IF($B45="magánszemély",V45*$U$39,0) -> 0 | X45: =U45+W45 -> 0 | Y45: =X45*$V$39 -> 0 | AB45: =$C45*Z45*AA45 -> 0 | AC45: =$E45*Z45*AA45 -> 0 | AD45: =IF($B45="magánszemély",AC45*$AB$39,0) -> 0 | AE45: =AB45+AD45 -> 0 | AF45: =AE45*$AC$39 -> 0 | AI45: =$C45*AG45*AH45 -> 0 | AJ45: =$E45*AG45*AH45 -> 0 | AK45: =IF($B45="magánszemély",AJ45*$AI$39,0) -> 0 | AL45: =AI45+AK45 -> 0 | AM45: =AL45*$AJ$39 -> 0 | AP45: =$C45*AN45*AO45 -> 0 | AQ45: =$E45*AN45*AO45 -> 0 | AR45: =IF($B45="magánszemély",AQ45*$AP$39,0) -> 0 | AS45: =AP45+AR45 -> 0 | AT45: =AS45*$AQ$39 -> 0
A46: Pozíció6 | E46: =C46*D46 -> 0 | H46: =$C46*F46*G46 -> 0 | I46: =$E46*F46*G46 -> 0 | J46: =IF($B46="magánszemély",I46*$H$39,0) -> 0 | K46: =H46+J46 -> 0 | N46: =$C46*L46*M46 -> 0 | O46: =$E46*L46*M46 -> 0 | P46: =IF($B46="magánszemély",O46*$N$39,0) -> 0 | Q46: =N46+P46 -> 0 | R46: =Q46*$O$39 -> 0 | U46: =$C46*S46*T46 -> 0 | V46: =$E46*S46*T46 -> 0 | W46: =IF($B46="magánszemély",V46*$U$39,0) -> 0 | X46: =U46+W46 -> 0 | Y46: =X46*$V$39 -> 0 | AB46: =$C46*Z46*AA46 -> 0 | AC46: =$E46*Z46*AA46 -> 0 | AD46: =IF($B46="magánszemély",AC46*$AB$39,0) -> 0 | AE46: =AB46+AD46 -> 0 | AF46: =AE46*$AC$39 -> 0 | AI46: =$C46*AG46*AH46 -> 0 | AJ46: =$E46*AG46*AH46 -> 0 | AK46: =IF($B46="magánszemély",AJ46*$AI$39,0) -> 0 | AL46: =AI46+AK46 -> 0 | AM46: =AL46*$AJ$39 -> 0 | AP46: =$C46*AN46*AO46 -> 0 | AQ46: =$E46*AN46*AO46 -> 0 | AR46: =IF($B46="magánszemély",AQ46*$AP$39,0) -> 0 | AS46: =AP46+AR46 -> 0 | AT46: =AS46*$AQ$39 -> 0
A47: Pozíció7 | E47: =C47*D47 -> 0 | H47: =$C47*F47*G47 -> 0 | I47: =$E47*F47*G47 -> 0 | J47: =IF($B47="magánszemély",I47*$H$39,0) -> 0 | K47: =H47+J47 -> 0 | N47: =$C47*L47*M47 -> 0 | O47: =$E47*L47*M47 -> 0 | P47: =IF($B47="magánszemély",O47*$N$39,0) -> 0 | Q47: =N47+P47 -> 0 | R47: =Q47*$O$39 -> 0 | U47: =$C47*S47*T47 -> 0 | V47: =$E47*S47*T47 -> 0 | W47: =IF($B47="magánszemély",V47*$U$39,0) -> 0 | X47: =U47+W47 -> 0 | Y47: =X47*$V$39 -> 0 | AB47: =$C47*Z47*AA47 -> 0 | AC47: =$E47*Z47*AA47 -> 0 | AD47: =IF($B47="magánszemély",AC47*$AB$39,0) -> 0 | AE47: =AB47+AD47 -> 0 | AF47: =AE47*$AC$39 -> 0 | AI47: =$C47*AG47*AH47 -> 0 | AJ47: =$E47*AG47*AH47 -> 0 | AK47: =IF($B47="magánszemély",AJ47*$AI$39,0) -> 0 | AL47: =AI47+AK47 -> 0 | AM47: =AL47*$AJ$39 -> 0 | AP47: =$C47*AN47*AO47 -> 0 | AQ47: =$E47*AN47*AO47 -> 0 | AR47: =IF($B47="magánszemély",AQ47*$AP$39,0) -> 0 | AS47: =AP47+AR47 -> 0 | AT47: =AS47*$AQ$39 -> 0
A48: Pozíció8 | E48: =C48*D48 -> 0 | H48: =$C48*F48*G48 -> 0 | I48: =$E48*F48*G48 -> 0 | J48: =IF($B48="magánszemély",I48*$H$39,0) -> 0 | K48: =H48+J48 -> 0 | N48: =$C48*L48*M48 -> 0 | O48: =$E48*L48*M48 -> 0 | P48: =IF($B48="magánszemély",O48*$N$39,0) -> 0 | Q48: =N48+P48 -> 0 | R48: =Q48*$O$39 -> 0 | U48: =$C48*S48*T48 -> 0 | V48: =$E48*S48*T48 -> 0 | W48: =IF($B48="magánszemély",V48*$U$39,0) -> 0 | X48: =U48+W48 -> 0 | Y48: =X48*$V$39 -> 0 | AB48: =$C48*Z48*AA48 -> 0 | AC48: =$E48*Z48*AA48 -> 0 | AD48: =IF($B48="magánszemély",AC48*$AB$39,0) -> 0 | AE48: =AB48+AD48 -> 0 | AF48: =AE48*$AC$39 -> 0 | AI48: =$C48*AG48*AH48 -> 0 | AJ48: =$E48*AG48*AH48 -> 0 | AK48: =IF($B48="magánszemély",AJ48*$AI$39,0) -> 0 | AL48: =AI48+AK48 -> 0 | AM48: =AL48*$AJ$39 -> 0 | AP48: =$C48*AN48*AO48 -> 0 | AQ48: =$E48*AN48*AO48 -> 0 | AR48: =IF($B48="magánszemély",AQ48*$AP$39,0) -> 0 | AS48: =AP48+AR48 -> 0 | AT48: =AS48*$AQ$39 -> 0
A49: Pozíció9 | E49: =C49*D49 -> 0 | H49: =$C49*F49*G49 -> 0 | I49: =$E49*F49*G49 -> 0 | J49: =IF($B49="magánszemély",I49*$H$39,0) -> 0 | K49: =H49+J49 -> 0 | N49: =$C49*L49*M49 -> 0 | O49: =$E49*L49*M49 -> 0 | P49: =IF($B49="magánszemély",O49*$N$39,0) -> 0 | Q49: =N49+P49 -> 0 | R49: =Q49*$O$39 -> 0 | U49: =$C49*S49*T49 -> 0 | V49: =$E49*S49*T49 -> 0 | W49: =IF($B49="magánszemély",V49*$U$39,0) -> 0 | X49: =U49+W49 -> 0 | Y49: =X49*$V$39 -> 0 | AB49: =$C49*Z49*AA49 -> 0 | AC49: =$E49*Z49*AA49 -> 0 | AD49: =IF($B49="magánszemély",AC49*$AB$39,0) -> 0 | AE49: =AB49+AD49 -> 0 | AF49: =AE49*$AC$39 -> 0 | AI49: =$C49*AG49*AH49 -> 0 | AJ49: =$E49*AG49*AH49 -> 0 | AK49: =IF($B49="magánszemély",AJ49*$AI$39,0) -> 0 | AL49: =AI49+AK49 -> 0 | AM49: =AL49*$AJ$39 -> 0 | AP49: =$C49*AN49*AO49 -> 0 | AQ49: =$E49*AN49*AO49 -> 0 | AR49: =IF($B49="magánszemély",AQ49*$AP$39,0) -> 0 | AS49: =AP49+AR49 -> 0 | AT49: =AS49*$AQ$39 -> 0
A50: Pozíció10 | E50: =C50*D50 -> 0 | H50: =$C50*F50*G50 -> 0 | I50: =$E50*F50*G50 -> 0 | J50: =IF($B50="magánszemély",I50*$H$39,0) -> 0 | K50: =H50+J50 -> 0 | N50: =$C50*L50*M50 -> 0 | O50: =$E50*L50*M50 -> 0 | P50: =IF($B50="magánszemély",O50*$N$39,0) -> 0 | Q50: =N50+P50 -> 0 | R50: =Q50*$O$39 -> 0 | U50: =$C50*S50*T50 -> 0 | V50: =$E50*S50*T50 -> 0 | W50: =IF($B50="magánszemély",V50*$U$39,0) -> 0 | X50: =U50+W50 -> 0 | Y50: =X50*$V$39 -> 0 | AB50: =$C50*Z50*AA50 -> 0 | AC50: =$E50*Z50*AA50 -> 0 | AD50: =IF($B50="magánszemély",AC50*$AB$39,0) -> 0 | AE50: =AB50+AD50 -> 0 | AF50: =AE50*$AC$39 -> 0 | AI50: =$C50*AG50*AH50 -> 0 | AJ50: =$E50*AG50*AH50 -> 0 | AK50: =IF($B50="magánszemély",AJ50*$AI$39,0) -> 0 | AL50: =AI50+AK50 -> 0 | AM50: =AL50*$AJ$39 -> 0 | AP50: =$C50*AN50*AO50 -> 0 | AQ50: =$E50*AN50*AO50 -> 0 | AR50: =IF($B50="magánszemély",AQ50*$AP$39,0) -> 0 | AS50: =AP50+AR50 -> 0 | AT50: =AS50*$AQ$39 -> 0
A51: Pozíció11 | E51: =C51*D51 -> 0 | H51: =$C51*F51*G51 -> 0 | I51: =$E51*F51*G51 -> 0 | J51: =IF($B51="magánszemély",I51*$H$39,0) -> 0 | K51: =H51+J51 -> 0 | N51: =$C51*L51*M51 -> 0 | O51: =$E51*L51*M51 -> 0 | P51: =IF($B51="magánszemély",O51*$N$39,0) -> 0 | Q51: =N51+P51 -> 0 | R51: =Q51*$O$39 -> 0 | U51: =$C51*S51*T51 -> 0 | V51: =$E51*S51*T51 -> 0 | W51: =IF($B51="magánszemély",V51*$U$39,0) -> 0 | X51: =U51+W51 -> 0 | Y51: =X51*$V$39 -> 0 | AB51: =$C51*Z51*AA51 -> 0 | AC51: =$E51*Z51*AA51 -> 0 | AD51: =IF($B51="magánszemély",AC51*$AB$39,0) -> 0 | AE51: =AB51+AD51 -> 0 | AF51: =AE51*$AC$39 -> 0 | AI51: =$C51*AG51*AH51 -> 0 | AJ51: =$E51*AG51*AH51 -> 0 | AK51: =IF($B51="magánszemély",AJ51*$AI$39,0) -> 0 | AL51: =AI51+AK51 -> 0 | AM51: =AL51*$AJ$39 -> 0 | AP51: =$C51*AN51*AO51 -> 0 | AQ51: =$E51*AN51*AO51 -> 0 | AR51: =IF($B51="magánszemély",AQ51*$AP$39,0) -> 0 | AS51: =AP51+AR51 -> 0 | AT51: =AS51*$AQ$39 -> 0
A52: Pozíció12 | E52: =C52*D52 -> 0 | H52: =$C52*F52*G52 -> 0 | I52: =$E52*F52*G52 -> 0 | J52: =IF($B52="magánszemély",I52*$H$39,0) -> 0 | K52: =H52+J52 -> 0 | N52: =$C52*L52*M52 -> 0 | O52: =$E52*L52*M52 -> 0 | P52: =IF($B52="magánszemély",O52*$N$39,0) -> 0 | Q52: =N52+P52 -> 0 | R52: =Q52*$O$39 -> 0 | U52: =$C52*S52*T52 -> 0 | V52: =$E52*S52*T52 -> 0 | W52: =IF($B52="magánszemély",V52*$U$39,0) -> 0 | X52: =U52+W52 -> 0 | Y52: =X52*$V$39 -> 0 | AB52: =$C52*Z52*AA52 -> 0 | AC52: =$E52*Z52*AA52 -> 0 | AD52: =IF($B52="magánszemély",AC52*$AB$39,0) -> 0 | AE52: =AB52+AD52 -> 0 | AF52: =AE52*$AC$39 -> 0 | AI52: =$C52*AG52*AH52 -> 0 | AJ52: =$E52*AG52*AH52 -> 0 | AK52: =IF($B52="magánszemély",AJ52*$AI$39,0) -> 0 | AL52: =AI52+AK52 -> 0 | AM52: =AL52*$AJ$39 -> 0 | AP52: =$C52*AN52*AO52 -> 0 | AQ52: =$E52*AN52*AO52 -> 0 | AR52: =IF($B52="magánszemély",AQ52*$AP$39,0) -> 0 | AS52: =AP52+AR52 -> 0 | AT52: =AS52*$AQ$39 -> 0
... A60: Pozíció20 | E60: =C60*D60 -> 0 | H60: =$C60*F60*G60 -> 0 | I60: =$E60*F60*G60 -> 0 | J60: =IF($B60="magánszemély",I60*$H$39,0) -> 0 | K60: =H60+J60 -> 0 | N60: =$C60*L60*M60 -> 0 | O60: =$E60*L60*M60 -> 0 | P60: =IF($B60="magánszemély",O60*$N$39,0) -> 0 | Q60: =N60+P60 -> 0 | R60: =Q60*$O$39 -> 0 | U60: =$C60*S60*T60 -> 0 | V60: =$E60*S60*T60 -> 0 | W60: =IF($B60="magánszemély",V60*$U$39,0) -> 0 | X60: =U60+W60 -> 0 | Y60: =X60*$V$39 -> 0 | AB60: =$C60*Z60*AA60 -> 0 | AC60: =$E60*Z60*AA60 -> 0 | AD60: =IF($B60="magánszemély",AC60*$AB$39,0) -> 0 | AE60: =AB60+AD60 -> 0 | AF60: =AE60*$AC$39 -> 0 | AI60: =$C60*AG60*AH60 -> 0 | AJ60: =$E60*AG60*AH60 -> 0 | AK60: =IF($B60="magánszemély",AJ60*$AI$39,0) -> 0 | AL60: =AI60+AK60 -> 0 | AM60: =AL60*$AJ$39 -> 0 | AP60: =$C60*AN60*AO60 -> 0 | AQ60: =$E60*AN60*AO60 -> 0 | AR60: =IF($B60="magánszemély",AQ60*$AP$39,0) -> 0 | AS60: =AP60+AR60 -> 0 | AT60: =AS60*$AQ$39 -> 0
A61: ÖSSZESEN | F61: =SUM(F41:F60) -> 0 | H61: =SUM(H41:H60) -> 0 | I61: =SUM(I41:I60) -> 0 | J61: =SUM(J41:J60) -> 0 | K61: =SUM(K41:K60) -> 0 | L61: =SUM(L41:L60) -> 0 | N61: =SUM(N41:N60) -> 0 | O61: =SUM(O41:O60) -> 0 | P61: =SUM(P41:P60) -> 0 | Q61: =SUM(Q41:Q60) -> 0 | R61: =SUM(R41:R60) -> 0 | S61: =SUM(S41:S60) -> 0 | U61: =SUM(U41:U60) -> 0 | V61: =SUM(V41:V60) -> 0 | W61: =SUM(W41:W60) -> 0 | X61: =SUM(X41:X60) -> 0 | Y61: =SUM(Y41:Y60) -> 0 | Z61: =SUM(Z41:Z60) -> 0 | AB61: =SUM(AB41:AB60) -> 0 | AC61: =SUM(AC41:AC60) -> 0 | AD61: =SUM(AD41:AD60) -> 0 | AE61: =SUM(AE41:AE60) -> 0 | AF61: =SUM(AF41:AF60) -> 0 | AG61: =SUM(AG41:AG60) -> 0 | AI61: =SUM(AI41:AI60) -> 0 | AJ61: =SUM(AJ41:AJ60) -> 0 | AK61: =SUM(AK41:AK60) -> 0 | AL61: =SUM(AL41:AL60) -> 0 | AM61: =SUM(AM41:AM60) -> 0 | AN61: =SUM(AN41:AN60) -> 0 | AP61: =SUM(AP41:AP60) -> 0 | AQ61: =SUM(AQ41:AQ60) -> 0 | AR61: =SUM(AR41:AR60) -> 0 | AS61: =SUM(AS41:AS60) -> 0 | AT61: =SUM(AT41:AT60) -> 0
D65: 0. év | E65: 1. év | F65: 2. év | G65: 3. év | H65: 4. év | I65: 5. év
D66: ='Bemeneti adatok'!E18 -> 1900 | E66: ='Bemeneti adatok'!F18 -> 1901 | F66: ='Bemeneti adatok'!G18 -> 1902 | G66: ='Bemeneti adatok'!H18 -> 1903 | H66: ='Bemeneti adatok'!I18 -> 1904 | I66: ='Bemeneti adatok'!J18 -> 1905
C67: Kumulált infláció | D67: ='Bemeneti adatok'!E20 -> 1 | E67: ='Bemeneti adatok'!F20 -> 1.035 | F67: ='Bemeneti adatok'!G20 -> 1.071225 | G67: ='Bemeneti adatok'!H20 -> 1.1033617 | H67: ='Bemeneti adatok'!I20 -> 1.1364626 | I67: ='Bemeneti adatok'!J20 -> 1.1705565
A68: TOVÁBBI KÖLTSÉGEK | B68: Költségkategória | C68: 1 tanulóra, hallgatóra jutó éves bruttó egységköltség (Ft) vagy havi bruttó költség | D68: 0. évre kalkulált költség (Ft) | E68: 1. évre kalkulált költség inflációs indexszel növelve (Ft) | F68: 2. évre kalkulált költség inflációs indexszel növelve (Ft) | G68: 3. évre kalkulált költség inflációs indexszel növelve (Ft) | H68: 4. évre kalkulált költség inflációs indexszel növelve (Ft) | I68: 5. évre kalkulált költség inflációs indexszel növelve (Ft)
A69: Anyag/segédanyag | B69: Anyagjellegű ráfordítások | D69: =($C69/12)*$F$12*$E$122 -> 0 | E69: =$C69*$J$122*E$67 -> 0 | F69: =$C69*$P$122*F$67 -> 0 | G69: =$C69*$V$122*G$67 -> 0 | H69: =$C69*$AB$122*H$67 -> 0 | I69: =$C69*$AH$122*I$67 -> 0
A70: Munkafelszerelés | B70: Anyagjellegű ráfordítások | D70: =$C70*$E$122 -> 0 | E70: =$C70*$J$122*E$67 -> 0 | F70: =$C70*$P$122*F$67 -> 0 | G70: =$C70*$V$122*G$67 -> 0 | H70: =$C70*$AB$122*H$67 -> 0 | I70: =$C70*$AH$122*I$67 -> 0
A71: Éves üzemorvosi vizsgálat | B71: Egyéb nem bérjellegű kifizetések | D71: =$C71*$E$122 -> 0 | E71: =$C71*$J$122*E$67 -> 0 | F71: =$C71*$P$122*F$67 -> 0 | G71: =$C71*$V$122*G$67 -> 0 | H71: =$C71*$AB$122*H$67 -> 0 | I71: =$C71*$AH$122*I$67 -> 0
A72: Tanulók felelősség biztosítása | B72: Egyéb nem bérjellegű kifizetések | D72: =($C72/12)*$F$12*$E$122 -> 0 | E72: =$C72*$J$122*E$67 -> 0 | F72: =$C72*$P$122*F$67 -> 0 | G72: =$C72*$V$122*G$67 -> 0 | H72: =$C72*$AB$122*H$67 -> 0 | I72: =$C72*$AH$122*I$67 -> 0
A73: 1. egyéb, tanulókhoz kapcsolódó kiadás | D73: =($C73/12)*$F$12*$E$122 -> 0 | E73: =$C73*$J$122*E$67 -> 0 | F73: =$C73*$P$122*F$67 -> 0 | G73: =$C73*$V$122*G$67 -> 0 | H73: =$C73*$AB$122*H$67 -> 0 | I73: =$C73*$AH$122*I$67 -> 0
A74: 2. egyéb, tanulókhoz kapcsolódó kiadás | D74: =($C74/12)*$F$12*$E$122 -> 0 | E74: =$C74*$J$122*E$67 -> 0 | F74: =$C74*$P$122*F$67 -> 0 | G74: =$C74*$V$122*G$67 -> 0 | H74: =$C74*$AB$122*H$67 -> 0 | I74: =$C74*$AH$122*I$67 -> 0
A75: 3. egyéb, tanulókhoz kapcsolódó kiadás | D75: =($C75/12)*$F$12*$E$122 -> 0 | E75: =$C75*$J$122*E$67 -> 0 | F75: =$C75*$P$122*F$67 -> 0 | G75: =$C75*$V$122*G$67 -> 0 | H75: =$C75*$AB$122*H$67 -> 0 | I75: =$C75*$AH$122*I$67 -> 0
A76: 4. egyéb, tanulókhoz kapcsolódó kiadás | D76: =($C76/12)*$F$12*$E$122 -> 0 | E76: =$C76*$J$122*E$67 -> 0 | F76: =$C76*$P$122*F$67 -> 0 | G76: =$C76*$V$122*G$67 -> 0 | H76: =$C76*$AB$122*H$67 -> 0 | I76: =$C76*$AH$122*I$67 -> 0
A77: 5. egyéb, tanulókhoz kapcsolódó kiadás | D77: =($C77/12)*$F$12*$E$122 -> 0 | E77: =$C77*$J$122*E$67 -> 0 | F77: =$C77*$P$122*F$67 -> 0 | G77: =$C77*$V$122*G$67 -> 0 | H77: =$C77*$AB$122*H$67 -> 0 | I77: =$C77*$AH$122*I$67 -> 0
A78: 6. egyéb, tanulókhoz kapcsolódó kiadás | D78: =($C78/12)*$F$12*$E$122 -> 0 | E78: =$C78*$J$122*E$67 -> 0 | F78: =$C78*$P$122*F$67 -> 0 | G78: =$C78*$V$122*G$67 -> 0 | H78: =$C78*$AB$122*H$67 -> 0 | I78: =$C78*$AH$122*I$67 -> 0
A79: Cégalapítás költsége ügyvédi díj | B79: Igénybevett szolgáltatások
A80: Cégalapítás költsége: eljárási díj | B80: Egyéb szolgáltatás
A81: Közüzemi díjak | B81: Igénybevett szolgáltatások | D81: =C81*$F$12 -> 0 | E81: =C81*12*$E$67 -> 0 | F81: =C81*12*$F$67 -> 0 | G81: =C81*12*$G$67 -> 0 | H81: =C81*12*$H$67 -> 0 | I81: =C81*12*$I$67 -> 0
A82: Egyéb üzemeltetési költség | B82: Igénybevett szolgáltatások | D82: =C82*$F$12 -> 0 | E82: =C82*12*$E$67 -> 0 | F82: =C82*12*$F$67 -> 0 | G82: =C82*12*$G$67 -> 0 | H82: =C82*12*$H$67 -> 0 | I82: =C82*12*$I$67 -> 0
A83: Irodaszer | B83: Anyagjellegű ráfordítások | D83: =C83*$F$12 -> 0 | E83: =C83*12*$E$67 -> 0 | F83: =C83*12*$F$67 -> 0 | G83: =C83*12*$G$67 -> 0 | H83: =C83*12*$H$67 -> 0 | I83: =C83*12*$I$67 -> 0
A84: Reklám/Marketing költség | B84: Igénybevett szolgáltatások | D84: =C84*$F$12 -> 0 | E84: =C84*12*$E$67 -> 0 | F84: =C84*12*$F$67 -> 0 | G84: =C84*12*$G$67 -> 0 | H84: =C84*12*$H$67 -> 0 | I84: =C84*12*$I$67 -> 0
A85: Biztosítás (épület) | B85: Egyéb szolgáltatás | D85: =C85*$F$12 -> 0 | E85: =C85*12*$E$67 -> 0 | F85: =C85*12*$F$67 -> 0 | G85: =C85*12*$G$67 -> 0 | H85: =C85*12*$H$67 -> 0 | I85: =C85*12*$I$67 -> 0
A86: Könyvelés, könyvvitel | B86: Igénybevett szolgáltatások | D86: =C86*$F$12 -> 0 | E86: =C86*12*$E$67 -> 0 | F86: =C86*12*$F$67 -> 0 | G86: =C86*12*$G$67 -> 0 | H86: =C86*12*$H$67 -> 0 | I86: =C86*12*$I$67 -> 0
A87: Bank költség | B87: Egyéb szolgáltatás | D87: =C87*$F$12 -> 0 | E87: =C87*12*$E$67 -> 0 | F87: =C87*12*$F$67 -> 0 | G87: =C87*12*$G$67 -> 0 | H87: =C87*12*$H$67 -> 0 | I87: =C87*12*$I$67 -> 0
A88: IT üzemeltetés | B88: Igénybevett szolgáltatások | D88: =C88*$F$12 -> 0 | E88: =C88*12*$E$67 -> 0 | F88: =C88*12*$F$67 -> 0 | G88: =C88*12*$G$67 -> 0 | H88: =C88*12*$H$67 -> 0 | I88: =C88*12*$I$67 -> 0
A89: Eszközök karbantartása | B89: Igénybevett szolgáltatások | D89: =C89*$F$12 -> 0 | E89: =C89*12*$E$67 -> 0 | F89: =C89*12*$F$67 -> 0 | G89: =C89*12*$G$67 -> 0 | H89: =C89*12*$H$67 -> 0 | I89: =C89*12*$I$67 -> 0
A90: Jogi szoláltatás | B90: Igénybevett szolgáltatások | D90: =C90*$F$12 -> 0 | E90: =C90*12*$E$67 -> 0 | F90: =C90*12*$F$67 -> 0 | G90: =C90*12*$G$67 -> 0 | H90: =C90*12*$H$67 -> 0 | I90: =C90*12*$I$67 -> 0
A91: 1. egyéb kiadás | D91: =C91*$F$12 -> 0 | E91: =C91*12*$E$67 -> 0 | F91: =C91*12*$F$67 -> 0 | G91: =C91*12*$G$67 -> 0 | H91: =C91*12*$H$67 -> 0 | I91: =C91*12*$I$67 -> 0
A92: 2. egyéb kiadás | D92: =C92*$F$12 -> 0 | E92: =C92*12*$E$67 -> 0 | F92: =C92*12*$F$67 -> 0 | G92: =C92*12*$G$67 -> 0 | H92: =C92*12*$H$67 -> 0 | I92: =C92*12*$I$67 -> 0
A93: 3. egyéb kiadás | D93: =C93*$F$12 -> 0 | E93: =C93*12*$E$67 -> 0 | F93: =C93*12*$F$67 -> 0 | G93: =C93*12*$G$67 -> 0 | H93: =C93*12*$H$67 -> 0 | I93: =C93*12*$I$67 -> 0
A94: 4. egyéb kiadás | D94: =C94*$F$12 -> 0 | E94: =C94*12*$E$67 -> 0 | F94: =C94*12*$F$67 -> 0 | G94: =C94*12*$G$67 -> 0 | H94: =C94*12*$H$67 -> 0 | I94: =C94*12*$I$67 -> 0
A95: 5. egyéb kiadás | D95: =C95*$F$12 -> 0 | E95: =C95*12*$E$67 -> 0 | F95: =C95*12*$F$67 -> 0 | G95: =C95*12*$G$67 -> 0 | H95: =C95*12*$H$67 -> 0 | I95: =C95*12*$I$67 -> 0
A96: 6. egyéb kiadás | D96: =C96*$F$12 -> 0 | E96: =C96*12*$E$67 -> 0 | F96: =C96*12*$F$67 -> 0 | G96: =C96*12*$G$67 -> 0 | H96: =C96*12*$H$67 -> 0 | I96: =C96*12*$I$67 -> 0
A97: 7. egyéb kiadás
A98: 8. egyéb kiadás
A99: 9. egyéb kiadás
A100: 10. egyéb kiadás
A101: 11. egyéb kiadás
A102: 12. egyéb kiadás
A103: ÖSSZESEN | D103: =SUM(D69:D102) -> 0 | E103: =SUM(E69:E102) -> 0 | F103: =SUM(F69:F102) -> 0 | G103: =SUM(G69:G102) -> 0 | H103: =SUM(H69:H102) -> 0 | I103: =SUM(I69:I102) -> 0
A107: SZEMÉLYI JELLEGŰ RÁFORDÍTÁSOK - TANULÓK, HALLGATÓK | E107: 0. év | F107: ='Bemeneti adatok'!E18 -> 1900 | J107: 1. év | K107: ='Bemeneti adatok'!F18 -> 1901 | L107: kumulált infláció | M107: ='Bemeneti adatok'!F20 -> 1.035 | P107: 2. év | Q107: ='Bemeneti adatok'!G18 -> 1902 | R107: kumulált infláció | S107: ='Bemeneti adatok'!G20 -> 1.071225 | V107: 3. év | X107: ='Bemeneti adatok'!H18 -> 1903 | Y107: kumulált infláció | Z107: ='Bemeneti adatok'!H20 -> 1.1033617 | AB107: 4. év | AD107: ='Bemeneti adatok'!I18 -> 1904 | AE107: kumulált infláció | AF107: ='Bemeneti adatok'!I20 -> 1.1364626 | AH107: 5. év | AJ107: ='Bemeneti adatok'!J18 -> 1905 | AK107: kumulált infláció | AL107: ='Bemeneti adatok'!J20 -> 1.1705565
A108: Szakirányú oktatás időtartama | B108: Évfolyam | C108: Bruttó bér/fő/hó (Ft) | D108: Személyi jellegű egyéb kifizetések/fő/hó (Ft) | E108: Létszám (fő) | F108: Munkaszerződéssel lefedett hónapok száma (hónap) | G108: Összes bruttó bér (Ft) | H108: Személyi jellegű egyéb kifizetések összesen (Ft) | I108: Összesen (Ft) | J108: Létszám (fő) | K108: Munkaszerződéssel lefedett hónapok száma (hónap) | L108: Összes bruttó bér (Ft) | M108: Személyi jellegű egyéb kifizetések összesen (Ft) | N108: Összesen (Ft) | O108: Összesen (Ft) kumulált inflációval növelve | P108: Létszám (fő) | Q108: Munkaszerződéssel lefedett hónapok száma (hónap) | R108: Összes bruttó bér (Ft) | S108: Személyi jellegű egyéb kifizetések összesen (Ft) | T108: Összesen (Ft) | U108: Összesen (Ft) kumulált inflációval növelve | V108: Létszám (fő) | W108: Munkaszerződéssel lefedett hónapok száma (hónap) | X108: Összes bruttó bér (Ft) | Y108: Személyi jellegű egyéb kifizetések összesen (Ft) | Z108: Összesen (Ft) | AA108: Összesen (Ft) kumulált inflációval növelve | AB108: Létszám (fő) | AC108: Munkaszerződéssel lefedett hónapok száma (hónap) | AD108: Összes bruttó bér (Ft) | AE108: Személyi jellegű egyéb kifizetések összesen (Ft) | AF108: Összesen (Ft) | AG108: Összesen (Ft) kumulált inflációval növelve | AH108: Létszám (fő) | AI108: Munkaszerződéssel lefedett hónapok száma (hónap) | AJ108: Összes bruttó bér (Ft) | AK108: Személyi jellegű egyéb kifizetések összesen (Ft) | AL108: Összesen (Ft) | AM108: Összesen (Ft) kumulált inflációval növelve
A109: Legfeljebb 1 év | B109: 13. évfolyam | C109: ='Bemeneti adatok'!$E$29 -> 100000 | E109: ='Bemeneti adatok'!E44 -> 0 | F109: ='Bemeneti adatok'!F44 -> 0 | G109: =$C109*E109*F109 -> 0 | H109: =$D109*E109*F109 -> 0 | I109: =G109+H109 -> 0 | J109: ='Bemeneti adatok'!H44 -> 0 | K109: ='Bemeneti adatok'!I44 -> 0 | L109: =$C109*J109*K109 -> 0 | M109: =$D109*J109*K109 -> 0 | N109: =L109+M109 -> 0 | O109: =N109*$M$107 -> 0 | P109: ='Bemeneti adatok'!K44 -> 0 | Q109: ='Bemeneti adatok'!L44 -> 0 | R109: =$C109*P109*Q109 -> 0 | S109: =$D109*P109*Q109 -> 0 | T109: =R109+S109 -> 0 | U109: =T109*$S$107 -> 0 | V109: ='Bemeneti adatok'!N44 -> 0 | W109: ='Bemeneti adatok'!O44 -> 0 | X109: =$C109*V109*W109 -> 0 | Y109: =$D109*V109*W109 -> 0 | Z109: =X109+Y109 -> 0 | AA109: =Z109*$Z$107 -> 0 | AB109: ='Bemeneti adatok'!Q44 -> 0 | AC109: ='Bemeneti adatok'!R44 -> 0 | AD109: =$C109*AB109*AC109 -> 0 | AE109: =$D109*AB109*AC109 -> 0 | AF109: =AD109+AE109 -> 0 | AG109: =AF109*$AF$107 -> 0 | AH109: ='Bemeneti adatok'!T44 -> 0 | AI109: ='Bemeneti adatok'!U44 -> 0 | AJ109: =$C109*AH109*AI109 -> 0 | AK109: =$D109*AH109*AI109 -> 0 | AL109: =AJ109+AK109 -> 0 | AM109: =AL109*$AL$107 -> 0
A110: Legfeljebb 2 év | B110: 10. évfolyam | C110: ='Bemeneti adatok'!$E$29 -> 100000 | E110: ='Bemeneti adatok'!E45 -> 0 | F110: ='Bemeneti adatok'!F45 -> 0 | G110: =$C110*E110*F110 -> 0 | H110: =$D110*E110*F110 -> 0 | I110: =G110+H110 -> 0 | J110: ='Bemeneti adatok'!H45 -> 0 | K110: ='Bemeneti adatok'!I45 -> 0 | L110: =$C110*J110*K110 -> 0 | M110: =$D110*J110*K110 -> 0 | N110: =L110+M110 -> 0 | O110: =N110*$M$107 -> 0 | P110: ='Bemeneti adatok'!K45 -> 0 | Q110: ='Bemeneti adatok'!L45 -> 0 | R110: =$C110*P110*Q110 -> 0 | S110: =$D110*P110*Q110 -> 0 | T110: =R110+S110 -> 0 | U110: =T110*$S$107 -> 0 | V110: ='Bemeneti adatok'!N45 -> 0 | W110: ='Bemeneti adatok'!O45 -> 0 | X110: =$C110*V110*W110 -> 0 | Y110: =$D110*V110*W110 -> 0 | Z110: =X110+Y110 -> 0 | AA110: =Z110*$Z$107 -> 0 | AB110: ='Bemeneti adatok'!Q45 -> 0 | AC110: ='Bemeneti adatok'!R45 -> 0 | AD110: =$C110*AB110*AC110 -> 0 | AE110: =$D110*AB110*AC110 -> 0 | AF110: =AD110+AE110 -> 0 | AG110: =AF110*$AF$107 -> 0 | AH110: ='Bemeneti adatok'!T45 -> 0 | AI110: ='Bemeneti adatok'!U45 -> 0 | AJ110: =$C110*AH110*AI110 -> 0 | AK110: =$D110*AH110*AI110 -> 0 | AL110: =AJ110+AK110 -> 0 | AM110: =AL110*$AL$107 -> 0
B111: 11. évfolyam | C111: ='Bemeneti adatok'!$E$29 -> 100000 | E111: ='Bemeneti adatok'!E46 -> 0 | F111: ='Bemeneti adatok'!F46 -> 0 | G111: =$C111*E111*F111 -> 0 | H111: =$D111*E111*F111 -> 0 | I111: =G111+H111 -> 0 | J111: ='Bemeneti adatok'!H46 -> 0 | K111: ='Bemeneti adatok'!I46 -> 0 | L111: =$C111*J111*K111 -> 0 | M111: =$D111*J111*K111 -> 0 | N111: =L111+M111 -> 0 | O111: =N111*$M$107 -> 0 | P111: ='Bemeneti adatok'!K46 -> 0 | Q111: ='Bemeneti adatok'!L46 -> 0 | R111: =$C111*P111*Q111 -> 0 | S111: =$D111*P111*Q111 -> 0 | T111: =R111+S111 -> 0 | U111: =T111*$S$107 -> 0 | V111: ='Bemeneti adatok'!N46 -> 0 | W111: ='Bemeneti adatok'!O46 -> 0 | X111: =$C111*V111*W111 -> 0 | Y111: =$D111*V111*W111 -> 0 | Z111: =X111+Y111 -> 0 | AA111: =Z111*$Z$107 -> 0 | AB111: ='Bemeneti adatok'!Q46 -> 0 | AC111: ='Bemeneti adatok'!R46 -> 0 | AD111: =$C111*AB111*AC111 -> 0 | AE111: =$D111*AB111*AC111 -> 0 | AF111: =AD111+AE111 -> 0 | AG111: =AF111*$AF$107 -> 0 | AH111: ='Bemeneti adatok'!T46 -> 0 | AI111: ='Bemeneti adatok'!U46 -> 0 | AJ111: =$C111*AH111*AI111 -> 0 | AK111: =$D111*AH111*AI111 -> 0 | AL111: =AJ111+AK111 -> 0 | AM111: =AL111*$AL$107 -> 0
A112: Legfeljebb 3 év | B112: 11. évfolyam | C112: ='Bemeneti adatok'!$E$29 -> 100000 | E112: ='Bemeneti adatok'!E47 -> 0 | F112: ='Bemeneti adatok'!F47 -> 0 | G112: =$C112*E112*F112 -> 0 | H112: =$D112*E112*F112 -> 0 | I112: =G112+H112 -> 0 | J112: ='Bemeneti adatok'!H47 -> 0 | K112: ='Bemeneti adatok'!I47 -> 0 | L112: =$C112*J112*K112 -> 0 | M112: =$D112*J112*K112 -> 0 | N112: =L112+M112 -> 0 | O112: =N112*$M$107 -> 0 | P112: ='Bemeneti adatok'!K47 -> 0 | Q112: ='Bemeneti adatok'!L47 -> 0 | R112: =$C112*P112*Q112 -> 0 | S112: =$D112*P112*Q112 -> 0 | T112: =R112+S112 -> 0 | U112: =T112*$S$107 -> 0 | V112: ='Bemeneti adatok'!N47 -> 0 | W112: ='Bemeneti adatok'!O47 -> 0 | X112: =$C112*V112*W112 -> 0 | Y112: =$D112*V112*W112 -> 0 | Z112: =X112+Y112 -> 0 | AA112: =Z112*$Z$107 -> 0 | AB112: ='Bemeneti adatok'!Q47 -> 0 | AC112: ='Bemeneti adatok'!R47 -> 0 | AD112: =$C112*AB112*AC112 -> 0 | AE112: =$D112*AB112*AC112 -> 0 | AF112: =AD112+AE112 -> 0 | AG112: =AF112*$AF$107 -> 0 | AH112: ='Bemeneti adatok'!T47 -> 0 | AI112: ='Bemeneti adatok'!U47 -> 0 | AJ112: =$C112*AH112*AI112 -> 0 | AK112: =$D112*AH112*AI112 -> 0 | AL112: =AJ112+AK112 -> 0 | AM112: =AL112*$AL$107 -> 0
B113: 12. évfolyam | C113: ='Bemeneti adatok'!$E$29 -> 100000 | E113: ='Bemeneti adatok'!E48 -> 0 | F113: ='Bemeneti adatok'!F48 -> 0 | G113: =$C113*E113*F113 -> 0 | H113: =$D113*E113*F113 -> 0 | I113: =G113+H113 -> 0 | J113: ='Bemeneti adatok'!H48 -> 0 | K113: ='Bemeneti adatok'!I48 -> 0 | L113: =$C113*J113*K113 -> 0 | M113: =$D113*J113*K113 -> 0 | N113: =L113+M113 -> 0 | O113: =N113*$M$107 -> 0 | P113: ='Bemeneti adatok'!K48 -> 0 | Q113: ='Bemeneti adatok'!L48 -> 0 | R113: =$C113*P113*Q113 -> 0 | S113: =$D113*P113*Q113 -> 0 | T113: =R113+S113 -> 0 | U113: =T113*$S$107 -> 0 | V113: ='Bemeneti adatok'!N48 -> 0 | W113: ='Bemeneti adatok'!O48 -> 0 | X113: =$C113*V113*W113 -> 0 | Y113: =$D113*V113*W113 -> 0 | Z113: =X113+Y113 -> 0 | AA113: =Z113*$Z$107 -> 0 | AB113: ='Bemeneti adatok'!Q48 -> 0 | AC113: ='Bemeneti adatok'!R48 -> 0 | AD113: =$C113*AB113*AC113 -> 0 | AE113: =$D113*AB113*AC113 -> 0 | AF113: =AD113+AE113 -> 0 | AG113: =AF113*$AF$107 -> 0 | AH113: ='Bemeneti adatok'!T48 -> 0 | AI113: ='Bemeneti adatok'!U48 -> 0 | AJ113: =$C113*AH113*AI113 -> 0 | AK113: =$D113*AH113*AI113 -> 0 | AL113: =AJ113+AK113 -> 0 | AM113: =AL113*$AL$107 -> 0
B114: 13. évfolyam | C114: ='Bemeneti adatok'!$E$29 -> 100000 | E114: ='Bemeneti adatok'!E49 -> 0 | F114: ='Bemeneti adatok'!F49 -> 0 | G114: =$C114*E114*F114 -> 0 | H114: =$D114*E114*F114 -> 0 | I114: =G114+H114 -> 0 | J114: ='Bemeneti adatok'!H49 -> 0 | K114: ='Bemeneti adatok'!I49 -> 0 | L114: =$C114*J114*K114 -> 0 | M114: =$D114*J114*K114 -> 0 | N114: =L114+M114 -> 0 | O114: =N114*$M$107 -> 0 | P114: ='Bemeneti adatok'!K49 -> 0 | Q114: ='Bemeneti adatok'!L49 -> 0 | R114: =$C114*P114*Q114 -> 0 | S114: =$D114*P114*Q114 -> 0 | T114: =R114+S114 -> 0 | U114: =T114*$S$107 -> 0 | V114: ='Bemeneti adatok'!N49 -> 0 | W114: ='Bemeneti adatok'!O49 -> 0 | X114: =$C114*V114*W114 -> 0 | Y114: =$D114*V114*W114 -> 0 | Z114: =X114+Y114 -> 0 | AA114: =Z114*$Z$107 -> 0 | AB114: ='Bemeneti adatok'!Q49 -> 0 | AC114: ='Bemeneti adatok'!R49 -> 0 | AD114: =$C114*AB114*AC114 -> 0 | AE114: =$D114*AB114*AC114 -> 0 | AF114: =AD114+AE114 -> 0 | AG114: =AF114*$AF$107 -> 0 | AH114: ='Bemeneti adatok'!T49 -> 0 | AI114: ='Bemeneti adatok'!U49 -> 0 | AJ114: =$C114*AH114*AI114 -> 0 | AK114: =$D114*AH114*AI114 -> 0 | AL114: =AJ114+AK114 -> 0 | AM114: =AL114*$AL$107 -> 0
A115: Legfeljebb 4 év | B115: 11. évfolyam | C115: ='Bemeneti adatok'!$E$29 -> 100000 | E115: ='Bemeneti adatok'!E50 -> 0 | F115: ='Bemeneti adatok'!F50 -> 0 | G115: =$C115*E115*F115 -> 0 | H115: =$D115*E115*F115 -> 0 | I115: =G115+H115 -> 0 | J115: ='Bemeneti adatok'!H50 -> 0 | K115: ='Bemeneti adatok'!I50 -> 0 | L115: =$C115*J115*K115 -> 0 | M115: =$D115*J115*K115 -> 0 | N115: =L115+M115 -> 0 | O115: =N115*$M$107 -> 0 | P115: ='Bemeneti adatok'!K50 -> 0 | Q115: ='Bemeneti adatok'!L50 -> 0 | R115: =$C115*P115*Q115 -> 0 | S115: =$D115*P115*Q115 -> 0 | T115: =R115+S115 -> 0 | U115: =T115*$S$107 -> 0 | V115: ='Bemeneti adatok'!N50 -> 0 | W115: ='Bemeneti adatok'!O50 -> 0 | X115: =$C115*V115*W115 -> 0 | Y115: =$D115*V115*W115 -> 0 | Z115: =X115+Y115 -> 0 | AA115: =Z115*$Z$107 -> 0 | AB115: ='Bemeneti adatok'!Q50 -> 0 | AC115: ='Bemeneti adatok'!R50 -> 0 | AD115: =$C115*AB115*AC115 -> 0 | AE115: =$D115*AB115*AC115 -> 0 | AF115: =AD115+AE115 -> 0 | AG115: =AF115*$AF$107 -> 0 | AH115: ='Bemeneti adatok'!T50 -> 0 | AI115: ='Bemeneti adatok'!U50 -> 0 | AJ115: =$C115*AH115*AI115 -> 0 | AK115: =$D115*AH115*AI115 -> 0 | AL115: =AJ115+AK115 -> 0 | AM115: =AL115*$AL$107 -> 0
B116: 12. évfolyam | C116: ='Bemeneti adatok'!$E$29 -> 100000 | E116: ='Bemeneti adatok'!E51 -> 0 | F116: ='Bemeneti adatok'!F51 -> 0 | G116: =$C116*E116*F116 -> 0 | H116: =$D116*E116*F116 -> 0 | I116: =G116+H116 -> 0 | J116: ='Bemeneti adatok'!H51 -> 0 | K116: ='Bemeneti adatok'!I51 -> 0 | L116: =$C116*J116*K116 -> 0 | M116: =$D116*J116*K116 -> 0 | N116: =L116+M116 -> 0 | O116: =N116*$M$107 -> 0 | P116: ='Bemeneti adatok'!K51 -> 0 | Q116: ='Bemeneti adatok'!L51 -> 0 | R116: =$C116*P116*Q116 -> 0 | S116: =$D116*P116*Q116 -> 0 | T116: =R116+S116 -> 0 | U116: =T116*$S$107 -> 0 | V116: ='Bemeneti adatok'!N51 -> 0 | W116: ='Bemeneti adatok'!O51 -> 0 | X116: =$C116*V116*W116 -> 0 | Y116: =$D116*V116*W116 -> 0 | Z116: =X116+Y116 -> 0 | AA116: =Z116*$Z$107 -> 0 | AB116: ='Bemeneti adatok'!Q51 -> 0 | AC116: ='Bemeneti adatok'!R51 -> 0 | AD116: =$C116*AB116*AC116 -> 0 | AE116: =$D116*AB116*AC116 -> 0 | AF116: =AD116+AE116 -> 0 | AG116: =AF116*$AF$107 -> 0 | AH116: ='Bemeneti adatok'!T51 -> 0 | AI116: ='Bemeneti adatok'!U51 -> 0 | AJ116: =$C116*AH116*AI116 -> 0 | AK116: =$D116*AH116*AI116 -> 0 | AL116: =AJ116+AK116 -> 0 | AM116: =AL116*$AL$107 -> 0
B117: 13. évfolyam | C117: ='Bemeneti adatok'!$E$29 -> 100000 | E117: ='Bemeneti adatok'!E52 -> 0 | F117: ='Bemeneti adatok'!F52 -> 0 | G117: =$C117*E117*F117 -> 0 | H117: =$D117*E117*F117 -> 0 | I117: =G117+H117 -> 0 | J117: ='Bemeneti adatok'!H52 -> 0 | K117: ='Bemeneti adatok'!I52 -> 0 | L117: =$C117*J117*K117 -> 0 | M117: =$D117*J117*K117 -> 0 | N117: =L117+M117 -> 0 | O117: =N117*$M$107 -> 0 | P117: ='Bemeneti adatok'!K52 -> 0 | Q117: ='Bemeneti adatok'!L52 -> 0 | R117: =$C117*P117*Q117 -> 0 | S117: =$D117*P117*Q117 -> 0 | T117: =R117+S117 -> 0 | U117: =T117*$S$107 -> 0 | V117: ='Bemeneti adatok'!N52 -> 0 | W117: ='Bemeneti adatok'!O52 -> 0 | X117: =$C117*V117*W117 -> 0 | Y117: =$D117*V117*W117 -> 0 | Z117: =X117+Y117 -> 0 | AA117: =Z117*$Z$107 -> 0 | AB117: ='Bemeneti adatok'!Q52 -> 0 | AC117: ='Bemeneti adatok'!R52 -> 0 | AD117: =$C117*AB117*AC117 -> 0 | AE117: =$D117*AB117*AC117 -> 0 | AF117: =AD117+AE117 -> 0 | AG117: =AF117*$AF$107 -> 0 | AH117: ='Bemeneti adatok'!T52 -> 0 | AI117: ='Bemeneti adatok'!U52 -> 0 | AJ117: =$C117*AH117*AI117 -> 0 | AK117: =$D117*AH117*AI117 -> 0 | AL117: =AJ117+AK117 -> 0 | AM117: =AL117*$AL$107 -> 0
B118: 14. évfolyam | C118: ='Bemeneti adatok'!$E$29 -> 100000 | E118: ='Bemeneti adatok'!E53 -> 0 | F118: ='Bemeneti adatok'!F53 -> 0 | G118: =$C118*E118*F118 -> 0 | H118: =$D118*E118*F118 -> 0 | I118: =G118+H118 -> 0 | J118: ='Bemeneti adatok'!H53 -> 0 | K118: ='Bemeneti adatok'!I53 -> 0 | L118: =$C118*J118*K118 -> 0 | M118: =$D118*J118*K118 -> 0 | N118: =L118+M118 -> 0 | O118: =N118*$M$107 -> 0 | P118: ='Bemeneti adatok'!K53 -> 0 | Q118: ='Bemeneti adatok'!L53 -> 0 | R118: =$C118*P118*Q118 -> 0 | S118: =$D118*P118*Q118 -> 0 | T118: =R118+S118 -> 0 | U118: =T118*$S$107 -> 0 | V118: ='Bemeneti adatok'!N53 -> 0 | W118: ='Bemeneti adatok'!O53 -> 0 | X118: =$C118*V118*W118 -> 0 | Y118: =$D118*V118*W118 -> 0 | Z118: =X118+Y118 -> 0 | AA118: =Z118*$Z$107 -> 0 | AB118: ='Bemeneti adatok'!Q53 -> 0 | AC118: ='Bemeneti adatok'!R53 -> 0 | AD118: =$C118*AB118*AC118 -> 0 | AE118: =$D118*AB118*AC118 -> 0 | AF118: =AD118+AE118 -> 0 | AG118: =AF118*$AF$107 -> 0 | AH118: ='Bemeneti adatok'!T53 -> 0 | AI118: ='Bemeneti adatok'!U53 -> 0 | AJ118: =$C118*AH118*AI118 -> 0 | AK118: =$D118*AH118*AI118 -> 0 | AL118: =AJ118+AK118 -> 0 | AM118: =AL118*$AL$107 -> 0
A119: Felnőttek szakmai oktatása | B119: Évfolyamtól független | C119: ='Bemeneti adatok'!$E$29 -> 100000 | E119: ='Bemeneti adatok'!E54 -> 0 | F119: ='Bemeneti adatok'!F54 -> 0 | G119: =$C119*E119*F119 -> 0 | H119: =$D119*E119*F119 -> 0 | I119: =G119+H119 -> 0 | J119: ='Bemeneti adatok'!H54 -> 0 | K119: ='Bemeneti adatok'!I54 -> 0 | L119: =$C119*J119*K119 -> 0 | M119: =$D119*J119*K119 -> 0 | N119: =L119+M119 -> 0 | O119: =N119*$M$107 -> 0 | P119: ='Bemeneti adatok'!K54 -> 0 | Q119: ='Bemeneti adatok'!L54 -> 0 | R119: =$C119*P119*Q119 -> 0 | S119: =$D119*P119*Q119 -> 0 | T119: =R119+S119 -> 0 | U119: =T119*$S$107 -> 0 | V119: ='Bemeneti adatok'!N54 -> 0 | W119: ='Bemeneti adatok'!O54 -> 0 | X119: =$C119*V119*W119 -> 0 | Y119: =$D119*V119*W119 -> 0 | Z119: =X119+Y119 -> 0 | AA119: =Z119*$Z$107 -> 0 | AB119: ='Bemeneti adatok'!Q54 -> 0 | AC119: ='Bemeneti adatok'!R54 -> 0 | AD119: =$C119*AB119*AC119 -> 0 | AE119: =$D119*AB119*AC119 -> 0 | AF119: =AD119+AE119 -> 0 | AG119: =AF119*$AF$107 -> 0 | AH119: ='Bemeneti adatok'!T54 -> 0 | AI119: ='Bemeneti adatok'!U54 -> 0 | AJ119: =$C119*AH119*AI119 -> 0 | AK119: =$D119*AH119*AI119 -> 0 | AL119: =AJ119+AK119 -> 0 | AM119: =AL119*$AL$107 -> 0
A120: Hallgatók | B120: Évfolyamtól független | C120: ='Bemeneti adatok'!E27 -> 173420 | E120: ='Bemeneti adatok'!E55 -> 0 | F120: ='Bemeneti adatok'!F55 -> 0 | G120: =$C120*E120*F120 -> 0 | H120: =$D120*E120*F120 -> 0 | I120: =G120+H120 -> 0 | J120: ='Bemeneti adatok'!H55 -> 0 | K120: ='Bemeneti adatok'!I55 -> 0 | L120: =$C120*J120*K120 -> 0 | M120: =$D120*J120*K120 -> 0 | N120: =L120+M120 -> 0 | O120: =N120*$M$107 -> 0 | P120: ='Bemeneti adatok'!K55 -> 0 | Q120: ='Bemeneti adatok'!L55 -> 0 | R120: =$C120*P120*Q120 -> 0 | S120: =$D120*P120*Q120 -> 0 | T120: =R120+S120 -> 0 | U120: =T120*$S$107 -> 0 | V120: ='Bemeneti adatok'!N55 -> 0 | W120: ='Bemeneti adatok'!O55 -> 0 | X120: =$C120*V120*W120 -> 0 | Y120: =$D120*V120*W120 -> 0 | Z120: =X120+Y120 -> 0 | AA120: =Z120*$Z$107 -> 0 | AB120: ='Bemeneti adatok'!Q55 -> 0 | AC120: ='Bemeneti adatok'!R55 -> 0 | AD120: =$C120*AB120*AC120 -> 0 | AE120: =$D120*AB120*AC120 -> 0 | AF120: =AD120+AE120 -> 0 | AG120: =AF120*$AF$107 -> 0 | AH120: ='Bemeneti adatok'!T55 -> 0 | AI120: ='Bemeneti adatok'!U55 -> 0 | AJ120: =$C120*AH120*AI120 -> 0 | AK120: =$D120*AH120*AI120 -> 0 | AL120: =AJ120+AK120 -> 0 | AM120: =AL120*$AL$107 -> 0
A121: Tanulók összesen | E121: =SUM(E109:E119) -> 0 | F121: =SUM(F109:F119) -> 0 | G121: =SUM(G109:G119) -> 0 | H121: =SUM(H109:H119) -> 0 | I121: =SUM(I109:I119) -> 0 | J121: =SUM(J109:J119) -> 0 | K121: =SUM(K109:K119) -> 0 | L121: =SUM(L109:L119) -> 0 | ... AM121: =SUM(AM109:AM119) -> 0
A122: Tanulók+hallgatók összesen | E122: =SUM(E109:E120) -> 0 | F122: =SUM(F109:F120) -> 0 | G122: =SUM(G109:G120) -> 0 | H122: =SUM(H109:H120) -> 0 | I122: =SUM(I109:I120) -> 0 | J122: =SUM(J109:J120) -> 0 | K122: =SUM(K109:K120) -> 0 | L122: =SUM(L109:L120) -> 0 | ... AM122: =SUM(AM109:AM120) -> 0

Sheet További költség-kimutatás
A10: További költségek (kimutatás) | B10: 0. év | C10: 1. év | D10: 2. év | E10: 3. év | F10: 4. év | G10: 5. év
A11: Anyagjellegű ráfordítások | B11: 0 | C11: 0 | D11: 0 | E11: 0 | F11: 0 | G11: 0
A12: Egyéb nem bérjellegű kifizetések | B12: 0 | C12: 0 | D12: 0 | E12: 0 | F12: 0 | G12: 0
A13: Egyéb szolgáltatás | B13: 0 | C13: 0 | D13: 0 | E13: 0 | F13: 0 | G13: 0
A14: Igénybevett szolgáltatások | B14: 0 | C14: 0 | D14: 0 | E14: 0 | F14: 0 | G14: 0
A15: (üres) | B15: 0 | C15: 0 | D15: 0 | E15: 0 | F15: 0 | G15: 0
A16: Végösszeg | B16: 0 | C16: 0 | D16: 0 | E16: 0 | F16: 0 | G16: 0

Sheet Bevétel
A11: önköltség | B11: ='Bemeneti adatok'!E30 -> 1200000 | I11: 0. év | J11: év munkanap: | K11: ='Bemeneti adatok'!E23 -> --- | N11: 1. év | O11: év munkanap: | P11: ='Bemeneti adatok'!F23 -> --- | Q11: kumulált infláció: | R11: ='Bemeneti adatok'!F20 -> 1.035 | T11: 2. év | U11: év munkanap: | V11: ='Bemeneti adatok'!G23 -> --- | W11: kumulált infláció: | X11: ='Bemeneti adatok'!G20 -> 1.071225 | Z11: 3. év | AA11: év munkanap: | AB11: ='Bemeneti adatok'!H23 -> --- | AC11: kumulált infláció: | AD11: ='Bemeneti adatok'!H20 -> 1.1033617 | AF11: 4. év | AG11: év munkanap: | AH11: ='Bemeneti adatok'!I23 -> --- | AI11: kumulált infláció: | AJ11: ='Bemeneti adatok'!I20 -> 1.1364626 | AL11: 5. év | AM11: év munkanap: | AN11: ='Bemeneti adatok'!J23 -> --- | AO11: kumulált infláció: | AP11: ='Bemeneti adatok'!J20 -> 1.1705565
A12: TANULÓI JOGVISZONY/FELNŐTTKÉPZÉSI JOGVISZONY UTÁN JÁRÓ MUNKASZERZŐDÉS ALAPÚ ADÓVISSZATÉRÍTÉS | I12: ='Bemeneti adatok'!$E$41 -> 1900 | J12: átlagos havi munkanapok: | K12: ='Bemeneti adatok'!E24 -> --- | N12: ='Bemeneti adatok'!$H$41 -> 1901 | O12: átlagos havi munkanap: | P12: ='Bemeneti adatok'!F24 -> --- | T12: ='Bemeneti adatok'!$K$41 -> 1902 | U12: átlagos havi munkanap: | V12: ='Bemeneti adatok'!G24 -> --- | Z12: ='Bemeneti adatok'!$N$41 -> 1903 | AA12: átlagos havi munkanap: | AB12: ='Bemeneti adatok'!H24 -> --- | AF12: ='Bemeneti adatok'!$Q$41 -> 1904 | AG12: átlagos havi munkanap: | AH12: ='Bemeneti adatok'!I24 -> --- | AL12: ='Bemeneti adatok'!$T$41 -> 1905 | AM12: átlagos havi munkanap: | AN12: ='Bemeneti adatok'!J24 -> ---
A13: Szakirányú oktatás időtartama | B13: Évfolyam | C13: technikum/ szakképző iskola | D13: ágazat | E13: nagykorú/ fiatalkorú | F13: évfolyami szorzó | G13: szakmaszorzó | H13: súlyszorzó | I13: arányosított önköltség 1 munkaórára (hallgatók esetén 1 munkanapra) | J13: szakirányú oktatás ténylegesen teljesített éves óraszáma/fő (hallgatók esetén napszáma/fő) | K13: kedvezmény éves összege/fő (Ft) | L13: létszám (fő) | M13: kedvezmény összege összesen (Ft) | N13: arányosított önköltség 1 munkaórára (hallgatók esetén 1 munkanapra) | O13: szakirányú oktatás ténylegesen teljesített éves óraszáma/fő (hallgatók esetén napszáma/fő) | P13: kedvezmény éves összege/fő (Ft) | Q13: létszám (fő) | R13: kedvezmény összege teljes/év (Ft) | S13: kedvezmény összege teljes/év kumulált inflációval növelve (Ft) | T13: arányosított önköltség 1 munkaórára (hallgatók esetén 1 munkanapra) | U13: szakirányú oktatás ténylegesen teljesített éves óraszáma/fő (hallgatók esetén napszáma/fő) | V13: kedvezmény éves összege/fő (Ft) | W13: létszám (fő) | X13: kedvezmény összege teljes/év (Ft) | Y13: kedvezmény összege teljes/év kumulált inflációval növelve (Ft) | Z13: arányosított önköltség 1 munkaórára (hallgatók esetén 1 munkanapra) | AA13: szakirányú oktatás ténylegesen teljesített éves óraszáma/fő (hallgatók esetén napszáma/fő) | AB13: kedvezmény éves összege/fő (Ft) | AC13: létszám (fő) | AD13: kedvezmény összege teljes/év (Ft) | AE13: kedvezmény összege teljes/év kumulált inflációval növelve (Ft) | AF13: arányosított önköltség 1 munkaórára (hallgatók esetén 1 munkanapra) | AG13: szakirányú oktatás ténylegesen teljesített éves óraszáma/fő (hallgatók esetén napszáma/fő) | AH13: kedvezmény éves összege/fő (Ft) | AI13: létszám (fő) | AJ13: kedvezmény összege teljes/év (Ft) | AK13: kedvezmény összege teljes/év kumulált inflációval növelve (Ft) | AL13: arányosított önköltség 1 munkaórára (hallgatók esetén 1 munkanapra) | AM13: szakirányú oktatás ténylegesen teljesített éves óraszáma/fő (hallgatók esetén napszáma/fő) | AN13: kedvezmény éves összege/fő (Ft) | AO13: létszám (fő) | AP13: kedvezmény összege teljes/év (Ft) | AQ13: kedvezmény összege teljes/év kumulált inflációval növelve (Ft)
A14: Legfeljebb 1 év | B14: 13. évfolyam | C14: technikum | E14: nagykorú | F14: ='Bemeneti adatok'!D44 -> 1 | G14: =IFERROR(IF(C14="szakképző iskola",VLOOKUP(D14,Segédtábla!$B$44:$D$49,2,FALSE),VLOOKUP(D14,Segédtábla!$B$44:$D$49,3,FALSE)),"---") -> --- | H14: =IFERROR(F14*G14,"---") -> --- | I14: =IFERROR(IF($E14="nagykorú",($B$11*$H14)/($K$11*8),($B$11*$H14)/($K$11*7)),"---") -> --- | J14: =IFERROR(IF($E14="nagykorú",K$12*'Bemeneti adatok'!G44*'Bemeneti adatok'!F44*8,K$12*'Bemeneti adatok'!G44*'Bemeneti adatok'!F44*7),"---") -> --- | K14: =IFERROR(I14*J14,"---") -> --- | L14: ='Bemeneti adatok'!E44 -> 0 | M14: =IFERROR(K14*L14,"---") -> --- | N14: =IFERROR(IF($E14="nagykorú",($B$11*$H14)/($P$11*8),($B$11*$H14)/($P$11*7)),"---") -> --- | O14: =IFERROR(IF($E14="nagykorú",P$12*'Bemeneti adatok'!I44*'Bemeneti adatok'!J44*8,P$12*'Bemeneti adatok'!I44*'Bemeneti adatok'!J44*7),"---") -> --- | P14: =IFERROR(N14*O14,"---") -> --- | Q14: ='Bemeneti adatok'!H44 -> 0 | R14: =IFERROR(P14*Q14,"---") -> --- | S14: =IFERROR(R14*$R$11,"---") -> --- | T14: =IFERROR(IF($E14="nagykorú",($B$11*$H14)/($V$11*8),($B$11*$H14)/($V$11*7)),"---") -> --- | U14: =IFERROR(IF($E14="nagykorú",V$12*'Bemeneti adatok'!L44*'Bemeneti adatok'!M44*8,V$12*'Bemeneti adatok'!L44*'Bemeneti adatok'!M44*7),"---") -> --- | V14: =IFERROR(T14*U14,"---") -> --- | W14: ='Bemeneti adatok'!K44 -> 0 | X14: =IFERROR(V14*W14,"---") -> --- | Y14: =IFERROR(X14*$X$11,"---") -> --- | Z14: =IFERROR(IF($E14="nagykorú",($B$11*$H14)/($AB$11*8),($B$11*$H14)/($AB$11*7)),"---") -> --- | AA14: =IFERROR(IF($E14="nagykorú",AB$12*'Bemeneti adatok'!O44*'Bemeneti adatok'!P44*8,AB$12*'Bemeneti adatok'!O44*'Bemeneti adatok'!P44*7),"---") -> --- | AB14: =IFERROR(Z14*AA14,"---") -> --- | AC14: ='Bemeneti adatok'!N44 -> 0 | AD14: =IFERROR(AB14*AC14,"---") -> --- | AE14: =IFERROR(AD14*$AD$11,"---") -> --- | AF14: =IFERROR(IF($E14="nagykorú",($B$11*$H14)/($AH$11*8),($B$11*$H14)/($AH$11*7)),"---") -> --- | AG14: =IFERROR(IF($E14="nagykorú",AH$12*'Bemeneti adatok'!R44*'Bemeneti adatok'!S44*8,AH$12*'Bemeneti adatok'!R44*'Bemeneti adatok'!S44*7),"---") -> --- | AH14: =IFERROR(AF14*AG14,"---") -> --- | AI14: ='Bemeneti adatok'!Q44 -> 0 | AJ14: =IFERROR(AH14*AI14,"---") -> --- | AK14: =IFERROR(AJ14*$AJ$11,"---") -> --- | AL14: =IFERROR(IF($E14="nagykorú",($B$11*$H14)/($AN$11*8),($B$11*$H14)/($AN$11*7)),"---") -> --- | AM14: =IFERROR(IF($E14="nagykorú",AN$12*'Bemeneti adatok'!U44*'Bemeneti adatok'!V44*8,AN$12*'Bemeneti adatok'!U44*'Bemeneti adatok'!V44*7),"---") -> --- | AN14: =IFERROR(AL14*AM14,"---") -> --- | AO14: ='Bemeneti adatok'!T44 -> 0 | AP14: =IFERROR(AN14*AO14,"---") -> --- | AQ14: =IFERROR(AP14*$AP$11,"---") -> ---
A15: Legfeljebb 2 év | B15: 10. évfolyam | C15: szakképző iskola | E15: fiatalkorú | F15: ='Bemeneti adatok'!D45 -> 1.2 | G15: =IFERROR(IF(C15="szakképző iskola",VLOOKUP(D15,Segédtábla!$B$44:$D$49,2,FALSE),VLOOKUP(D15,Segédtábla!$B$44:$D$49,3,FALSE)),"---") -> --- | H15: =IFERROR(F15*G15,"---") -> --- | I15: =IFERROR(IF($E15="nagykorú",($B$11*$H15)/($K$11*8),($B$11*$H15)/($K$11*7)),"---") -> --- | J15: =IFERROR(IF($E15="nagykorú",K$12*'Bemeneti adatok'!G45*'Bemeneti adatok'!F45*8,K$12*'Bemeneti adatok'!G45*'Bemeneti adatok'!F45*7),"---") -> --- | K15: =IFERROR(I15*J15,"---") -> --- | L15: ='Bemeneti adatok'!E45 -> 0 | M15: =IFERROR(K15*L15,"---") -> --- | N15: =IFERROR(IF($E15="nagykorú",($B$11*$H15)/($P$11*8),($B$11*$H15)/($P$11*7)),"---") -> --- | O15: =IFERROR(IF($E15="nagykorú",P$12*'Bemeneti adatok'!I45*'Bemeneti adatok'!J45*8,P$12*'Bemeneti adatok'!I45*'Bemeneti adatok'!J45*7),"---") -> --- | P15: =IFERROR(N15*O15,"---") -> --- | Q15: ='Bemeneti adatok'!H45 -> 0 | R15: =IFERROR(P15*Q15,"---") -> --- | S15: =IFERROR(R15*$R$11,"---") -> --- | T15: =IFERROR(IF($E15="nagykorú",($B$11*$H15)/($V$11*8),($B$11*$H15)/($V$11*7)),"---") -> --- | U15: =IFERROR(IF($E15="nagykorú",V$12*'Bemeneti adatok'!L45*'Bemeneti adatok'!M45*8,V$12*'Bemeneti adatok'!L45*'Bemeneti adatok'!M45*7),"---") -> --- | V15: =IFERROR(T15*U15,"---") -> --- | W15: ='Bemeneti adatok'!K45 -> 0 | X15: =IFERROR(V15*W15,"---") -> --- | Y15: =IFERROR(X15*$X$11,"---") -> --- | Z15: =IFERROR(IF($E15="nagykorú",($B$11*$H15)/($AB$11*8),($B$11*$H15)/($AB$11*7)),"---") -> --- | AA15: =IFERROR(IF($E15="nagykorú",AB$12*'Bemeneti adatok'!O45*'Bemeneti adatok'!P45*8,AB$12*'Bemeneti adatok'!O45*'Bemeneti adatok'!P45*7),"---") -> --- | AB15: =IFERROR(Z15*AA15,"---") -> --- | AC15: ='Bemeneti adatok'!N45 -> 0 | AD15: =IFERROR(AB15*AC15,"---") -> --- | AE15: =IFERROR(AD15*$AD$11,"---") -> --- | AF15: =IFERROR(IF($E15="nagykorú",($B$11*$H15)/($AH$11*8),($B$11*$H15)/($AH$11*7)),"---") -> --- | AG15: =IFERROR(IF($E15="nagykorú",AH$12*'Bemeneti adatok'!R45*'Bemeneti adatok'!S45*8,AH$12*'Bemeneti adatok'!R45*'Bemeneti adatok'!S45*7),"---") -> --- | AH15: =IFERROR(AF15*AG15,"---") -> --- | AI15: ='Bemeneti adatok'!Q45 -> 0 | AJ15: =IFERROR(AH15*AI15,"---") -> --- | AK15: =IFERROR(AJ15*$AJ$11,"---") -> --- | AL15: =IFERROR(IF($E15="nagykorú",($B$11*$H15)/($AN$11*8),($B$11*$H15)/($AN$11*7)),"---") -> --- | AM15: =IFERROR(IF($E15="nagykorú",AN$12*'Bemeneti adatok'!U45*'Bemeneti adatok'!V45*8,AN$12*'Bemeneti adatok'!U45*'Bemeneti adatok'!V45*7),"---") -> --- | AN15: =IFERROR(AL15*AM15,"---") -> --- | AO15: ='Bemeneti adatok'!T45 -> 0 | AP15: =IFERROR(AN15*AO15,"---") -> --- | AQ15: =IFERROR(AP15*$AP$11,"---") -> ---
B16: 11. évfolyam | C16: szakképző iskola | E16: fiatalkorú | F16: ='Bemeneti adatok'!D46 -> 0.8 | G16: =IFERROR(IF(C16="szakképző iskola",VLOOKUP(D16,Segédtábla!$B$44:$D$49,2,FALSE),VLOOKUP(D16,Segédtábla!$B$44:$D$49,3,FALSE)),"---") -> --- | H16: =IFERROR(F16*G16,"---") -> --- | I16: =IFERROR(IF($E16="nagykorú",($B$11*$H16)/($K$11*8),($B$11*$H16)/($K$11*7)),"---") -> --- | J16: =IFERROR(IF($E16="nagykorú",K$12*'Bemeneti adatok'!G46*'Bemeneti adatok'!F46*8,K$12*'Bemeneti adatok'!G46*'Bemeneti adatok'!F46*7),"---") -> --- | K16: =IFERROR(I16*J16,"---") -> --- | L16: ='Bemeneti adatok'!E46 -> 0 | M16: =IFERROR(K16*L16,"---") -> --- | N16: =IFERROR(IF($E16="nagykorú",($B$11*$H16)/($P$11*8),($B$11*$H16)/($P$11*7)),"---") -> --- | O16: =IFERROR(IF($E16="nagykorú",P$12*'Bemeneti adatok'!I46*'Bemeneti adatok'!J46*8,P$12*'Bemeneti adatok'!I46*'Bemeneti adatok'!J46*7),"---") -> --- | P16: =IFERROR(N16*O16,"---") -> --- | Q16: ='Bemeneti adatok'!H46 -> 0 | R16: =IFERROR(P16*Q16,"---") -> --- | S16: =IFERROR(R16*$R$11,"---") -> --- | T16: =IFERROR(IF($E16="nagykorú",($B$11*$H16)/($V$11*8),($B$11*$H16)/($V$11*7)),"---") -> --- | U16: =IFERROR(IF($E16="nagykorú",V$12*'Bemeneti adatok'!L46*'Bemeneti adatok'!M46*8,V$12*'Bemeneti adatok'!L46*'Bemeneti adatok'!M46*7),"---") -> --- | V16: =IFERROR(T16*U16,"---") -> --- | W16: ='Bemeneti adatok'!K46 -> 0 | X16: =IFERROR(V16*W16,"---") -> --- | Y16: =IFERROR(X16*$X$11,"---") -> --- | Z16: =IFERROR(IF($E16="nagykorú",($B$11*$H16)/($AB$11*8),($B$11*$H16)/($AB$11*7)),"---") -> --- | AA16: =IFERROR(IF($E16="nagykorú",AB$12*'Bemeneti adatok'!O46*'Bemeneti adatok'!P46*8,AB$12*'Bemeneti adatok'!O46*'Bemeneti adatok'!P46*7),"---") -> --- | AB16: =IFERROR(Z16*AA16,"---") -> --- | AC16: ='Bemeneti adatok'!N46 -> 0 | AD16: =IFERROR(AB16*AC16,"---") -> --- | AE16: =IFERROR(AD16*$AD$11,"---") -> --- | AF16: =IFERROR(IF($E16="nagykorú",($B$11*$H16)/($AH$11*8),($B$11*$H16)/($AH$11*7)),"---") -> --- | AG16: =IFERROR(IF($E16="nagykorú",AH$12*'Bemeneti adatok'!R46*'Bemeneti adatok'!S46*8,AH$12*'Bemeneti adatok'!R46*'Bemeneti adatok'!S46*7),"---") -> --- | AH16: =IFERROR(AF16*AG16,"---") -> --- | AI16: ='Bemeneti adatok'!Q46 -> 0 | AJ16: =IFERROR(AH16*AI16,"---") -> --- | AK16: =IFERROR(AJ16*$AJ$11,"---") -> --- | AL16: =IFERROR(IF($E16="nagykorú",($B$11*$H16)/($AN$11*8),($B$11*$H16)/($AN$11*7)),"---") -> --- | AM16: =IFERROR(IF($E16="nagykorú",AN$12*'Bemeneti adatok'!U46*'Bemeneti adatok'!V46*8,AN$12*'Bemeneti adatok'!U46*'Bemeneti adatok'!V46*7),"---") -> --- | AN16: =IFERROR(AL16*AM16,"---") -> --- | AO16: ='Bemeneti adatok'!T46 -> 0 | AP16: =IFERROR(AN16*AO16,"---") -> --- | AQ16: =IFERROR(AP16*$AP$11,"---") -> ---
A17: Legfeljebb 3 év | B17: 11. évfolyam | C17: technikum | E17: fiatalkorú | F17: ='Bemeneti adatok'!D47 -> 1.2 | G17: =IFERROR(IF(C17="szakképző iskola",VLOOKUP(D17,Segédtábla!$B$44:$D$49,2,FALSE),VLOOKUP(D17,Segédtábla!$B$44:$D$49,3,FALSE)),"---") -> --- | H17: =IFERROR(F17*G17,"---") -> --- | I17: =IFERROR(IF($E17="nagykorú",($B$11*$H17)/($K$11*8),($B$11*$H17)/($K$11*7)),"---") -> --- | J17: =IFERROR(IF($E17="nagykorú",K$12*'Bemeneti adatok'!G47*'Bemeneti adatok'!F47*8,K$12*'Bemeneti adatok'!G47*'Bemeneti adatok'!F47*7),"---") -> --- | K17: =IFERROR(I17*J17,"---") -> --- | L17: ='Bemeneti adatok'!E47 -> 0 | M17: =IFERROR(K17*L17,"---") -> --- | N17: =IFERROR(IF($E17="nagykorú",($B$11*$H17)/($P$11*8),($B$11*$H17)/($P$11*7)),"---") -> --- | O17: =IFERROR(IF($E17="nagykorú",P$12*'Bemeneti adatok'!I47*'Bemeneti adatok'!J47*8,P$12*'Bemeneti adatok'!I47*'Bemeneti adatok'!J47*7),"---") -> --- | P17: =IFERROR(N17*O17,"---") -> --- | Q17: ='Bemeneti adatok'!H47 -> 0 | R17: =IFERROR(P17*Q17,"---") -> --- | S17: =IFERROR(R17*$R$11,"---") -> --- | T17: =IFERROR(IF($E17="nagykorú",($B$11*$H17)/($V$11*8),($B$11*$H17)/($V$11*7)),"---") -> --- | U17: =IFERROR(IF($E17="nagykorú",V$12*'Bemeneti adatok'!L47*'Bemeneti adatok'!M47*8,V$12*'Bemeneti adatok'!L47*'Bemeneti adatok'!M47*7),"---") -> --- | V17: =IFERROR(T17*U17,"---") -> --- | W17: ='Bemeneti adatok'!K47 -> 0 | X17: =IFERROR(V17*W17,"---") -> --- | Y17: =IFERROR(X17*$X$11,"---") -> --- | Z17: =IFERROR(IF($E17="nagykorú",($B$11*$H17)/($AB$11*8),($B$11*$H17)/($AB$11*7)),"---") -> --- | AA17: =IFERROR(IF($E17="nagykorú",AB$12*'Bemeneti adatok'!O47*'Bemeneti adatok'!P47*8,AB$12*'Bemeneti adatok'!O47*'Bemeneti adatok'!P47*7),"---") -> --- | AB17: =IFERROR(Z17*AA17,"---") -> --- | AC17: ='Bemeneti adatok'!N47 -> 0 | AD17: =IFERROR(AB17*AC17,"---") -> --- | AE17: =IFERROR(AD17*$AD$11,"---") -> --- | AF17: =IFERROR(IF($E17="nagykorú",($B$11*$H17)/($AH$11*8),($B$11*$H17)/($AH$11*7)),"---") -> --- | AG17: =IFERROR(IF($E17="nagykorú",AH$12*'Bemeneti adatok'!R47*'Bemeneti adatok'!S47*8,AH$12*'Bemeneti adatok'!R47*'Bemeneti adatok'!S47*7),"---") -> --- | AH17: =IFERROR(AF17*AG17,"---") -> --- | AI17: ='Bemeneti adatok'!Q47 -> 0 | AJ17: =IFERROR(AH17*AI17,"---") -> --- | AK17: =IFERROR(AJ17*$AJ$11,"---") -> --- | AL17: =IFERROR(IF($E17="nagykorú",($B$11*$H17)/($AN$11*8),($B$11*$H17)/($AN$11*7)),"---") -> --- | AM17: =IFERROR(IF($E17="nagykorú",AN$12*'Bemeneti adatok'!U47*'Bemeneti adatok'!V47*8,AN$12*'Bemeneti adatok'!U47*'Bemeneti adatok'!V47*7),"---") -> --- | AN17: =IFERROR(AL17*AM17,"---") -> --- | AO17: ='Bemeneti adatok'!T47 -> 0 | AP17: =IFERROR(AN17*AO17,"---") -> --- | AQ17: =IFERROR(AP17*$AP$11,"---") -> ---
B18: 12. évfolyam | C18: technikum | E18: fiatalkorú | F18: ='Bemeneti adatok'!D48 -> 1 | G18: =IFERROR(IF(C18="szakképző iskola",VLOOKUP(D18,Segédtábla!$B$44:$D$49,2,FALSE),VLOOKUP(D18,Segédtábla!$B$44:$D$49,3,FALSE)),"---") -> --- | H18: =IFERROR(F18*G18,"---") -> --- | I18: =IFERROR(IF($E18="nagykorú",($B$11*$H18)/($K$11*8),($B$11*$H18)/($K$11*7)),"---") -> --- | J18: =IFERROR(IF($E18="nagykorú",K$12*'Bemeneti adatok'!G48*'Bemeneti adatok'!F48*8,K$12*'Bemeneti adatok'!G48*'Bemeneti adatok'!F48*7),"---") -> --- | K18: =IFERROR(I18*J18,"---") -> --- | L18: ='Bemeneti adatok'!E48 -> 0 | M18: =IFERROR(K18*L18,"---") -> --- | N18: =IFERROR(IF($E18="nagykorú",($B$11*$H18)/($P$11*8),($B$11*$H18)/($P$11*7)),"---") -> --- | O18: =IFERROR(IF($E18="nagykorú",P$12*'Bemeneti adatok'!I48*'Bemeneti adatok'!J48*8,P$12*'Bemeneti adatok'!I48*'Bemeneti adatok'!J48*7),"---") -> --- | P18: =IFERROR(N18*O18,"---") -> --- | Q18: ='Bemeneti adatok'!H48 -> 0 | R18: =IFERROR(P18*Q18,"---") -> --- | S18: =IFERROR(R18*$R$11,"---") -> --- | T18: =IFERROR(IF($E18="nagykorú",($B$11*$H18)/($V$11*8),($B$11*$H18)/($V$11*7)),"---") -> --- | U18: =IFERROR(IF($E18="nagykorú",V$12*'Bemeneti adatok'!L48*'Bemeneti adatok'!M48*8,V$12*'Bemeneti adatok'!L48*'Bemeneti adatok'!M48*7),"---") -> --- | V18: =IFERROR(T18*U18,"---") -> --- | W18: ='Bemeneti adatok'!K48 -> 0 | X18: =IFERROR(V18*W18,"---") -> --- | Y18: =IFERROR(X18*$X$11,"---") -> --- | Z18: =IFERROR(IF($E18="nagykorú",($B$11*$H18)/($AB$11*8),($B$11*$H18)/($AB$11*7)),"---") -> --- | AA18: =IFERROR(IF($E18="nagykorú",AB$12*'Bemeneti adatok'!O48*'Bemeneti adatok'!P48*8,AB$12*'Bemeneti adatok'!O48*'Bemeneti adatok'!P48*7),"---") -> --- | AB18: =IFERROR(Z18*AA18,"---") -> --- | AC18: ='Bemeneti adatok'!N48 -> 0 | AD18: =IFERROR(AB18*AC18,"---") -> --- | AE18: =IFERROR(AD18*$AD$11,"---") -> --- | AF18: =IFERROR(IF($E18="nagykorú",($B$11*$H18)/($AH$11*8),($B$11*$H18)/($AH$11*7)),"---") -> --- | AG18: =IFERROR(IF($E18="nagykorú",AH$12*'Bemeneti adatok'!R48*'Bemeneti adatok'!S48*8,AH$12*'Bemeneti adatok'!R48*'Bemeneti adatok'!S48*7),"---") -> --- | AH18: =IFERROR(AF18*AG18,"---") -> --- | AI18: ='Bemeneti adatok'!Q48 -> 0 | AJ18: =IFERROR(AH18*AI18,"---") -> --- | AK18: =IFERROR(AJ18*$AJ$11,"---") -> --- | AL18: =IFERROR(IF($E18="nagykorú",($B$11*$H18)/($AN$11*8),($B$11*$H18)/($AN$11*7)),"---") -> --- | AM18: =IFERROR(IF($E18="nagykorú",AN$12*'Bemeneti adatok'!U48*'Bemeneti adatok'!V48*8,AN$12*'Bemeneti adatok'!U48*'Bemeneti adatok'!V48*7),"---") -> --- | AN18: =IFERROR(AL18*AM18,"---") -> --- | AO18: ='Bemeneti adatok'!T48 -> 0 | AP18: =IFERROR(AN18*AO18,"---") -> --- | AQ18: =IFERROR(AP18*$AP$11,"---") -> ---
B19: 13. évfolyam | C19: technikum | E19: fiatalkorú | F19: ='Bemeneti adatok'!D49 -> 0.8 | G19: =IFERROR(IF(C19="szakképző iskola",VLOOKUP(D19,Segédtábla!$B$44:$D$49,2,FALSE),VLOOKUP(D19,Segédtábla!$B$44:$D$49,3,FALSE)),"---") -> --- | H19: =IFERROR(F19*G19,"---") -> --- | I19: =IFERROR(IF($E19="nagykorú",($B$11*$H19)/($K$11*8),($B$11*$H19)/($K$11*7)),"---") -> --- | J19: =IFERROR(IF($E19="nagykorú",K$12*'Bemeneti adatok'!G49*'Bemeneti adatok'!F49*8,K$12*'Bemeneti adatok'!G49*'Bemeneti adatok'!F49*7),"---") -> --- | K19: =IFERROR(I19*J19,"---") -> --- | L19: ='Bemeneti adatok'!E49 -> 0 | M19: =IFERROR(K19*L19,"---") -> --- | N19: =IFERROR(IF($E19="nagykorú",($B$11*$H19)/($P$11*8),($B$11*$H19)/($P$11*7)),"---") -> --- | O19: =IFERROR(IF($E19="nagykorú",P$12*'Bemeneti adatok'!I49*'Bemeneti adatok'!J49*8,P$12*'Bemeneti adatok'!I49*'Bemeneti adatok'!J49*7),"---") -> --- | P19: =IFERROR(N19*O19,"---") -> --- | Q19: ='Bemeneti adatok'!H49 -> 0 | R19: =IFERROR(P19*Q19,"---") -> --- | S19: =IFERROR(R19*$R$11,"---") -> --- | T19: =IFERROR(IF($E19="nagykorú",($B$11*$H19)/($V$11*8),($B$11*$H19)/($V$11*7)),"---") -> --- | U19: =IFERROR(IF($E19="nagykorú",V$12*'Bemeneti adatok'!L49*'Bemeneti adatok'!M49*8,V$12*'Bemeneti adatok'!L49*'Bemeneti adatok'!M49*7),"---") -> --- | V19: =IFERROR(T19*U19,"---") -> --- | W19: ='Bemeneti adatok'!K49 -> 0 | X19: =IFERROR(V19*W19,"---") -> --- | Y19: =IFERROR(X19*$X$11,"---") -> --- | Z19: =IFERROR(IF($E19="nagykorú",($B$11*$H19)/($AB$11*8),($B$11*$H19)/($AB$11*7)),"---") -> --- | AA19: =IFERROR(IF($E19="nagykorú",AB$12*'Bemeneti adatok'!O49*'Bemeneti adatok'!P49*8,AB$12*'Bemeneti adatok'!O49*'Bemeneti adatok'!P49*7),"---") -> --- | AB19: =IFERROR(Z19*AA19,"---") -> --- | AC19: ='Bemeneti adatok'!N49 -> 0 | AD19: =IFERROR(AB19*AC19,"---") -> --- | AE19: =IFERROR(AD19*$AD$11,"---") -> --- | AF19: =IFERROR(IF($E19="nagykorú",($B$11*$H19)/($AH$11*8),($B$11*$H19)/($AH$11*7)),"---") -> --- | AG19: =IFERROR(IF($E19="nagykorú",AH$12*'Bemeneti adatok'!R49*'Bemeneti adatok'!S49*8,AH$12*'Bemeneti adatok'!R49*'Bemeneti adatok'!S49*7),"---") -> --- | AH19: =IFERROR(AF19*AG19,"---") -> --- | AI19: ='Bemeneti adatok'!Q49 -> 0 | AJ19: =IFERROR(AH19*AI19,"---") -> --- | AK19: =IFERROR(AJ19*$AJ$11,"---") -> --- | AL19: =IFERROR(IF($E19="nagykorú",($B$11*$H19)/($AN$11*8),($B$11*$H19)/($AN$11*7)),"---") -> --- | AM19: =IFERROR(IF($E19="nagykorú",AN$12*'Bemeneti adatok'!U49*'Bemeneti adatok'!V49*8,AN$12*'Bemeneti adatok'!U49*'Bemeneti adatok'!V49*7),"---") -> --- | AN19: =IFERROR(AL19*AM19,"---") -> --- | AO19: ='Bemeneti adatok'!T49 -> 0 | AP19: =IFERROR(AN19*AO19,"---") -> --- | AQ19: =IFERROR(AP19*$AP$11,"---") -> ---
A20: Legfeljebb 4 év | B20: 11. évfolyam | C20: technikum | E20: nagykorú | F20: ='Bemeneti adatok'!D50 -> 1.2 | G20: =IFERROR(IF(C20="szakképző iskola",VLOOKUP(D20,Segédtábla!$B$44:$D$49,2,FALSE),VLOOKUP(D20,Segédtábla!$B$44:$D$49,3,FALSE)),"---") -> --- | H20: =IFERROR(F20*G20,"---") -> --- | I20: =IFERROR(IF($E20="nagykorú",($B$11*$H20)/($K$11*8),($B$11*$H20)/($K$11*7)),"---") -> --- | J20: =IFERROR(IF($E20="nagykorú",K$12*'Bemeneti adatok'!G50*'Bemeneti adatok'!F50*8,K$12*'Bemeneti adatok'!G50*'Bemeneti adatok'!F50*7),"---") -> --- | K20: =IFERROR(I20*J20,"---") -> --- | L20: ='Bemeneti adatok'!E50 -> 0 | M20: =IFERROR(K20*L20,"---") -> --- | N20: =IFERROR(IF($E20="nagykorú",($B$11*$H20)/($P$11*8),($B$11*$H20)/($P$11*7)),"---") -> --- | O20: =IFERROR(IF($E20="nagykorú",P$12*'Bemeneti adatok'!I50*'Bemeneti adatok'!J50*8,P$12*'Bemeneti adatok'!I50*'Bemeneti adatok'!J50*7),"---") -> --- | P20: =IFERROR(N20*O20,"---") -> --- | Q20: ='Bemeneti adatok'!H50 -> 0 | R20: =IFERROR(P20*Q20,"---") -> --- | S20: =IFERROR(R20*$R$11,"---") -> --- | T20: =IFERROR(IF($E20="nagykorú",($B$11*$H20)/($V$11*8),($B$11*$H20)/($V$11*7)),"---") -> --- | U20: =IFERROR(IF($E20="nagykorú",V$12*'Bemeneti adatok'!L50*'Bemeneti adatok'!M50*8,V$12*'Bemeneti adatok'!L50*'Bemeneti adatok'!M50*7),"---") -> --- | V20: =IFERROR(T20*U20,"---") -> --- | W20: ='Bemeneti adatok'!K50 -> 0 | X20: =IFERROR(V20*W20,"---") -> --- | Y20: =IFERROR(X20*$X$11,"---") -> --- | Z20: =IFERROR(IF($E20="nagykorú",($B$11*$H20)/($AB$11*8),($B$11*$H20)/($AB$11*7)),"---") -> --- | AA20: =IFERROR(IF($E20="nagykorú",AB$12*'Bemeneti adatok'!O50*'Bemeneti adatok'!P50*8,AB$12*'Bemeneti adatok'!O50*'Bemeneti adatok'!P50*7),"---") -> --- | AB20: =IFERROR(Z20*AA20,"---") -> --- | AC20: ='Bemeneti adatok'!N50 -> 0 | AD20: =IFERROR(AB20*AC20,"---") -> --- | AE20: =IFERROR(AD20*$AD$11,"---") -> --- | AF20: =IFERROR(IF($E20="nagykorú",($B$11*$H20)/($AH$11*8),($B$11*$H20)/($AH$11*7)),"---") -> --- | AG20: =IFERROR(IF($E20="nagykorú",AH$12*'Bemeneti adatok'!R50*'Bemeneti adatok'!S50*8,AH$12*'Bemeneti adatok'!R50*'Bemeneti adatok'!S50*7),"---") -> --- | AH20: =IFERROR(AF20*AG20,"---") -> --- | AI20: ='Bemeneti adatok'!Q50 -> 0 | AJ20: =IFERROR(AH20*AI20,"---") -> --- | AK20: =IFERROR(AJ20*$AJ$11,"---") -> --- | AL20: =IFERROR(IF($E20="nagykorú",($B$11*$H20)/($AN$11*8),($B$11*$H20)/($AN$11*7)),"---") -> --- | AM20: =IFERROR(IF($E20="nagykorú",AN$12*'Bemeneti adatok'!U50*'Bemeneti adatok'!V50*8,AN$12*'Bemeneti adatok'!U50*'Bemeneti adatok'!V50*7),"---") -> --- | AN20: =IFERROR(AL20*AM20,"---") -> --- | AO20: ='Bemeneti adatok'!T50 -> 0 | AP20: =IFERROR(AN20*AO20,"---") -> --- | AQ20: =IFERROR(AP20*$AP$11,"---") -> ---
B21: 12. évfolyam | C21: technikum | E21: fiatalkorú | F21: ='Bemeneti adatok'!D51 -> 1 | G21: =IFERROR(IF(C21="szakképző iskola",VLOOKUP(D21,Segédtábla!$B$44:$D$49,2,FALSE),VLOOKUP(D21,Segédtábla!$B$44:$D$49,3,FALSE)),"---") -> --- | H21: =IFERROR(F21*G21,"---") -> --- | I21: =IFERROR(IF($E21="nagykorú",($B$11*$H21)/($K$11*8),($B$11*$H21)/($K$11*7)),"---") -> --- | J21: =IFERROR(IF($E21="nagykorú",K$12*'Bemeneti adatok'!G51*'Bemeneti adatok'!F51*8,K$12*'Bemeneti adatok'!G51*'Bemeneti adatok'!F51*7),"---") -> --- | K21: =IFERROR(I21*J21,"---") -> --- | L21: ='Bemeneti adatok'!E51 -> 0 | M21: =IFERROR(K21*L21,"---") -> --- | N21: =IFERROR(IF($E21="nagykorú",($B$11*$H21)/($P$11*8),($B$11*$H21)/($P$11*7)),"---") -> --- | O21: =IFERROR(IF($E21="nagykorú",P$12*'Bemeneti adatok'!I51*'Bemeneti adatok'!J51*8,P$12*'Bemeneti adatok'!I51*'Bemeneti adatok'!J51*7),"---") -> --- | P21: =IFERROR(N21*O21,"---") -> --- | Q21: ='Bemeneti adatok'!H51 -> 0 | R21: =IFERROR(P21*Q21,"---") -> --- | S21: =IFERROR(R21*$R$11,"---") -> --- | T21: =IFERROR(IF($E21="nagykorú",($B$11*$H21)/($V$11*8),($B$11*$H21)/($V$11*7)),"---") -> --- | U21: =IFERROR(IF($E21="nagykorú",V$12*'Bemeneti adatok'!L51*'Bemeneti adatok'!M51*8,V$12*'Bemeneti adatok'!L51*'Bemeneti adatok'!M51*7),"---") -> --- | V21: =IFERROR(T21*U21,"---") -> --- | W21: ='Bemeneti adatok'!K51 -> 0 | X21: =IFERROR(V21*W21,"---") -> --- | Y21: =IFERROR(X21*$X$11,"---") -> --- | Z21: =IFERROR(IF($E21="nagykorú",($B$11*$H21)/($AB$11*8),($B$11*$H21)/($AB$11*7)),"---") -> --- | AA21: =IFERROR(IF($E21="nagykorú",AB$12*'Bemeneti adatok'!O51*'Bemeneti adatok'!P51*8,AB$12*'Bemeneti adatok'!O51*'Bemeneti adatok'!P51*7),"---") -> --- | AB21: =IFERROR(Z21*AA21,"---") -> --- | AC21: ='Bemeneti adatok'!N51 -> 0 | AD21: =IFERROR(AB21*AC21,"---") -> --- | AE21: =IFERROR(AD21*$AD$11,"---") -> --- | AF21: =IFERROR(IF($E21="nagykorú",($B$11*$H21)/($AH$11*8),($B$11*$H21)/($AH$11*7)),"---") -> --- | AG21: =IFERROR(IF($E21="nagykorú",AH$12*'Bemeneti adatok'!R51*'Bemeneti adatok'!S51*8,AH$12*'Bemeneti adatok'!R51*'Bemeneti adatok'!S51*7),"---") -> --- | AH21: =IFERROR(AF21*AG21,"---") -> --- | AI21: ='Bemeneti adatok'!Q51 -> 0 | AJ21: =IFERROR(AH21*AI21,"---") -> --- | AK21: =IFERROR(AJ21*$AJ$11,"---") -> --- | AL21: =IFERROR(IF($E21="nagykorú",($B$11*$H21)/($AN$11*8),($B$11*$H21)/($AN$11*7)),"---") -> --- | AM21: =IFERROR(IF($E21="nagykorú",AN$12*'Bemeneti adatok'!U51*'Bemeneti adatok'!V51*8,AN$12*'Bemeneti adatok'!U51*'Bemeneti adatok'!V51*7),"---") -> --- | AN21: =IFERROR(AL21*AM21,"---") -> --- | AO21: ='Bemeneti adatok'!T51 -> 0 | AP21: =IFERROR(AN21*AO21,"---") -> --- | AQ21: =IFERROR(AP21*$AP$11,"---") -> ---
B22: 13. évfolyam | C22: technikum | E22: nagykorú | F22: ='Bemeneti adatok'!D52 -> 1 | G22: =IFERROR(IF(C22="szakképző iskola",VLOOKUP(D22,Segédtábla!$B$44:$D$49,2,FALSE),VLOOKUP(D22,Segédtábla!$B$44:$D$49,3,FALSE)),"---") -> --- | H22: =IFERROR(F22*G22,"---") -> --- | I22: =IFERROR(IF($E22="nagykorú",($B$11*$H22)/($K$11*8),($B$11*$H22)/($K$11*7)),"---") -> --- | J22: =IFERROR(IF($E22="nagykorú",K$12*'Bemeneti adatok'!G52*'Bemeneti adatok'!F52*8,K$12*'Bemeneti adatok'!G52*'Bemeneti adatok'!F52*7),"---") -> --- | K22: =IFERROR(I22*J22,"---") -> --- | L22: ='Bemeneti adatok'!E52 -> 0 | M22: =IFERROR(K22*L22,"---") -> --- | N22: =IFERROR(IF($E22="nagykorú",($B$11*$H22)/($P$11*8),($B$11*$H22)/($P$11*7)),"---") -> --- | O22: =IFERROR(IF($E22="nagykorú",P$12*'Bemeneti adatok'!I52*'Bemeneti adatok'!J52*8,P$12*'Bemeneti adatok'!I52*'Bemeneti adatok'!J52*7),"---") -> --- | P22: =IFERROR(N22*O22,"---") -> --- | Q22: ='Bemeneti adatok'!H52 -> 0 | R22: =IFERROR(P22*Q22,"---") -> --- | S22: =IFERROR(R22*$R$11,"---") -> --- | T22: =IFERROR(IF($E22="nagykorú",($B$11*$H22)/($V$11*8),($B$11*$H22)/($V$11*7)),"---") -> --- | U22: =IFERROR(IF($E22="nagykorú",V$12*'Bemeneti adatok'!L52*'Bemeneti adatok'!M52*8,V$12*'Bemeneti adatok'!L52*'Bemeneti adatok'!M52*7),"---") -> --- | V22: =IFERROR(T22*U22,"---") -> --- | W22: ='Bemeneti adatok'!K52 -> 0 | X22: =IFERROR(V22*W22,"---") -> --- | Y22: =IFERROR(X22*$X$11,"---") -> --- | Z22: =IFERROR(IF($E22="nagykorú",($B$11*$H22)/($AB$11*8),($B$11*$H22)/($AB$11*7)),"---") -> --- | AA22: =IFERROR(IF($E22="nagykorú",AB$12*'Bemeneti adatok'!O52*'Bemeneti adatok'!P52*8,AB$12*'Bemeneti adatok'!O52*'Bemeneti adatok'!P52*7),"---") -> --- | AB22: =IFERROR(Z22*AA22,"---") -> --- | AC22: ='Bemeneti adatok'!N52 -> 0 | AD22: =IFERROR(AB22*AC22,"---") -> --- | AE22: =IFERROR(AD22*$AD$11,"---") -> --- | AF22: =IFERROR(IF($E22="nagykorú",($B$11*$H22)/($AH$11*8),($B$11*$H22)/($AH$11*7)),"---") -> --- | AG22: =IFERROR(IF($E22="nagykorú",AH$12*'Bemeneti adatok'!R52*'Bemeneti adatok'!S52*8,AH$12*'Bemeneti adatok'!R52*'Bemeneti adatok'!S52*7),"---") -> --- | AH22: =IFERROR(AF22*AG22,"---") -> --- | AI22: ='Bemeneti adatok'!Q52 -> 0 | AJ22: =IFERROR(AH22*AI22,"---") -> --- | AK22: =IFERROR(AJ22*$AJ$11,"---") -> --- | AL22: =IFERROR(IF($E22="nagykorú",($B$11*$H22)/($AN$11*8),($B$11*$H22)/($AN$11*7)),"---") -> --- | AM22: =IFERROR(IF($E22="nagykorú",AN$12*'Bemeneti adatok'!U52*'Bemeneti adatok'!V52*8,AN$12*'Bemeneti adatok'!U52*'Bemeneti adatok'!V52*7),"---") -> --- | AN22: =IFERROR(AL22*AM22,"---") -> --- | AO22: ='Bemeneti adatok'!T52 -> 0 | AP22: =IFERROR(AN22*AO22,"---") -> --- | AQ22: =IFERROR(AP22*$AP$11,"---") -> ---
B23: 14. évfolyam | C23: technikum | E23: nagykorú | F23: ='Bemeneti adatok'!D53 -> 0.8 | G23: =IFERROR(IF(C23="szakképző iskola",VLOOKUP(D23,Segédtábla!$B$44:$D$49,2,FALSE),VLOOKUP(D23,Segédtábla!$B$44:$D$49,3,FALSE)),"---") -> --- | H23: =IFERROR(F23*G23,"---") -> --- | I23: =IFERROR(IF($E23="nagykorú",($B$11*$H23)/($K$11*8),($B$11*$H23)/($K$11*7)),"---") -> --- | J23: =IFERROR(IF($E23="nagykorú",K$12*'Bemeneti adatok'!G53*'Bemeneti adatok'!F53*8,K$12*'Bemeneti adatok'!G53*'Bemeneti adatok'!F53*7),"---") -> --- | K23: =IFERROR(I23*J23,"---") -> --- | L23: ='Bemeneti adatok'!E53 -> 0 | M23: =IFERROR(K23*L23,"---") -> --- | N23: =IFERROR(IF($E23="nagykorú",($B$11*$H23)/($P$11*8),($B$11*$H23)/($P$11*7)),"---") -> --- | O23: =IFERROR(IF($E23="nagykorú",P$12*'Bemeneti adatok'!I53*'Bemeneti adatok'!J53*8,P$12*'Bemeneti adatok'!I53*'Bemeneti adatok'!J53*7),"---") -> --- | P23: =IFERROR(N23*O23,"---") -> --- | Q23: ='Bemeneti adatok'!H53 -> 0 | R23: =IFERROR(P23*Q23,"---") -> --- | S23: =IFERROR(R23*$R$11,"---") -> --- | T23: =IFERROR(IF($E23="nagykorú",($B$11*$H23)/($V$11*8),($B$11*$H23)/($V$11*7)),"---") -> --- | U23: =IFERROR(IF($E23="nagykorú",V$12*'Bemeneti adatok'!L53*'Bemeneti adatok'!M53*8,V$12*'Bemeneti adatok'!L53*'Bemeneti adatok'!M53*7),"---") -> --- | V23: =IFERROR(T23*U23,"---") -> --- | W23: ='Bemeneti adatok'!K53 -> 0 | X23: =IFERROR(V23*W23,"---") -> --- | Y23: =IFERROR(X23*$X$11,"---") -> --- | Z23: =IFERROR(IF($E23="nagykorú",($B$11*$H23)/($AB$11*8),($B$11*$H23)/($AB$11*7)),"---") -> --- | AA23: =IFERROR(IF($E23="nagykorú",AB$12*'Bemeneti adatok'!O53*'Bemeneti adatok'!P53*8,AB$12*'Bemeneti adatok'!O53*'Bemeneti adatok'!P53*7),"---") -> --- | AB23: =IFERROR(Z23*AA23,"---") -> --- | AC23: ='Bemeneti adatok'!N53 -> 0 | AD23: =IFERROR(AB23*AC23,"---") -> --- | AE23: =IFERROR(AD23*$AD$11,"---") -> --- | AF23: =IFERROR(IF($E23="nagykorú",($B$11*$H23)/($AH$11*8),($B$11*$H23)/($AH$11*7)),"---") -> --- | AG23: =IFERROR(IF($E23="nagykorú",AH$12*'Bemeneti adatok'!R53*'Bemeneti adatok'!S53*8,AH$12*'Bemeneti adatok'!R53*'Bemeneti adatok'!S53*7),"---") -> --- | AH23: =IFERROR(AF23*AG23,"---") -> --- | AI23: ='Bemeneti adatok'!Q53 -> 0 | AJ23: =IFERROR(AH23*AI23,"---") -> --- | AK23: =IFERROR(AJ23*$AJ$11,"---") -> --- | AL23: =IFERROR(IF($E23="nagykorú",($B$11*$H23)/($AN$11*8),($B$11*$H23)/($AN$11*7)),"---") -> --- | AM23: =IFERROR(IF($E23="nagykorú",AN$12*'Bemeneti adatok'!U53*'Bemeneti adatok'!V53*8,AN$12*'Bemeneti adatok'!U53*'Bemeneti adatok'!V53*7),"---") -> --- | AN23: =IFERROR(AL23*AM23,"---") -> --- | AO23: ='Bemeneti adatok'!T53 -> 0 | AP23: =IFERROR(AN23*AO23,"---") -> --- | AQ23: =IFERROR(AP23*$AP$11,"---") -> ---
A24: Felnőttek szakmai oktatása | B24: Évfolyamtól független | E24: nagykorú | F24: ='Bemeneti adatok'!D54 -> 1 | G24: =IFERROR(IF(C24="szakképző iskola",VLOOKUP(D24,Segédtábla!$B$44:$D$49,2,FALSE),VLOOKUP(D24,Segédtábla!$B$44:$D$49,3,FALSE)),"---") -> --- | H24: =IFERROR(F24*G24,"---") -> --- | I24: =IFERROR(IF($E24="nagykorú",($B$11*$H24)/($K$11*8),($B$11*$H24)/($K$11*7)),"---") -> --- | J24: =IFERROR(IF($E24="nagykorú",K$12*'Bemeneti adatok'!G54*'Bemeneti adatok'!F54*8,K$12*'Bemeneti adatok'!G54*'Bemeneti adatok'!F54*7),"---") -> --- | K24: =IFERROR(I24*J24,"---") -> --- | L24: ='Bemeneti adatok'!E54 -> 0 | M24: =IFERROR(K24*L24,"---") -> --- | N24: =IFERROR(IF($E24="nagykorú",($B$11*$H24)/($P$11*8),($B$11*$H24)/($P$11*7)),"---") -> --- | O24: =IFERROR(IF($E24="nagykorú",P$12*'Bemeneti adatok'!I54*'Bemeneti adatok'!J54*8,P$12*'Bemeneti adatok'!I54*'Bemeneti adatok'!J54*7),"---") -> --- | P24: =IFERROR(N24*O24,"---") -> --- | Q24: ='Bemeneti adatok'!H54 -> 0 | R24: =IFERROR(P24*Q24,"---") -> --- | S24: =IFERROR(R24*$R$11,"---") -> --- | T24: =IFERROR(IF($E24="nagykorú",($B$11*$H24)/($V$11*8),($B$11*$H24)/($V$11*7)),"---") -> --- | U24: =IFERROR(IF($E24="nagykorú",V$12*'Bemeneti adatok'!L54*'Bemeneti adatok'!M54*8,V$12*'Bemeneti adatok'!L54*'Bemeneti adatok'!M54*7),"---") -> --- | V24: =IFERROR(T24*U24,"---") -> --- | W24: ='Bemeneti adatok'!K54 -> 0 | X24: =IFERROR(V24*W24,"---") -> --- | Y24: =IFERROR(X24*$X$11,"---") -> --- | Z24: =IFERROR(IF($E24="nagykorú",($B$11*$H24)/($AB$11*8),($B$11*$H24)/($AB$11*7)),"---") -> --- | AA24: =IFERROR(IF($E24="nagykorú",AB$12*'Bemeneti adatok'!O54*'Bemeneti adatok'!P54*8,AB$12*'Bemeneti adatok'!O54*'Bemeneti adatok'!P54*7),"---") -> --- | AB24: =IFERROR(Z24*AA24,"---") -> --- | AC24: ='Bemeneti adatok'!N54 -> 0 | AD24: =IFERROR(AB24*AC24,"---") -> --- | AE24: =IFERROR(AD24*$AD$11,"---") -> --- | AF24: =IFERROR(IF($E24="nagykorú",($B$11*$H24)/($AH$11*8),($B$11*$H24)/($AH$11*7)),"---") -> --- | AG24: =IFERROR(IF($E24="nagykorú",AH$12*'Bemeneti adatok'!R54*'Bemeneti adatok'!S54*8,AH$12*'Bemeneti adatok'!R54*'Bemeneti adatok'!S54*7),"---") -> --- | AH24: =IFERROR(AF24*AG24,"---") -> --- | AI24: ='Bemeneti adatok'!Q54 -> 0 | AJ24: =IFERROR(AH24*AI24,"---") -> --- | AK24: =IFERROR(AJ24*$AJ$11,"---") -> --- | AL24: =IFERROR(IF($E24="nagykorú",($B$11*$H24)/($AN$11*8),($B$11*$H24)/($AN$11*7)),"---") -> --- | AM24: =IFERROR(IF($E24="nagykorú",AN$12*'Bemeneti adatok'!U54*'Bemeneti adatok'!V54*8,AN$12*'Bemeneti adatok'!U54*'Bemeneti adatok'!V54*7),"---") -> --- | AN24: =IFERROR(AL24*AM24,"---") -> --- | AO24: ='Bemeneti adatok'!T54 -> 0 | AP24: =IFERROR(AN24*AO24,"---") -> --- | AQ24: =IFERROR(AP24*$AP$11,"---") -> ---
A25: Hallgatók | B25: Évfolyamtól független | E25: nagykorú | F25: ='Bemeneti adatok'!D55 -> 1 | G25: =IFERROR(IF(C25="szakképző iskola",VLOOKUP(D25,Segédtábla!$B$44:$D$49,2,FALSE),VLOOKUP(D25,Segédtábla!$B$44:$D$49,3,FALSE)),"---") -> --- | H25: =IFERROR(F25*G25,"---") -> --- | I25: =IFERROR(('Bemeneti adatok'!$E$31*Bevétel!$H$25)/Bevétel!K$11,"---") -> --- | J25: =IFERROR(K$12*'Bemeneti adatok'!F55*'Bemeneti adatok'!G55,"---") -> --- | K25: =IFERROR(I25*J25,"---") -> --- | L25: ='Bemeneti adatok'!E55 -> 0 | M25: =IFERROR(K25*L25,"---") -> --- | N25: =IFERROR(('Bemeneti adatok'!$E$31*Bevétel!$H$25)/Bevétel!P$11,"---") -> --- | O25: =IFERROR(P$12*'Bemeneti adatok'!I55*'Bemeneti adatok'!J55,"---") -> --- | P25: =IFERROR(N25*O25,"---") -> --- | Q25: ='Bemeneti adatok'!H55 -> 0 | R25: =IFERROR(P25*Q25,"---") -> --- | S25: =IFERROR(R25*$R$11,"---") -> --- | T25: =IFERROR(('Bemeneti adatok'!$E$31*Bevétel!$H$25)/Bevétel!V$11,"---") -> --- | U25: =IFERROR(V$12*'Bemeneti adatok'!L55*'Bemeneti adatok'!M55,"---") -> --- | V25: =IFERROR(T25*U25,"---") -> --- | W25: ='Bemeneti adatok'!K55 -> 0 | X25: =IFERROR(V25*W25,"---") -> --- | Y25: =IFERROR(X25*$X$11,"---") -> --- | Z25: =IFERROR(('Bemeneti adatok'!$E$31*Bevétel!$H$25)/Bevétel!AB$11,"---") -> --- | AA25: =IFERROR(AB$12*'Bemeneti adatok'!O55*'Bemeneti adatok'!P55,"---") -> --- | AB25: =IFERROR(Z25*AA25,"---") -> --- | AC25: ='Bemeneti adatok'!N55 -> 0 | AD25: =IFERROR(AB25*AC25,"---") -> --- | AE25: =IFERROR(AD25*$AD$11,"---") -> --- | AF25: =IFERROR(('Bemeneti adatok'!$E$31*Bevétel!$H$25)/Bevétel!AH$11,"---") -> --- | AG25: =IFERROR(AH$12*'Bemeneti adatok'!R55*'Bemeneti adatok'!S55,"---") -> --- | AH25: =IFERROR(AF25*AG25,"---") -> --- | AI25: ='Bemeneti adatok'!Q55 -> 0 | AJ25: =IFERROR(AH25*AI25,"---") -> --- | AK25: =IFERROR(AJ25*$AJ$11,"---") -> --- | AL25: =IFERROR(('Bemeneti adatok'!$E$31*Bevétel!$H$25)/Bevétel!AN$11,"---") -> --- | AM25: =IFERROR(AN$12*'Bemeneti adatok'!U55*'Bemeneti adatok'!V55,"---") -> --- | AN25: =IFERROR(AL25*AM25,"---") -> --- | AO25: ='Bemeneti adatok'!T55 -> 0 | AP25: =IFERROR(AN25*AO25,"---") -> --- | AQ25: =IFERROR(AP25*$AP$11,"---") -> ---
A26: Összesen | M26: =SUM(M14:M25) -> 0 | R26: =SUM(R14:R25) -> 0 | S26: =SUM(S14:S25) -> 0 | X26: =SUM(X14:X25) -> 0 | Y26: =SUM(Y14:Y25) -> 0 | AD26: =SUM(AD14:AD25) -> 0 | AE26: =SUM(AE14:AE25) -> 0 | AJ26: =SUM(AJ14:AJ25) -> 0 | AK26: =SUM(AK14:AK25) -> 0 | AP26: =SUM(AP14:AP25) -> 0 | AQ26: =SUM(AQ14:AQ25) -> 0
A30: "SIKERDÍJ" | B30: Sikerdíj | C30: Sikerességi ráta | D30: 0. év | G30: 1. év | K30: 2. év | O30: 3. év | S30: 4. év | W30: 5. év
B31: ='Bemeneti adatok'!E32 -> 0.2 | C31: ='Bemeneti adatok'!E33 -> 0.9 | D31: ='Bemeneti adatok'!$E$41 -> 1900 | G31: ='Bemeneti adatok'!$H$41 -> 1901 | K31: ='Bemeneti adatok'!$K$41 -> 1902 | O31: ='Bemeneti adatok'!$N$41 -> 1903 | S31: ='Bemeneti adatok'!$Q$41 -> 1904 | W31: ='Bemeneti adatok'!$T$41 -> 1905
A32: Szakirányú oktatás időtartama | B32: Évfolyam | C32: Szakmai vizsga | D32: kedvezmény éves összege/fő (Ft) | E32: sikeres szakmai vizsga létszám (fő) | F32: Sikerdíj összege (Ft) | G32: kedvezmény éves összege/fő (Ft) | H32: sikeres szakmai vizsga létszám (fő) | I32: Sikerdíj összege (Ft) | J32: Sikerdíj összege kumulált inflációval növelve (Ft) | K32: kedvezmény éves összege/fő (Ft) | L32: sikeres szakmai vizsga létszám (fő) | M32: Sikerdíj összege (Ft) | N32: Sikerdíj összege kumulált inflációval növelve (Ft) | O32: kedvezmény éves összege/fő (Ft) | P32: sikeres szakmai vizsga létszám (fő) | Q32: Sikerdíj összege (Ft) | R32: Sikerdíj összege kumulált inflációval növelve (Ft) | S32: kedvezmény éves összege/fő (Ft) | T32: sikeres szakmai vizsga létszám (fő) | U32: Sikerdíj összege (Ft) | V32: Sikerdíj összege kumulált inflációval növelve (Ft) | W32: kedvezmény éves összege/fő (Ft) | X32: sikeres szakmai vizsga létszám (fő) | Y32: Sikerdíj összege (Ft) | Z32: Sikerdíj összege kumulált inflációval növelve (Ft)
A33: Legfeljebb 1 év | B33: 13. évfolyam | C33: igen | D33: =K14 -> --- | E33: =IFERROR(_xlfn.IFS(IF('Bemeneti adatok'!F44>=6,'Bemeneti adatok'!E44*$C$31,"0"),IF($C33="igen",'Bemeneti adatok'!E44*$C$31,"0")),"---") -> --- | F33: =IFERROR(D33*E33*$B$31,"---") -> --- | G33: =P14 -> --- | H33: =IFERROR(_xlfn.IFS(IF('Bemeneti adatok'!I44>=6,'Bemeneti adatok'!H44*$C$31,"0"),IF($C33="igen",'Bemeneti adatok'!H44*$C$31,"0")),"---") -> --- | I33: =IFERROR(G33*H33*$B$31,"---") -> --- | J33: =IFERROR(I33*$R$11,"---") -> --- | K33: =V14 -> --- | L33: =IFERROR(_xlfn.IFS(IF('Bemeneti adatok'!L44>=6,'Bemeneti adatok'!K44*$C$31,"0"),IF($C33="igen",'Bemeneti adatok'!K44*$C$31,"0")),"---") -> --- | M33: =IFERROR(K33*L33*$B$31,"---") -> --- | N33: =IFERROR(M33*$X$11,"---") -> --- | O33: =AB14 -> --- | P33: =IFERROR(_xlfn.IFS(IF('Bemeneti adatok'!O44>=6,'Bemeneti adatok'!N44*$C$31,"0"),IF($C33="igen",'Bemeneti adatok'!N44*$C$31,"0")),"---") -> --- | Q33: =IFERROR(O33*P33*$B$31,"---") -> --- | R33: =IFERROR(Q33*$AD$11,"---") -> --- | S33: =AH14 -> --- | T33: =IFERROR(_xlfn.IFS(IF('Bemeneti adatok'!R44>=6,'Bemeneti adatok'!Q44*$C$31,"0"),IF($C33="igen",'Bemeneti adatok'!Q44*$C$31,"0")),"---") -> --- | U33: =IFERROR(S33*T33*$B$31,"---") -> --- | V33: =IFERROR(U33*$AJ$11,"---") -> --- | W33: =AN14 -> --- | X33: =IFERROR(_xlfn.IFS(IF('Bemeneti adatok'!U44>=6,'Bemeneti adatok'!T44*$C$31,"0"),IF($C33="igen",'Bemeneti adatok'!T44*$C$31,"0")),"---") -> --- | Y33: =IFERROR(W33*X33*$B$31,"---") -> --- | Z33: =IFERROR(Y33*$AP$11,"---") -> ---
A34: Legfeljebb 2 év | B34: 10. évfolyam | C34: nem | D34: =K15 -> --- | E34: =IFERROR(_xlfn.IFS(IF('Bemeneti adatok'!F45>=6,'Bemeneti adatok'!E45*$C$31,"0"),IF($C34="igen",'Bemeneti adatok'!E45*$C$31,"0")),"---") -> --- | F34: =IFERROR(D34*E34*$B$31,"---") -> --- | G34: =P15 -> --- | H34: =IFERROR(_xlfn.IFS(IF('Bemeneti adatok'!I45>=6,'Bemeneti adatok'!H45*$C$31,"0"),IF($C34="igen",'Bemeneti adatok'!H45*$C$31,"0")),"---") -> --- | I34: =IFERROR(G34*H34*$B$31,"---") -> --- | J34: =IFERROR(I34*$R$11,"---") -> --- | K34: =V15 -> --- | L34: =IFERROR(_xlfn.IFS(IF('Bemeneti adatok'!L45>=6,'Bemeneti adatok'!K45*$C$31,"0"),IF($C34="igen",'Bemeneti adatok'!K45*$C$31,"0")),"---") -> --- | M34: =IFERROR(K34*L34*$B$31,"---") -> --- | N34: =IFERROR(M34*$X$11,"---") -> --- | O34: =AB15 -> --- | P34: =IFERROR(_xlfn.IFS(IF('Bemeneti adatok'!O45>=6,'Bemeneti adatok'!N45*$C$31,"0"),IF($C34="igen",'Bemeneti adatok'!N45*$C$31,"0")),"---") -> --- | Q34: =IFERROR(O34*P34*$B$31,"---") -> --- | R34: =IFERROR(Q34*$AD$11,"---") -> --- | S34: =AH15 -> --- | T34: =IFERROR(_xlfn.IFS(IF('Bemeneti adatok'!R45>=6,'Bemeneti adatok'!Q45*$C$31,"0"),IF($C34="igen",'Bemeneti adatok'!Q45*$C$31,"0")),"---") -> --- | U34: =IFERROR(S34*T34*$B$31,"---") -> --- | V34: =IFERROR(U34*$AJ$11,"---") -> --- | W34: =AN15 -> --- | X34: =IFERROR(_xlfn.IFS(IF('Bemeneti adatok'!U45>=6,'Bemeneti adatok'!T45*$C$31,"0"),IF($C34="igen",'Bemeneti adatok'!T45*$C$31,"0")),"---") -> --- | Y34: =IFERROR(W34*X34*$B$31,"---") -> --- | Z34: =IFERROR(Y34*$AP$11,"---") -> ---
B35: 11. évfolyam | C35: igen | D35: =K16 -> --- | E35: =IFERROR(_xlfn.IFS(IF('Bemeneti adatok'!F46>=6,'Bemeneti adatok'!E46*$C$31,"0"),IF($C35="igen",'Bemeneti adatok'!E46*$C$31,"0")),"---") -> --- | F35: =IFERROR(D35*E35*$B$31,"---") -> --- | G35: =P16 -> --- | H35: =IFERROR(_xlfn.IFS(IF('Bemeneti adatok'!I46>=6,'Bemeneti adatok'!H46*$C$31,"0"),IF($C35="igen",'Bemeneti adatok'!H46*$C$31,"0")),"---") -> --- | I35: =IFERROR(G35*H35*$B$31,"---") -> --- | J35: =IFERROR(I35*$R$11,"---") -> --- | K35: =V16 -> --- | L35: =IFERROR(_xlfn.IFS(IF('Bemeneti adatok'!L46>=6,'Bemeneti adatok'!K46*$C$31,"0"),IF($C35="igen",'Bemeneti adatok'!K46*$C$31,"0")),"---") -> --- | M35: =IFERROR(K35*L35*$B$31,"---") -> --- | N35: =IFERROR(M35*$X$11,"---") -> --- | O35: =AB16 -> --- | P35: =IFERROR(_xlfn.IFS(IF('Bemeneti adatok'!O46>=6,'Bemeneti adatok'!N46*$C$31,"0"),IF($C35="igen",'Bemeneti adatok'!N46*$C$31,"0")),"---") -> --- | Q35: =IFERROR(O35*P35*$B$31,"---") -> --- | R35: =IFERROR(Q35*$AD$11,"---") -> --- | S35: =AH16 -> --- | T35: =IFERROR(_xlfn.IFS(IF('Bemeneti adatok'!R46>=6,'Bemeneti adatok'!Q46*$C$31,"0"),IF($C35="igen",'Bemeneti adatok'!Q46*$C$31,"0")),"---") -> --- | U35: =IFERROR(S35*T35*$B$31,"---") -> --- | V35: =IFERROR(U35*$AJ$11,"---") -> --- | W35: =AN16 -> --- | X35: =IFERROR(_xlfn.IFS(IF('Bemeneti adatok'!U46>=6,'Bemeneti adatok'!T46*$C$31,"0"),IF($C35="igen",'Bemeneti adatok'!T46*$C$31,"0")),"---") -> --- | Y35: =IFERROR(W35*X35*$B$31,"---") -> --- | Z35: =IFERROR(Y35*$AP$11,"---") -> ---
A36: Legfeljebb 3 év | B36: 11. évfolyam | C36: nem | D36: =K17 -> --- | E36: =IFERROR(_xlfn.IFS(IF('Bemeneti adatok'!F47>=6,'Bemeneti adatok'!E47*$C$31,"0"),IF($C36="igen",'Bemeneti adatok'!E47*$C$31,"0")),"---") -> --- | F36: =IFERROR(D36*E36*$B$31,"---") -> --- | G36: =P17 -> --- | H36: =IFERROR(_xlfn.IFS(IF('Bemeneti adatok'!I47>=6,'Bemeneti adatok'!H47*$C$31,"0"),IF($C36="igen",'Bemeneti adatok'!H47*$C$31,"0")),"---") -> --- | I36: =IFERROR(G36*H36*$B$31,"---") -> --- | J36: =IFERROR(I36*$R$11,"---") -> --- | K36: =V17 -> --- | L36: =IFERROR(_xlfn.IFS(IF('Bemeneti adatok'!L47>=6,'Bemeneti adatok'!K47*$C$31,"0"),IF($C36="igen",'Bemeneti adatok'!K47*$C$31,"0")),"---") -> --- | M36: =IFERROR(K36*L36*$B$31,"---") -> --- | N36: =IFERROR(M36*$X$11,"---") -> --- | O36: =AB17 -> --- | P36: =IFERROR(_xlfn.IFS(IF('Bemeneti adatok'!O47>=6,'Bemeneti adatok'!N47*$C$31,"0"),IF($C36="igen",'Bemeneti adatok'!N47*$C$31,"0")),"---") -> --- | Q36: =IFERROR(O36*P36*$B$31,"---") -> --- | R36: =IFERROR(Q36*$AD$11,"---") -> --- | S36: =AH17 -> --- | T36: =IFERROR(_xlfn.IFS(IF('Bemeneti adatok'!R47>=6,'Bemeneti adatok'!Q47*$C$31,"0"),IF($C36="igen",'Bemeneti adatok'!Q47*$C$31,"0")),"---") -> --- | U36: =IFERROR(S36*T36*$B$31,"---") -> --- | V36: =IFERROR(U36*$AJ$11,"---") -> --- | W36: =AN17 -> --- | X36: =IFERROR(_xlfn.IFS(IF('Bemeneti adatok'!U47>=6,'Bemeneti adatok'!T47*$C$31,"0"),IF($C36="igen",'Bemeneti adatok'!T47*$C$31,"0")),"---") -> --- | Y36: =IFERROR(W36*X36*$B$31,"---") -> --- | Z36: =IFERROR(Y36*$AP$11,"---") -> ---
B37: 12. évfolyam | C37: nem | D37: =K18 -> --- | E37: =IFERROR(_xlfn.IFS(IF('Bemeneti adatok'!F48>=6,'Bemeneti adatok'!E48*$C$31,"0"),IF($C37="igen",'Bemeneti adatok'!E48*$C$31,"0")),"---") -> --- | F37: =IFERROR(D37*E37*$B$31,"---") -> --- | G37: =P18 -> --- | H37: =IFERROR(_xlfn.IFS(IF('Bemeneti adatok'!I48>=6,'Bemeneti adatok'!H48*$C$31,"0"),IF($C37="igen",'Bemeneti adatok'!H48*$C$31,"0")),"---") -> --- | I37: =IFERROR(G37*H37*$B$31,"---") -> --- | J37: =IFERROR(I37*$R$11,"---") -> --- | K37: =V18 -> --- | L37: =IFERROR(_xlfn.IFS(IF('Bemeneti adatok'!L48>=6,'Bemeneti adatok'!K48*$C$31,"0"),IF($C37="igen",'Bemeneti adatok'!K48*$C$31,"0")),"---") -> --- | M37: =IFERROR(K37*L37*$B$31,"---") -> --- | N37: =IFERROR(M37*$X$11,"---") -> --- | O37: =AB18 -> --- | P37: =IFERROR(_xlfn.IFS(IF('Bemeneti adatok'!O48>=6,'Bemeneti adatok'!N48*$C$31,"0"),IF($C37="igen",'Bemeneti adatok'!N48*$C$31,"0")),"---") -> --- | Q37: =IFERROR(O37*P37*$B$31,"---") -> --- | R37: =IFERROR(Q37*$AD$11,"---") -> --- | S37: =AH18 -> --- | T37: =IFERROR(_xlfn.IFS(IF('Bemeneti adatok'!R48>=6,'Bemeneti adatok'!Q48*$C$31,"0"),IF($C37="igen",'Bemeneti adatok'!Q48*$C$31,"0")),"---") -> --- | U37: =IFERROR(S37*T37*$B$31,"---") -> --- | V37: =IFERROR(U37*$AJ$11,"---") -> --- | W37: =AN18 -> --- | X37: =IFERROR(_xlfn.IFS(IF('Bemeneti adatok'!U48>=6,'Bemeneti adatok'!T48*$C$31,"0"),IF($C37="igen",'Bemeneti adatok'!T48*$C$31,"0")),"---") -> --- | Y37: =IFERROR(W37*X37*$B$31,"---") -> --- | Z37: =IFERROR(Y37*$AP$11,"---") -> ---
B38: 13. évfolyam | C38: igen | D38: =K19 -> --- | E38: =IFERROR(_xlfn.IFS(IF('Bemeneti adatok'!F49>=6,'Bemeneti adatok'!E49*$C$31,"0"),IF($C38="igen",'Bemeneti adatok'!E49*$C$31,"0")),"---") -> --- | F38: =IFERROR(D38*E38*$B$31,"---") -> --- | G38: =P19 -> --- | H38: =IFERROR(_xlfn.IFS(IF('Bemeneti adatok'!I49>=6,'Bemeneti adatok'!H49*$C$31,"0"),IF($C38="igen",'Bemeneti adatok'!H49*$C$31,"0")),"---") -> --- | I38: =IFERROR(G38*H38*$B$31,"---") -> --- | J38: =IFERROR(I38*$R$11,"---") -> --- | K38: =V19 -> --- | L38: =IFERROR(_xlfn.IFS(IF('Bemeneti adatok'!L49>=6,'Bemeneti adatok'!K49*$C$31,"0"),IF($C38="igen",'Bemeneti adatok'!K49*$C$31,"0")),"---") -> --- | M38: =IFERROR(K38*L38*$B$31,"---") -> --- | N38: =IFERROR(M38*$X$11,"---") -> --- | O38: =AB19 -> --- | P38: =IFERROR(_xlfn.IFS(IF('Bemeneti adatok'!O49>=6,'Bemeneti adatok'!N49*$C$31,"0"),IF($C38="igen",'Bemeneti adatok'!N49*$C$31,"0")),"---") -> --- | Q38: =IFERROR(O38*P38*$B$31,"---") -> --- | R38: =IFERROR(Q38*$AD$11,"---") -> --- | S38: =AH19 -> --- | T38: =IFERROR(_xlfn.IFS(IF('Bemeneti adatok'!R49>=6,'Bemeneti adatok'!Q49*$C$31,"0"),IF($C38="igen",'Bemeneti adatok'!Q49*$C$31,"0")),"---") -> --- | U38: =IFERROR(S38*T38*$B$31,"---") -> --- | V38: =IFERROR(U38*$AJ$11,"---") -> --- | W38: =AN19 -> --- | X38: =IFERROR(_xlfn.IFS(IF('Bemeneti adatok'!U49>=6,'Bemeneti adatok'!T49*$C$31,"0"),IF($C38="igen",'Bemeneti adatok'!T49*$C$31,"0")),"---") -> --- | Y38: =IFERROR(W38*X38*$B$31,"---") -> --- | Z38: =IFERROR(Y38*$AP$11,"---") -> ---
A39: Legfeljebb 4 év | B39: 11. évfolyam | C39: nem | D39: =K20 -> --- | E39: =IFERROR(_xlfn.IFS(IF('Bemeneti adatok'!F50>=6,'Bemeneti adatok'!E50*$C$31,"0"),IF($C39="igen",'Bemeneti adatok'!E50*$C$31,"0")),"---") -> --- | F39: =IFERROR(D39*E39*$B$31,"---") -> --- | G39: =P20 -> --- | H39: =IFERROR(_xlfn.IFS(IF('Bemeneti adatok'!I50>=6,'Bemeneti adatok'!H50*$C$31,"0"),IF($C39="igen",'Bemeneti adatok'!H50*$C$31,"0")),"---") -> --- | I39: =IFERROR(G39*H39*$B$31,"---") -> --- | J39: =IFERROR(I39*$R$11,"---") -> --- | K39: =V20 -> --- | L39: =IFERROR(_xlfn.IFS(IF('Bemeneti adatok'!L50>=6,'Bemeneti adatok'!K50*$C$31,"0"),IF($C39="igen",'Bemeneti adatok'!K50*$C$31,"0")),"---") -> --- | M39: =IFERROR(K39*L39*$B$31,"---") -> --- | N39: =IFERROR(M39*$X$11,"---") -> --- | O39: =AB20 -> --- | P39: =IFERROR(_xlfn.IFS(IF('Bemeneti adatok'!O50>=6,'Bemeneti adatok'!N50*$C$31,"0"),IF($C39="igen",'Bemeneti adatok'!N50*$C$31,"0")),"---") -> --- | Q39: =IFERROR(O39*P39*$B$31,"---") -> --- | R39: =IFERROR(Q39*$AD$11,"---") -> --- | S39: =AH20 -> --- | T39: =IFERROR(_xlfn.IFS(IF('Bemeneti adatok'!R50>=6,'Bemeneti adatok'!Q50*$C$31,"0"),IF($C39="igen",'Bemeneti adatok'!Q50*$C$31,"0")),"---") -> --- | U39: =IFERROR(S39*T39*$B$31,"---") -> --- | V39: =IFERROR(U39*$AJ$11,"---") -> --- | W39: =AN20 -> --- | X39: =IFERROR(_xlfn.IFS(IF('Bemeneti adatok'!U50>=6,'Bemeneti adatok'!T50*$C$31,"0"),IF($C39="igen",'Bemeneti adatok'!T50*$C$31,"0")),"---") -> --- | Y39: =IFERROR(W39*X39*$B$31,"---") -> --- | Z39: =IFERROR(Y39*$AP$11,"---") -> ---
B40: 12. évfolyam | C40: nem | D40: =K21 -> --- | E40: =IFERROR(_xlfn.IFS(IF('Bemeneti adatok'!F51>=6,'Bemeneti adatok'!E51*$C$31,"0"),IF($C40="igen",'Bemeneti adatok'!E51*$C$31,"0")),"---") -> --- | F40: =IFERROR(D40*E40*$B$31,"---") -> --- | G40: =P21 -> --- | H40: =IFERROR(_xlfn.IFS(IF('Bemeneti adatok'!I51>=6,'Bemeneti adatok'!H51*$C$31,"0"),IF($C40="igen",'Bemeneti adatok'!H51*$C$31,"0")),"---") -> --- | I40: =IFERROR(G40*H40*$B$31,"---") -> --- | J40: =IFERROR(I40*$R$11,"---") -> --- | K40: =V21 -> --- | L40: =IFERROR(_xlfn.IFS(IF('Bemeneti adatok'!L51>=6,'Bemeneti adatok'!K51*$C$31,"0"),IF($C40="igen",'Bemeneti adatok'!K51*$C$31,"0")),"---") -> --- | M40: =IFERROR(K40*L40*$B$31,"---") -> --- | N40: =IFERROR(M40*$X$11,"---") -> --- | O40: =AB21 -> --- | P40: =IFERROR(_xlfn.IFS(IF('Bemeneti adatok'!O51>=6,'Bemeneti adatok'!N51*$C$31,"0"),IF($C40="igen",'Bemeneti adatok'!N51*$C$31,"0")),"---") -> --- | Q40: =IFERROR(O40*P40*$B$31,"---") -> --- | R40: =IFERROR(Q40*$AD$11,"---") -> --- | S40: =AH21 -> --- | T40: =IFERROR(_xlfn.IFS(IF('Bemeneti adatok'!R51>=6,'Bemeneti adatok'!Q51*$C$31,"0"),IF($C40="igen",'Bemeneti adatok'!Q51*$C$31,"0")),"---") -> --- | U40: =IFERROR(S40*T40*$B$31,"---") -> --- | V40: =IFERROR(U40*$AJ$11,"---") -> --- | W40: =AN21 -> --- | X40: =IFERROR(_xlfn.IFS(IF('Bemeneti adatok'!U51>=6,'Bemeneti adatok'!T51*$C$31,"0"),IF($C40="igen",'Bemeneti adatok'!T51*$C$31,"0")),"---") -> --- | Y40: =IFERROR(W40*X40*$B$31,"---") -> --- | Z40: =IFERROR(Y40*$AP$11,"---") -> ---
B41: 13. évfolyam | C41: nem | D41: =K22 -> --- | E41: =IFERROR(_xlfn.IFS(IF('Bemeneti adatok'!F52>=6,'Bemeneti adatok'!E52*$C$31,"0"),IF($C41="igen",'Bemeneti adatok'!E52*$C$31,"0")),"---") -> --- | F41: =IFERROR(D41*E41*$B$31,"---") -> --- | G41: =P22 -> --- | H41: =IFERROR(_xlfn.IFS(IF('Bemeneti adatok'!I52>=6,'Bemeneti adatok'!H52*$C$31,"0"),IF($C41="igen",'Bemeneti adatok'!H52*$C$31,"0")),"---") -> --- | I41: =IFERROR(G41*H41*$B$31,"---") -> --- | J41: =IFERROR(I41*$R$11,"---") -> --- | K41: =V22 -> --- | L41: =IFERROR(_xlfn.IFS(IF('Bemeneti adatok'!L52>=6,'Bemeneti adatok'!K52*$C$31,"0"),IF($C41="igen",'Bemeneti adatok'!K52*$C$31,"0")),"---") -> --- | M41: =IFERROR(K41*L41*$B$31,"---") -> --- | N41: =IFERROR(M41*$X$11,"---") -> --- | O41: =AB22 -> --- | P41: =IFERROR(_xlfn.IFS(IF('Bemeneti adatok'!O52>=6,'Bemeneti adatok'!N52*$C$31,"0"),IF($C41="igen",'Bemeneti adatok'!N52*$C$31,"0")),"---") -> --- | Q41: =IFERROR(O41*P41*$B$31,"---") -> --- | R41: =IFERROR(Q41*$AD$11,"---") -> --- | S41: =AH22 -> --- | T41: =IFERROR(_xlfn.IFS(IF('Bemeneti adatok'!R52>=6,'Bemeneti adatok'!Q52*$C$31,"0"),IF($C41="igen",'Bemeneti adatok'!Q52*$C$31,"0")),"---") -> --- | U41: =IFERROR(S41*T41*$B$31,"---") -> --- | V41: =IFERROR(U41*$AJ$11,"---") -> --- | W41: =AN22 -> --- | X41: =IFERROR(_xlfn.IFS(IF('Bemeneti adatok'!U52>=6,'Bemeneti adatok'!T52*$C$31,"0"),IF($C41="igen",'Bemeneti adatok'!T52*$C$31,"0")),"---") -> --- | Y41: =IFERROR(W41*X41*$B$31,"---") -> --- | Z41: =IFERROR(Y41*$AP$11,"---") -> ---
B42: 14. évfolyam | C42: igen | D42: =K23 -> --- | E42: =IFERROR(_xlfn.IFS(IF('Bemeneti adatok'!F53>=6,'Bemeneti adatok'!E53*$C$31,"0"),IF($C42="igen",'Bemeneti adatok'!E53*$C$31,"0")),"---") -> --- | F42: =IFERROR(D42*E42*$B$31,"---") -> --- | G42: =P23 -> --- | H42: =IFERROR(_xlfn.IFS(IF('Bemeneti adatok'!I53>=6,'Bemeneti adatok'!H53*$C$31,"0"),IF($C42="igen",'Bemeneti adatok'!H53*$C$31,"0")),"---") -> --- | I42: =IFERROR(G42*H42*$B$31,"---") -> --- | J42: =IFERROR(I42*$R$11,"---") -> --- | K42: =V23 -> --- | L42: =IFERROR(_xlfn.IFS(IF('Bemeneti adatok'!L53>=6,'Bemeneti adatok'!K53*$C$31,"0"),IF($C42="igen",'Bemeneti adatok'!K53*$C$31,"0")),"---") -> --- | M42: =IFERROR(K42*L42*$B$31,"---") -> --- | N42: =IFERROR(M42*$X$11,"---") -> --- | O42: =AB23 -> --- | P42: =IFERROR(_xlfn.IFS(IF('Bemeneti adatok'!O53>=6,'Bemeneti adatok'!N53*$C$31,"0"),IF($C42="igen",'Bemeneti adatok'!N53*$C$31,"0")),"---") -> --- | Q42: =IFERROR(O42*P42*$B$31,"---") -> --- | R42: =IFERROR(Q42*$AD$11,"---") -> --- | S42: =AH23 -> --- | T42: =IFERROR(_xlfn.IFS(IF('Bemeneti adatok'!R53>=6,'Bemeneti adatok'!Q53*$C$31,"0"),IF($C42="igen",'Bemeneti adatok'!Q53*$C$31,"0")),"---") -> --- | U42: =IFERROR(S42*T42*$B$31,"---") -> --- | V42: =IFERROR(U42*$AJ$11,"---") -> --- | W42: =AN23 -> --- | X42: =IFERROR(_xlfn.IFS(IF('Bemeneti adatok'!U53>=6,'Bemeneti adatok'!T53*$C$31,"0"),IF($C42="igen",'Bemeneti adatok'!T53*$C$31,"0")),"---") -> --- | Y42: =IFERROR(W42*X42*$B$31,"---") -> --- | Z42: =IFERROR(Y42*$AP$11,"---") -> ---
A43: Felnőttek szakmai oktatása | B43: Évfolyamtól független | C43: igen | D43: =K24 -> --- | E43: =IFERROR(_xlfn.IFS(IF('Bemeneti adatok'!F54>=6,'Bemeneti adatok'!E54*$C$31,"0"),IF($C43="igen",'Bemeneti adatok'!E54*$C$31,"0")),"---") -> --- | F43: =IFERROR(D43*E43*$B$31,"---") -> --- | G43: =P24 -> --- | H43: =IFERROR(_xlfn.IFS(IF('Bemeneti adatok'!I54>=6,'Bemeneti adatok'!H54*$C$31,"0"),IF($C43="igen",'Bemeneti adatok'!H54*$C$31,"0")),"---") -> --- | I43: =IFERROR(G43*H43*$B$31,"---") -> --- | J43: =IFERROR(I43*$R$11,"---") -> --- | K43: =V24 -> --- | L43: =IFERROR(_xlfn.IFS(IF('Bemeneti adatok'!L54>=6,'Bemeneti adatok'!K54*$C$31,"0"),IF($C43="igen",'Bemeneti adatok'!K54*$C$31,"0")),"---") -> --- | M43: =IFERROR(K43*L43*$B$31,"---") -> --- | N43: =IFERROR(M43*$X$11,"---") -> --- | O43: =AB24 -> --- | P43: =IFERROR(_xlfn.IFS(IF('Bemeneti adatok'!O54>=6,'Bemeneti adatok'!N54*$C$31,"0"),IF($C43="igen",'Bemeneti adatok'!N54*$C$31,"0")),"---") -> --- | Q43: =IFERROR(O43*P43*$B$31,"---") -> --- | R43: =IFERROR(Q43*$AD$11,"---") -> --- | S43: =AH24 -> --- | T43: =IFERROR(_xlfn.IFS(IF('Bemeneti adatok'!R54>=6,'Bemeneti adatok'!Q54*$C$31,"0"),IF($C43="igen",'Bemeneti adatok'!Q54*$C$31,"0")),"---") -> --- | U43: =IFERROR(S43*T43*$B$31,"---") -> --- | V43: =IFERROR(U43*$AJ$11,"---") -> --- | W43: =AN24 -> --- | X43: =IFERROR(_xlfn.IFS(IF('Bemeneti adatok'!U54>=6,'Bemeneti adatok'!T54*$C$31,"0"),IF($C43="igen",'Bemeneti adatok'!T54*$C$31,"0")),"---") -> --- | Y43: =IFERROR(W43*X43*$B$31,"---") -> --- | Z43: =IFERROR(Y43*$AP$11,"---") -> ---
A44: Összesen | F44: =SUM(F33:F43) -> 0 | I44: =SUM(I33:I43) -> 0 | J44: =SUM(J33:J43) -> 0 | M44: =SUM(M33:M43) -> 0 | N44: =SUM(N33:N43) -> 0 | Q44: =SUM(Q33:Q43) -> 0 | R44: =SUM(R33:R43) -> 0 | U44: =SUM(U33:U43) -> 0 | V44: =SUM(V33:V43) -> 0 | Y44: =SUM(Y33:Y43) -> 0 | Z44: =SUM(Z33:Z43) -> 0
A49: EGYÉB MŰKÖDÉSI BEVÉTEL | B49: 0. év | F49: 1. év | J49: 2. év | N49: 3. év | R49: 4. év | V49: 5. év
B50: ='Bemeneti adatok'!$E$41 -> 1900 | F50: ='Bemeneti adatok'!$H$41 -> 1901 | J50: ='Bemeneti adatok'!$K$41 -> 1902 | N50: ='Bemeneti adatok'!$N$41 -> 1903 | R50: ='Bemeneti adatok'!$Q$41 -> 1904 | V50: ='Bemeneti adatok'!$T$41 -> 1905
B51: Egységár (Ft) | C51: Mennyiség | D51: M.e. (pl. db, hónap…) | E51: Összesen (Ft) | F51: Egységár (Ft) | G51: Mennyiség | H51: M.e. | I51: Összesen (Ft) | J51: Egységár (Ft) | K51: Mennyiség | L51: M.e. | M51: Összesen (Ft) | N51: Egységár (Ft) | O51: Mennyiség | P51: M.e. | Q51: Összesen (Ft) | R51: Egységár (Ft) | S51: Mennyiség | T51: M.e. | U51: Összesen (Ft) | V51: Egységár (Ft) | W51: Mennyiség | X51: M.e. | Y51: Összesen (Ft)
A52: Felnőttképzés | E52: =B52*C52 -> 0 | H52: =$D52 -> 0 | I52: =F52*G52 -> 0 | L52: =$D52 -> 0 | M52: =J52*K52 -> 0 | P52: =$D52 -> 0 | Q52: =N52*O52 -> 0 | T52: =$D52 -> 0 | U52: =R52*S52 -> 0 | X52: =$D52 -> 0 | Y52: =V52*W52 -> 0
A53: Tevékenység 1. | E53: =B53*C53 -> 0 | H53: =$D53 -> 0 | I53: =F53*G53 -> 0 | L53: =$D53 -> 0 | M53: =J53*K53 -> 0 | P53: =$D53 -> 0 | Q53: =N53*O53 -> 0 | T53: =$D53 -> 0 | U53: =R53*S53 -> 0 | X53: =$D53 -> 0 | Y53: =V53*W53 -> 0
A54: Tevékenység 2. | E54: =B54*C54 -> 0 | H54: =$D54 -> 0 | I54: =F54*G54 -> 0 | L54: =$D54 -> 0 | M54: =J54*K54 -> 0 | P54: =$D54 -> 0 | Q54: =N54*O54 -> 0 | T54: =$D54 -> 0 | U54: =R54*S54 -> 0 | X54: =$D54 -> 0 | Y54: =V54*W54 -> 0
A55: Tevékenység 3. | E55: =B55*C55 -> 0 | H55: =$D55 -> 0 | I55: =F55*G55 -> 0 | L55: =$D55 -> 0 | M55: =J55*K55 -> 0 | P55: =$D55 -> 0 | Q55: =N55*O55 -> 0 | T55: =$D55 -> 0 | U55: =R55*S55 -> 0 | X55: =$D55 -> 0 | Y55: =V55*W55 -> 0
A56: Tevékenység 4. | E56: =B56*C56 -> 0 | H56: =$D56 -> 0 | I56: =F56*G56 -> 0 | L56: =$D56 -> 0 | M56: =J56*K56 -> 0 | P56: =$D56 -> 0 | Q56: =N56*O56 -> 0 | T56: =$D56 -> 0 | U56: =R56*S56 -> 0 | X56: =$D56 -> 0 | Y56: =V56*W56 -> 0
A57: Tevékenység 5. | E57: =B57*C57 -> 0 | H57: =$D57 -> 0 | I57: =F57*G57 -> 0 | L57: =$D57 -> 0 | M57: =J57*K57 -> 0 | P57: =$D57 -> 0 | Q57: =N57*O57 -> 0 | T57: =$D57 -> 0 | U57: =R57*S57 -> 0 | X57: =$D57 -> 0 | Y57: =V57*W57 -> 0
A58: Tevékenység 6. | E58: =B58*C58 -> 0 | H58: =$D58 -> 0 | I58: =F58*G58 -> 0 | L58: =$D58 -> 0 | M58: =J58*K58 -> 0 | P58: =$D58 -> 0 | Q58: =N58*O58 -> 0 | T58: =$D58 -> 0 | U58: =R58*S58 -> 0 | X58: =$D58 -> 0 | Y58: =V58*W58 -> 0
A59: Tevékenység 7. | E59: =B59*C59 -> 0 | H59: =$D59 -> 0 | I59: =F59*G59 -> 0 | L59: =$D59 -> 0 | M59: =J59*K59 -> 0 | P59: =$D59 -> 0 | Q59: =N59*O59 -> 0 | T59: =$D59 -> 0 | U59: =R59*S59 -> 0 | X59: =$D59 -> 0 | Y59: =V59*W59 -> 0
A60: Összesen | E60: =SUM(E52:E59) -> 0 | I60: =SUM(I52:I59) -> 0 | M60: =SUM(M52:M59) -> 0 | Q60: =SUM(Q52:Q59) -> 0 | U60: =SUM(U52:U59) -> 0 | Y60: =SUM(Y52:Y59) -> 0
B64: 0. év | C64: 1. év | D64: 2. év | E64: 3. év | F64: 4. év | G64: 5. év
A65: TÁMOGATÁSI BEVÉTEL | B65: ='Bemeneti adatok'!$E$41 -> 1900 | C65: ='Bemeneti adatok'!$H$41 -> 1901 | D65: ='Bemeneti adatok'!$K$41 -> 1902 | E65: ='Bemeneti adatok'!$N$41 -> 1903 | F65: ='Bemeneti adatok'!$Q$41 -> 1904 | G65: ='Bemeneti adatok'!$T$41 -> 1905
B66: Összesen (Ft) | C66: Összesen (Ft) | D66: Összesen (Ft) | E66: Összesen (Ft) | F66: Összesen (Ft) | G66: Összesen (Ft)
A67: Célhoz kötött támogatás
A68: Pályázat
A69: Tevékenység 1.
A70: Tevékenység 2.
A71: Tevékenység 3.
A72: Tevékenység 4.
A73: Tevékenység 5.
A74: Tevékenység 6.
A75: Összesen | B75: =SUM(B67:B74) -> 0 | C75: =SUM(C67:C74) -> 0 | D75: =SUM(D67:D74) -> 0 | E75: =SUM(E67:E74) -> 0 | F75: =SUM(F67:F74) -> 0 | G75: =SUM(G67:G74) -> 0

Sheet Eredménykimutatás
A11: Periódus | C11: 0. év | D11: 1. év | E11: 2. év | F11: 3. év | G11: 4. év | H11: 5. év
A12: Év | C12: ='Bemeneti adatok'!E18 -> 1900 | D12: ='Bemeneti adatok'!F18 -> 1901 | E12: ='Bemeneti adatok'!G18 -> 1902 | F12: ='Bemeneti adatok'!H18 -> 1903 | G12: ='Bemeneti adatok'!I18 -> 1904 | H12: ='Bemeneti adatok'!J18 -> 1905
A13: Megnevezés | B13: M.e.
A14: Tanulói jogviszony/felnőttképzési jogviszony után járó munkaszerződés alapú adóvisszatérítés | B14: eFt | C14: =IFERROR(Bevétel!M26,"---") -> 0 | D14: =IFERROR(Bevétel!S26,"---") -> 0 | E14: =IFERROR(Bevétel!Y26,"---") -> 0 | F14: =IFERROR(Bevétel!AE26,"---") -> 0 | G14: =IFERROR(Bevétel!AK26,"---") -> 0 | H14: =IFERROR(Bevétel!AQ26,"---") -> 0
A15: Sikerdíj | B15: eFt | C15: =IFERROR(Bevétel!F44,"---") -> 0 | D15: =IFERROR(Bevétel!J44,"---") -> 0 | E15: =IFERROR(Bevétel!N44,"---") -> 0 | F15: =IFERROR(Bevétel!R44,"---") -> 0 | G15: =IFERROR(Bevétel!V44,"---") -> 0 | H15: =IFERROR(Bevétel!Z44,"---") -> 0
A16: Egyéb működési bevétel | B16: eFt | C16: =Bevétel!E60 -> 0 | D16: =Bevétel!I60 -> 0 | E16: =Bevétel!M60 -> 0 | F16: =Bevétel!Q60 -> 0 | G16: =Bevétel!U60 -> 0 | H16: =Bevétel!Y60 -> 0
A17: Támogatási bevétel | C17: =Bevétel!B75 -> 0 | D17: =Bevétel!C75 -> 0 | E17: =Bevétel!D75 -> 0 | F17: =Bevétel!E75 -> 0 | G17: =Bevétel!F75 -> 0 | H17: =Bevétel!G75 -> 0
A18: Bevétel összesen | B18: eFt | C18: =SUM(C14:C17) -> 0 | D18: =SUM(D14:D17) -> 0 | E18: =SUM(E14:E17) -> 0 | F18: =SUM(F14:F17) -> 0 | G18: =SUM(G14:G17) -> 0 | H18: =SUM(H14:H17) -> 0
A19: Anyagjellegű ráfordítások | B19: eFt | C19: =GETPIVOTDATA("0. év",'További költség-kimutatás'!$A$10,"Költségkategória","Anyagjellegű ráfordítások") -> 0 | D19: =GETPIVOTDATA("1. év",'További költség-kimutatás'!$A$10,"Költségkategória","Anyagjellegű ráfordítások") -> 0 | E19: =GETPIVOTDATA("2. év",'További költség-kimutatás'!$A$10,"Költségkategória","Anyagjellegű ráfordítások") -> 0 | F19: =GETPIVOTDATA("3. év",'További költség-kimutatás'!$A$10,"Költségkategória","Anyagjellegű ráfordítások") -> 0 | G19: =GETPIVOTDATA("4. év",'További költség-kimutatás'!$A$10,"Költségkategória","Anyagjellegű ráfordítások") -> 0 | H19: =GETPIVOTDATA("5. év",'További költség-kimutatás'!$A$10,"Költségkategória","Anyagjellegű ráfordítások") -> 0
A20: Személyi jellegű ráfordítások tanulók, hallgatók | B20: eFt | C20: ='Működési költség'!I122 -> 0 | D20: ='Működési költség'!O122 -> 0 | E20: ='Működési költség'!U122 -> 0 | F20: ='Működési költség'!AA122 -> 0 | G20: ='Működési költség'!AG122 -> 0 | H20: ='Működési költség'!AM122 -> 0
A21: Személyi jellegű ráfordítások dolgozók | B21: eFt | C21: ='Működési költség'!K34+'Működési költség'!K61 -> 0 | D21: ='Működési költség'!T34+'Működési költség'!R61 -> 0 | E21: ='Működési költség'!AC34+'Működési költség'!Y61 -> 0 | F21: ='Működési költség'!AL34+'Működési költség'!AF61 -> 0 | G21: ='Működési költség'!AU34+'Működési költség'!AM61 -> 0 | H21: ='Működési költség'!BD34+'Működési költség'!AT61 -> 0
A22: Egyéb nem bérjellegű kifizetések | B22: eFt | C22: =GETPIVOTDATA("0. év",'További költség-kimutatás'!$A$10,"Költségkategória","Egyéb nem bérjellegű kifizetések") -> 0 | D22: =GETPIVOTDATA("1. év",'További költség-kimutatás'!$A$10,"Költségkategória","Egyéb nem bérjellegű kifizetések") -> 0 | E22: =GETPIVOTDATA("2. év",'További költség-kimutatás'!$A$10,"Költségkategória","Egyéb nem bérjellegű kifizetések") -> 0 | F22: =GETPIVOTDATA("3. év",'További költség-kimutatás'!$A$10,"Költségkategória","Egyéb nem bérjellegű kifizetések") -> 0 | G22: =GETPIVOTDATA("4. év",'További költség-kimutatás'!$A$10,"Költségkategória","Egyéb nem bérjellegű kifizetések") -> 0 | H22: =GETPIVOTDATA("5. év",'További költség-kimutatás'!$A$10,"Költségkategória","Egyéb nem bérjellegű kifizetések") -> 0
A23: Igénybevett szolgáltatások | B23: eFt | C23: =GETPIVOTDATA("0. év",'További költség-kimutatás'!$A$10,"Költségkategória","Igénybevett szolgáltatások") -> 0 | D23: =GETPIVOTDATA("1. év",'További költség-kimutatás'!$A$10,"Költségkategória","Igénybevett szolgáltatások") -> 0 | E23: =GETPIVOTDATA("2. év",'További költség-kimutatás'!$A$10,"Költségkategória","Igénybevett szolgáltatások") -> 0 | F23: =GETPIVOTDATA("3. év",'További költség-kimutatás'!$A$10,"Költségkategória","Igénybevett szolgáltatások") -> 0 | G23: =GETPIVOTDATA("4. év",'További költség-kimutatás'!$A$10,"Költségkategória","Igénybevett szolgáltatások") -> 0 | H23: =GETPIVOTDATA("5. év",'További költség-kimutatás'!$A$10,"Költségkategória","Igénybevett szolgáltatások") -> 0
A24: Egyéb szolgáltatás | B24: eFt | C24: =GETPIVOTDATA("0. év",'További költség-kimutatás'!$A$10,"Költségkategória","Egyéb szolgáltatás") -> 0 | D24: =GETPIVOTDATA("1. év",'További költség-kimutatás'!$A$10,"Költségkategória","Egyéb szolgáltatás") -> 0 | E24: =GETPIVOTDATA("2. év",'További költség-kimutatás'!$A$10,"Költségkategória","Egyéb szolgáltatás") -> 0 | F24: =GETPIVOTDATA("3. év",'További költség-kimutatás'!$A$10,"Költségkategória","Egyéb szolgáltatás") -> 0 | G24: =GETPIVOTDATA("4. év",'További költség-kimutatás'!$A$10,"Költségkategória","Egyéb szolgáltatás") -> 0 | H24: =GETPIVOTDATA("5. év",'További költség-kimutatás'!$A$10,"Költségkategória","Egyéb szolgáltatás") -> 0
A25: Értékcsökkenési leírás | B25: eFt
A26: Egyéb ráfordítás | B26: eFt
A27: Működési költség összesen | B27: eFt | C27: =SUM(C19:C26) -> 0 | D27: =SUM(D19:D26) -> 0 | E27: =SUM(E19:E26) -> 0 | F27: =SUM(F19:F26) -> 0 | G27: =SUM(G19:G26) -> 0 | H27: =SUM(H19:H26) -> 0
A28: Működési eredmény összesen | B28: eFt | C28: =C18-C27 -> 0 | D28: =D18-D27 -> 0 | E28: =E18-E27 -> 0 | F28: =F18-F27 -> 0 | G28: =G18-G27 -> 0 | H28: =H18-H27 -> 0
A29: Pénzügyi műveletek bevételei | B29: eFt
A30: Pénzügyi műveletek ráfordításai | B30: eFt
A31: PÉNZÜGYI MŰVELETEK EREDMÉNYE | B31: eFt | C31: =C29-C30 -> 0 | D31: =D29-D30 -> 0 | E31: =E29-E30 -> 0 | F31: =F29-F30 -> 0 | G31: =G29-G30 -> 0 | H31: =H29-H30 -> 0
A32: ADÓZÁS ELŐTTI EREDMÉNY | B32: eFt | C32: =C28+C31 -> 0 | D32: =D28+D31 -> 0 | E32: =E28+E31 -> 0 | F32: =F28+F31 -> 0 | G32: =G28+G31 -> 0 | H32: =H28+H31 -> 0
A33: Adófizetési kötelezettség | B33: eFt
A34: ADÓZOTT EREDMÉNY | B34: eFt | C34: =C32-C33 -> 0 | D34: =D32-D33 -> 0 | E34: =E32-E33 -> 0 | F34: =F32-F33 -> 0 | G34: =G32-G33 -> 0 | H34: =H32-H33 -> 0
A35: ADÓZÁS ELŐTTI EREDMÉNY+ÉCS (EBITDA) | B35: eFt | C35: =C32+C25 -> 0 | D35: =D32+D25 -> 0 | E35: =E32+E25 -> 0 | F35: =F32+F25 -> 0 | G35: =G32+G25 -> 0 | H35: =H32+H25 -> 0
