Workbook
Name HétVége: [1]Költségelszámolás!$C$6
Name PÉHónapKezdő: [1]Eredményelőrejelzés!$AC$2
Name PÉKezdőÉv: [1]Eredményelőrejelzés!$AD$2
Name PénzügyiÉv: '[1]Éves pénzforgalom'!$P$2
Name ÚtiköltségDíj: [1]Költségelszámolás!$C$7

Sheet Segédtábla
B1: SZC | C1: nagykorú | D1: 8 | F1: igen | H1: magánszemély
B2: Bajai Szakképzési Centrum | C2: fiatalkorú | D2: 7 | F2: nem | H2: vállalkozó
B3: Baranya Vármegyei Szakképzési Centrum | E3: munkanapok
B4: Békéscsabai Szakképzési Centrum | D4: év | E4: január | F4: február | G4: március | H4: április | I4: május | J4: június | K4: július | L4: augusztus | M4: szeptember | N4: október | O4: november | P4: december | Q4: összesen | R4: átlag
B5: Berettyóújfalui Szakképzési Centrum | D5: 2024 | E5: 22 | F5: 21 | G5: 19 | H5: 21 | I5: 21 | J5: 20 | K5: 23 | L5: 21 | M5: 21 | N5: 22 | O5: 20 | P5: 20 | Q5: =SUM(E5:P5) -> 251 | R5: =AVERAGE(E5:P5) -> 20.916667
B6: Budapesti Gazdasági Szakképzési Centrum | D6: 2025 | E6: 22 | F6: 20 | G6: 20 | H6: 20 | I6: 22 | J6: 19 | K6: 23 | L6: 21 | M6: 21 | N6: 22 | O6: 20 | P6: 20 | Q6: =SUM(E6:P6) -> 250 | R6: =AVERAGE(E6:P6) -> 20.833333
B7: Budapesti Gépészeti Szakképzési Centrum | D7: 2026 | E7: 22 | F7: 20 | G7: 20 | H7: 20 | I7: 21 | J7: 20 | K7: 23 | L7: 21 | M7: 21 | N7: 22 | O7: 20 | P7: 20 | Q7: =SUM(E7:P7) -> 250 | R7: =AVERAGE(E7:P7) -> 20.833333
B8: Budapesti Komplex Szakképzési Centrum | D8: 2027 | E8: 22 | F8: 20 | G8: 18 | H8: 22 | I8: 21 | J8: 20 | K8: 23 | L8: 21 | M8: 21 | N8: 22 | O8: 20 | P8: 20 | Q8: =SUM(E8:P8) -> 250 | R8: =AVERAGE(E8:P8) -> 20.833333
B9: Budapesti Műszaki Szakképzési Centrum | D9: 2028 | E9: 22 | F9: 21 | G9: 20 | H9: 20 | I9: 22 | J9: 19 | K9: 23 | L9: 21 | M9: 21 | N9: 22 | O9: 20 | P9: 20 | Q9: =SUM(E9:P9) -> 251 | R9: =AVERAGE(E9:P9) -> 20.916667
B10: Ceglédi Szakképzési Centrum | D10: 2029 | E10: 22 | F10: 20 | G10: 19 | H10: 21 | I10: 21 | J10: 20 | K10: 23 | L10: 21 | M10: 21 | N10: 22 | O10: 20 | P10: 20 | Q10: =SUM(E10:P10) -> 250 | R10: =AVERAGE(E10:P10) -> 20.833333
B11: Debreceni Szakképzési Centrum | D11: 2030 | E11: 22 | F11: 20 | G11: 20 | H11: 20 | I11: 22 | J11: 19 | K11: 23 | L11: 21 | M11: 21 | N11: 22 | O11: 20 | P11: 20 | Q11: =SUM(E11:P11) -> 250 | R11: =AVERAGE(E11:P11) -> 20.833333
B12: Dunaújvárosi Szakképzési Centrum | D12: 2031 | E12: 22 | F12: 20 | G12: 20 | H12: 20 | I12: 22 | J12: 19 | K12: 23 | L12: 21 | M12: 21 | N12: 22 | O12: 20 | P12: 20 | Q12: =SUM(E12:P12) -> 250 | R12: =AVERAGE(E12:P12) -> 20.833333
B13: Érdi Szakképzési Centrum | D13: 2032 | E13: 22 | F13: 21 | G13: 18 | H13: 22 | I13: 21 | J13: 20 | K13: 23 | L13: 21 | M13: 21 | N13: 22 | O13: 20 | P13: 20 | Q13: =SUM(E13:P13) -> 251 | R13: =AVERAGE(E13:P13) -> 20.916667
B14: Esztergomi Szakképzési Centrum | D14: 2033 | E14: 22 | F14: 20 | G14: 20 | H14: 20 | I14: 22 | J14: 19 | K14: 23 | L14: 21 | M14: 21 | N14: 22 | O14: 20 | P14: 20 | Q14: =SUM(E14:P14) -> 250 | R14: =AVERAGE(E14:P14) -> 20.833333
B15: Győri Szakképzési Centrum | D15: 2034 | E15: 22 | F15: 20 | G15: 20 | H15: 20 | I15: 21 | J15: 20 | K15: 23 | L15: 21 | M15: 21 | N15: 22 | O15: 20 | P15: 20 | Q15: =SUM(E15:P15) -> 250 | R15: =AVERAGE(E15:P15) -> 20.833333
B16: Gyulai Szakképzési Centrum
B17: Heves Vármegyei Szakképzési Centrum
B18: Hódmezővásárhelyi Szakképzési Centrum
B19: Kaposvári Szakképzési Centrum
B20: Karcagi Szakképzési Centrum
B21: Kecskeméti Szakképzési Centrum
B22: Kiskunhalasi Szakképzési Centrum
B23: Kisvárdai Szakképzési Centrum
B24: Mátészalkai Szakképzési Centrum
B25: Miskolci Szakképzési Centrum
B26: Nagykanizsai Szakképzési Centrum
B27: Nógrád Vármegyei Szakképzési Centrum
... B42: Zalaegerszegi Szakképzési Centrum
B44: Szakmaszorzó | C44: szakképző iskola | D44: technikum
B45: Elektronika és elektrotechnika | C45: 2.42 | D45: 2.85
B46: Élelmiszeripar | C46: 2.2 | D46: 2.2
B47: Gépészet | C47: 2.42 | D47: 2.85
B48: Informatika és távközlés | C48: 2.2 | D48: 2.2
B49: Specializált gép- és járműgyártás | C49: 2.85 | D49: 2.85

Sheet Kitöltési útmutató
B11: KITÖLTÉSI ÚTMUTATÓ
B13: CÉL | C13: A GINOP Plusz-5.1.1-24 Szakképzési Ágazati Tudásközpontok létrehozása c. felhívásra benyújtandó támogatási kérelem részeként működési modell benyújtása szükséges. A működési modell központi eleme az üzleti terv, azon belül az ágazati tudásközpont létrejöttét követő 5 évre vonatkozó pénzügyi terv (bevételek-költségek-eredmények alakulása évenkénti bontásban) elkészítése szövegesen és számszerűen is, a kalkulációk részletes leírásával. Jelen sablon célja ezen pénzügyi terv elkészítésének támogatása.
B14: Technikai információ | C14: A táblázatban háttérszínnel kiemelésre kerültek a kitöltendő mezők. A kitöltésük a lent megjelölt eseteket kivéve szükséges.
C15: A kék háttérszínű mezők legördülő menüből történő választással tölthetők.
C16: A világoskék háttérszínű mezők kitöltése bármilyen értékkel lehetséges.
C17: A fehér háttérrel rendelkező cellák képletezettek/előre kitöltöttek.
C18: Az arany háttérszínű cellák előre kitöltött adatokat tartalmaznak, azonban felülírhatók, illetve ellenőrzésük szükséges.
C19: A kitöltéssel kapcsolatos kérdéseit az alábbi e-mail címen jelezheti:
C20: ginopplusz523@nive.hu
B21: Szöveges összefoglaló munkalap | C21: A munkalapon tudja alátámasztani, elmagyarázni a pénzügyi terv elkészítése során alkalmazott feltételezéseket, bemutatni a kialakításhoz felhasznált információkat. Amennyiben az eredménykimutatás során valamelyik évben negatív eredmény mutatkozik, a szöveges részben tudja bemutatni, hogy a vállalkozás ezt hogyan fogja finanszírozni (pl. a tőketartalék, vagy a korábbi üzleti években felhalmozott pozitív eredménytartalék terhére). Itt célszerű érinteni az alábbiakat: • a várható nyitónapi egyenleg bemutatása, • a tőke tervezett felhasználása, • az eredmény előrejelzés pénzügyi elemzése (pl. megtérülés szempontjából), • a feltételezések alátámasztása. A munkalap szükség esetén további információkkal (sorokkal) bővíthető.
B22: Bemeneti adatok munkalap | C22: Javaslat a Tudásközpont létrejöttének éve tervezéséhez: A 0. év a Tudásközpont létrejöttének éve. A Tudásközpont hivatalos létrejötte az az év, amikor a nonprofit gazdasági társaság megalakul. A működési modellben a Tudásközpont létrejöttének éveként javasoljuk azt az évet megadni, amikor a Tudásközpont mint létesítmény létrejött (megépült, felújításra került), a szükséges eszközök beszerzésre kerültek és a nonprofit gazdasági társaság megalakult.
C23: Az inflációt, bérinflációt az MNB (Magyar Nemzeti Bank) legfrissebb inflációs jelentése alapján célszerű tervezni. Jelenlegi adatok 2024. decemberi jelentés alapján szerepelnek, azonban felülírhatók. A jelentések az alábbi honlapon elérhetők:
C24: https://www.mnb.hu/kiadvanyok/jelentesek/inflacios-jelentes
C25: A szakirányú oktatás tanulólétszámára vonatkozóan csak a Szakképzési Ágazati Tudásközpont esetében releváns évfolyamokra vonatkozó adatok töltendőek.
C26: Szakmaszorzóhoz kapcsolódóan szakképző iskolai szakmaként került meghatározásra, ha a szakma Magyar Képesítési Keretrendszer szintje 4; technikumi szakmaként került meghatározásra, ha a szakma Magyar Képesítési Keretrendszer szintje 5.
C27: Javaslat a Tudásközpontban töltött idő aránya (%) tervezéséhez: Végzős évfolyamon: 100%, ha a tanuló tömbösítve vesz részt szakmai oktatásban, tehát a megjelölt hónapokban minden munkanapot a Tudásközpontban (vagy szabadságon, táppénzen) tölt. Kevesebb, mint 100%, ha a közismeretet és/ vagy a szakmai ismeretek egy részét az iskolában tanulja. Pl. ha egy héten 5 napból 3 napot tölt a Tudásközpontban ez az arány 60%, ha 5 napból 4-et 80% stb. Nem végzős évfolyamon: 100%, ha a tanuló tömbösítve vesz részt szakmai oktatásban és/vagy a nyári összefüggő gyakorlatot tölti a Tudásközpontban, tehát a megjelölt hónapokban minden munkanapot a Tudásközpontban (vagy szabadságon, táppénzen) tölt. Kevesebb, mint 100%, ha a közismeretet és/ vagy a szakmai ismeretek egy részét az iskolában tanulja. Pl. ha egy 11. évfolyamos tanuló a tanítási évben egy héten 5 napból 2 napot tölt a Tudásközpontban, de a teljes tanévre munkaszerződése van évi 41 hétre 40% az arány, a június 15. és augusztus 31. közötti 11 hétre pedig 100%, ez átlagosan (41x40 + 11x100)/52 = 52,7% ( természetesen januártól augusztusig nem ugyanaz a tanuló lesz pl.11. évfolyamos, mint szeptembertől decemberig).
B28: Működési költség munkalap | C28: A munkalapon tervezhetők (egymás alatt található táblázatokban) a nonprofit gazdasági társaság munkavállalóihoz kapcsolódó személyi jellegű ráfordítások, a megbízási jogviszonyban (magánszemélyek vagy vállalkozók) foglalkoztatottakkal kapcsolatos költségek, a duális képzésben foglalkoztatott tanulókkal kapcsolatos személyi jellegű ráfordítások, a tanulókhoz kapcsolódó egyéb költségek, illetve a nonprofit gazdasági társaság egyéb költségei.
C29: Személyi jellegű ráfordítások - dolgozók esetében a szükséges mennyiségű pozíció és a vonatkozó adatok töltendők. Kérjük, hogy a munkaviszonyban foglalkoztatott munkavállalókat az A11 cellában kezdődő, a megbízási jogviszonyban foglalkoztatottakat az A38 cellában kezdődő, a tanulókat az A107 cellában kezdődő táblázatban jelenítsék meg.
C30: Minden évre vonatkozóan az adott évi teljes létszám kitöltése szükséges, nem csak az új belépőké.
C31: Munkaviszonyban foglalkoztatott munkavállalók esetén a heti munkaidő ráfordítás arányát kérjük %-ban meghatározni. Pl. heti 40 órás munkaviszonyt 100%-nak tekintve a heti 20 órás munkaviszony esetében 50% feltüntetése szükséges.
C32: Személyi jellegű ráfordítások - tanulók, hallgatók esetén az alábbi törvények alapján a munkaszerződéssel lefedett hónapok teljes idejével terveztünk. Tanulók esetén: 2019. évi LXXX. tv. 85. § (3) A tanulót, illetve a képzésben részt vevő személyt az e § szerinti munkabér és juttatások a szakképzési munkaszerződés hatálybalépésének napjától, teljes hónapra illetik meg. Ha a szakképzési munkaszerződés a tanév megkezdése után, hónap közben jön létre vagy szűnik meg, a tanulót, illetve a képzésben részt vevő személyt az e § szerinti munkabér és juttatások időarányos része illeti meg. Hallgatók esetén: 2011. évi CCIV. törvény 44. §: (3) a) az (1) bekezdés a) pontja szerinti esetben díjazás illetheti, illetve a gyakorlatigényes szak szakmai gyakorlatának ideje alatt, valamint a duális képzés képzési ideje alatt díjazás illeti, amelynek mértéke legalább a kötelező legkisebb munkabér (minimálbér) hatvanöt százaléka, a díjat – eltérő megállapodás hiányában – a szakmai gyakorlóhely fizeti.
C33: További költségek esetén a D70-78 cellák vonatkozásában az 1 tanulóra, hallgatóra jutó éves bruttó egységköltség (Ft), a D81. cellától a havi bruttó költség feltüntetése lehetséges. Az A97-102 költségek esetében lehetőség van egyszeri éves költségek megadására.
C34: További költségek esetén releváns esetben töltendők az egyéb kiadások és kapcsolódó adataik.
B35: További költség-kimutatás munkalap | C35: További költségek kitöltése után kérjük, hogy frissítse a További költségek-kimutatás munkalapon található kimutatást. (A kimutatás a fájl megnyitásakor automatikusan is frissül.)
B36: Bevétel munkalap | C36: A munkalapon tervezhetők a szakképzési munkaszerződéshez kapcsolódó adóvisszatérítéssel kapcsolatos, illetve a sikerdíjjal kapcsolatos bevételek, illetve a nonprofit gazdasági társaság egyéb tervezett bevételei.
C37: Fiatalkorúak megállapításához kapcsolódó feltételezés: 10-12. évfolyamon a tanulók 18 év alattiak, 13-14. évfolyamon 18 év felettiek
C38: Sikerdíj kedvezmény igénybevétele sikeres szakmai vizsga és legalább 6 hónapos egybefüggő időtartamban fennálló szakképzési munkaszerződés esetében tervezhető. Jelen sablonban sikerdíjjal hallgatók esetén nem terveztünk.
C39: Egyéb működési bevétel és támogatási bevétel esetén a tevékenységek és a kapcsolódó adataik releváns esetben töltendők.
C40: Támogatási bevétel: célhoz kötött támogatások esetén nem keletkezhet sem pozitív, sem negatív eredmény, adott évre annyi bevétel tervezhető, amennyi költség az adott évben felmerül.
B41: Eredménykimutatás munkalap | C41: Az értékcsökkenési leírás, egyéb ráfordítás, pénzügyi műveletek bevételei és ráfordításai és az adófizetési kötelezettség vonatkozó cellái töltendők. Az eredménykimutatás többi cellája képletezett, a bevétel és a működési költségek munkalapról kerülnek át az adatok.
C42: Amennyiben valamelyik évben negatív eredmény mutatkozik, a pénzügyi terv szöveges részében be kell mutatni, hogy a vállalkozás ezt hogyan fogja finanszírozni (pl. a tőketartalék, vagy a korábbi üzleti években felhalmozott pozitív eredménytartalék terhére).

Sheet Szöveges összefoglaló
B12: SZÖVEGES ÖSSZEFOGLALÓ
B15: INPUT ADATOK ÖSSZEFOGLALÁSA
B16: Bevételt befolyásoló input paraméterek
B17: Költségoldalt befolyásoló input paraméterek
B18: ALKALMAZOTT FELTÉTELEZÉSEK
B19: Eredménykimutatást befolyásoló jelentős feltételezések
B20: Egyéb feltételezések
B21: OPTIMÁLIS MŰKÖDÉSHEZ SZÜKSÉGES ADATOK MEGHATÁROZÁSA
B22: Bevételi oldal jellemzése
B23: Kiadási oldal jellemzése
B24: EREDMÉNYKIMUTATÁS JELLEMZÉSE
B25: Esetleges negatív eredmény esetén a finanszírozás bemutatása
B26: Eredmény előrejelzés pénzügyi elemzése

Sheet Bemeneti adatok
B11: Szakképzési Centrum neve:
B12: Ágazat megnevezése:
B14: Tudásközpont létrejöttének tervezett dátuma (év, hó,nap):
B15: Induló év (törtév) hónapjainak száma alapítás időpontjától számolva:
B17: Periódus | E17: 0. év | F17: 1. év | G17: 2. év | H17: 3. év | I17: 4. év | J17: 5. év
B18: Év | D18: M.e. | E18: =YEAR(E14) -> 1900 | F18: =E18+1 -> 1901 | G18: =F18+1 -> 1902 | H18: =G18+1 -> 1903 | I18: =H18+1 -> 1904 | J18: =I18+1 -> 1905
B19: Infláció - HUF | D19: % | E19: 0.035 | F19: 0.035 | G19: 0.035 | H19: 0.03 | I19: 0.03 | J19: 0.03
B20: Infláció - HUF (kumulált) | D20: % | E20: 1 | F20: =E20*(1+F19) -> 1.035 | G20: =F20*(1+G19) -> 1.071225 | H20: =G20*(1+H19) -> 1.1033617 | I20: =H20*(1+I19) -> 1.1364626 | J20: =I20*(1+J19) -> 1.1705565
B21: Bérinfláció | D21: % | E21: 0.127 | F21: =E21-0.5% -> 0.122 | G21: =F21-0.5% -> 0.117 | H21: =G21-0.5% -> 0.112 | I21: =H21-0.5% -> 0.107 | J21: =I21-0.5% -> 0.102
B22: Bérinfláció (kumulált) | D22: % | E22: 1 | F22: =E22*(1+F21) -> 1.122 | G22: =F22*(1+G21) -> 1.253274 | H22: =G22*(1+H21) -> 1.3936407 | I22: =H22*(1+I21) -> 1.5427602 | J22: =I22*(1+J21) -> 1.7001218
B23: Munkanapok | D23: nap | E23: =IFERROR(VLOOKUP(E18,Segédtábla!$D$4:$Q$15,14,FALSE),"---") -> --- | F23: =IFERROR(VLOOKUP(F18,Segédtábla!$D$4:$Q$15,14,FALSE),"---") -> --- | G23: =IFERROR(VLOOKUP(G18,Segédtábla!$D$4:$Q$15,14,FALSE),"---") -> --- | H23: =IFERROR(VLOOKUP(H18,Segédtábla!$D$4:$Q$15,14,FALSE),"---") -> --- | I23: =IFERROR(VLOOKUP(I18,Segédtábla!$D$4:$Q$15,14,FALSE),"---") -> --- | J23: =IFERROR(VLOOKUP(J18,Segédtábla!$D$4:$Q$15,14,FALSE),"---") -> ---
B24: Átlagos havi munkanapok száma | D24: nap | E24: =IFERROR(ROUND(E23/12,0),"---") -> --- | F24: =IFERROR(ROUND(F23/12,0),"---") -> --- | G24: =IFERROR(ROUND(G23/12,0),"---") -> --- | H24: =IFERROR(ROUND(H23/12,0),"---") -> --- | I24: =IFERROR(ROUND(I23/12,0),"---") -> --- | J24: =IFERROR(ROUND(J23/12,0),"---") -> ---
B26: Foglalkoztatást terhelő adók, járulékok | D26: % | E26: 0.13
B27: Hallgatói munkabér (minimum) | D27: Ft | E27: =E28*65% -> 173420
B28: Minimálbér | D28: Ft | E28: 266800
B29: Tanulói munkabér (minimum) | D29: Ft | E29: =E30/12 -> 100000
B30: Átlagos képzési önköltség | D30: Ft | E30: 1200000
B31: Figyelembe vehető alapnormatíva | D31: Ft | E31: 650000
B32: Sikerdíj mértéke | D32: % | E32: 0.2
B33: Sikerességi ráta | D33: % | E33: 0.9
C35: Szakmaszorzó | E35: Elektronika és elektrotechnika | F35: Élelmiszeripar | G35: Gépészet | H35: Informatika és távközlés | I35: Specializált gép- és járműgyártás
C36: szakképző iskola | D36: - | E36: 2.42 | F36: 2.2 | G36: 2.42 | H36: 2.2 | I36: 2.85
C37: technikum | D37: - | E37: 2.85 | G37: 2.85
E40: 0. év | H40: 1. év | K40: 2. év | N40: 3. év | Q40: 4. év | T40: 5. év
E41: =YEAR(E14) -> 1900 | H41: =E41+1 -> 1901 | K41: =E41+2 -> 1902 | N41: =E41+3 -> 1903 | Q41: =E41+4 -> 1904 | T41: =E41+5 -> 1905
B42: Szakirányú oktatás időtartama | C42: Évfolyam | D42: Évfolyami szorzó | E42: Szakirányú oktatás tanulói létszám (fő) | F42: Munkaszerződés-sel lefedett hónapok száma (hónap) | G42: Tudásközpontban eltöltött idő aránya (%) | H42: Szakirányú oktatás tanulói létszám (fő) | I42: Munkaszerződés-sel lefedett hónapok száma (hónap) | J42: Tudásközpontban eltöltött idő aránya (%) | K42: Szakirányú oktatás tanulói létszám (fő) | L42: Munkaszerződés-sel lefedett hónapok száma (hónap) | M42: Tudásközpontban eltöltött idő aránya (%) | N42: Szakirányú oktatás tanulói létszám (fő) | O42: Munkaszerződés-sel lefedett hónapok száma (hónap) | P42: Tudásközpontban eltöltött idő aránya (%) | Q42: Szakirányú oktatás tanulói létszám (fő) | R42: Munkaszerződés-sel lefedett hónapok száma (hónap) | S42: Tudásközpontban eltöltött idő aránya (%) | T42: Szakirányú oktatás tanulói létszám (fő) | U42: Munkaszerződés-sel lefedett hónapok száma (hónap) | V42: Tudásközpontban eltöltött idő aránya (%)
B44: Legfeljebb 1 év | C44: 13. évfolyam | D44: 1
B45: Legfeljebb 2 év | C45: 10. évfolyam | D45: 1.2
C46: 11. évfolyam | D46: 0.8
B47: Legfeljebb 3 év | C47: 11. évfolyam | D47: 1.2
C48: 12. évfolyam | D48: 1
C49: 13. évfolyam | D49: 0.8
B50: Legfeljebb 4 év | C50: 11. évfolyam | D50: 1.2
C51: 12. évfolyam | D51: 1
C52: 13. évfolyam | D52: 1
C53: 14. évfolyam | D53: 0.8
B54: Felnőttek szakmai oktatása | C54: évfolyamtól független | D54: 1
B55: Hallgatók | C55: évfolyamtól független | D55: 1
C56: Összes tanuló | E56: =SUM(E44:E54) -> 0 | H56: =SUM(H44:H54) -> 0 | K56: =SUM(K44:K54) -> 0 | N56: =SUM(N44:N54) -> 0 | Q56: =SUM(Q44:Q54) -> 0 | T56: =SUM(T44:T54) -> 0
C57: Összes tanuló+hallgató | E57: =SUM(E44:E55) -> 0 | H57: =SUM(H44:H55) -> 0 | K57: =SUM(K44:K55) -> 0 | N57: =SUM(N44:N55) -> 0 | Q57: =SUM(Q44:Q55) -> 0 | T57: =SUM(T44:T55) -> 0

Sheet Működési költség
A11: SZEMÉLYI JELLEGŰ RÁFORDÍTÁSOK - DOLGOZÓK, OKTATÓK Munkaviszony esetén | D11: 0. év | E11: ='Bemeneti adatok'!E18 -> 1900 | F11: hónapok száma | G11: járulék szorzó | L11: 1. év | M11: ='Bemeneti adatok'!$F$18 -> 1901 | N11: hónapok száma | O11: járulék szorzó | P11: kumulált reálbér index | U11: 2. év | V11: ='Bemeneti adatok'!$G$18 -> 1902 | W11: hónapok száma | X11: járulék szorzó | Y11: kumulált reálbér index | AD11: 3. év | AE11: ='Bemeneti adatok'!$H$18 -> 1903 | AF11: hónapok száma | AG11: járulék szorzó | AH11: kumulált reálbér index | AM11: 4. év | AN11: ='Bemeneti adatok'!$I$18 -> 1904 | AO11: hónapok száma | AP11: járulék szorzó | AQ11: kumulált reálbér index | AV11: 5. év | AW11: ='Bemeneti adatok'!$J$18 -> 1905 | AX11: hónapok száma | AY11: járulék szorzó | AZ11: kumulált reálbér index
F12: ='Bemeneti adatok'!$E$15 -> 0 | G12: ='Bemeneti adatok'!$E$26 -> 0.13 | N12: 12 | O12: ='Bemeneti adatok'!$E$26 -> 0.13 | P12: ='Bemeneti adatok'!$F$22 -> 1.122 | W12: 12 | X12: ='Bemeneti adatok'!$E$26 -> 0.13 | Y12: ='Bemeneti adatok'!$G$22 -> 1.253274 | AF12: 12 | AG12: ='Bemeneti adatok'!$E$26 -> 0.13 | AH12: ='Bemeneti adatok'!$H$22 -> 1.3936407 | AO12: 12 | AP12: ='Bemeneti adatok'!$E$26 -> 0.13 | AQ12: ='Bemeneti adatok'!$I$22 -> 1.5427602 | AX12: 12 | AY12: ='Bemeneti adatok'!$E$26 -> 0.13 | AZ12: ='Bemeneti adatok'!$J$22 -> 1.7001218
A13: Pozíció | B13: Bruttó bér/fő/hó (Ft) | C13: Személyi jellegű egyéb kifizetések/fő/hó (Ft) | D13: Létszám (fő) | E13: Heti munkaidő ráfordítás aránya (%) | F13: Összes bruttó bér (Ft) | G13: Összes járulék (Ft) | H13: Összes bérköltség (Ft) | I13: Személyi jellegű egyéb kifizetések összesen (Ft) | J13: Személyi jellegű egyéb kifizetésekhez kapcsolódó járulékok (Ft) | K13: Összesen (Ft) | L13: Létszám (fő) | M13: Heti munkaidő ráfordítás aránya (%) | N13: Összes bruttó bér (Ft) | O13: Összes járulék (Ft) | P13: Összes bérköltség (Ft) | Q13: Személyi jellegű egyéb kifizetések összesen (Ft) | R13: Személyi jellegű egyéb kifizetésekhez kapcsolódó járulékok (Ft) | S13: Összesen (Ft) | T13: Összesen (Ft) kumulált reálbér indexszel növelve | U13: Létszám (fő) | V13: Heti munkaidő ráfordítás aránya (%) | W13: Összes bruttó bér (Ft) | X13: Összes járulék (Ft) | Y13: Összes bérköltség (Ft) | Z13: Személyi jellegű egyéb kifizetések összesen (Ft) | AA13: Személyi jellegű egyéb kifizetésekhez kapcsolódó járulékok (Ft) | AB13: Összesen (Ft) | AC13: Összesen (Ft) kumulált reálbér indexszel növelve | AD13: Létszám (fő) | AE13: Heti munkaidő ráfordítás aránya (%) | AF13: Összes bruttó bér (Ft) | AG13: Összes járulék (Ft) | AH13: Összes bérköltség (Ft) | AI13: Személyi jellegű egyéb kifizetések összesen (Ft) | AJ13: Személyi jellegű egyéb kifizetésekhez kapcsolódó járulékok (Ft) | AK13: Összesen (Ft) | AL13: Összesen (Ft) kumulált reálbér indexszel növelve | AM13: Létszám (fő) | AN13: Heti munkaidő ráfordítás aránya (%) | AO13: Összes bruttó bér (Ft) | AP13: Összes járulék (Ft) | AQ13: Összes bérköltség (Ft) | AR13: Személyi jellegű egyéb kifizetések összesen (Ft) | AS13: Személyi jellegű egyéb kifizetésekhez kapcsolódó járulékok (Ft) | AT13: Összesen (Ft) | AU13: Összesen (Ft) kumulált reálbér indexszel növelve | AV13: Létszám (fő) | AW13: Heti munkaidő ráfordítás aránya (%) | AX13: Összes bruttó bér (Ft) | AY13: Összes járulék (Ft) | AZ13: Összes bérköltség (Ft) | BA13: Személyi jellegű egyéb kifizetések összesen (Ft) | BB13: Személyi jellegű egyéb kifizetésekhez kapcsolódó járulékok (Ft) | BC13: Összesen (Ft) | BD13: Összesen (Ft) kumulált reálbér indexszel növelve
A14: Pozíció1 | F14: =$B14*$D14*$E14*$F$12 -> 0 | G14: =F14*$G$12 -> 0 | H14: =F14+G14 -> 0 | I14: =$C14*$D14*$F$12 -> 0 | K14: =H14+I14+J14 -> 0 | N14: =$B14*$L14*$M14*$N$12 -> 0 | O14: =N14*$O$12 -> 0 | P14: =N14+O14 -> 0 | Q14: =$C14*$L14*$N$12 -> 0 | S14: =P14+Q14+R14 -> 0 | T14: =S14*$P$12 -> 0 | W14: =$B14*$U14*$V14*$W$12 -> 0 | X14: =W14*$X$12 -> 0 | Y14: =W14+X14 -> 0 | Z14: =$C14*$U14*$W$12 -> 0 | AB14: =Y14+Z14+AA14 -> 0 | AC14: =AB14*$Y$12 -> 0 | AF14: =$B14*$AD14*$AE14*$AF$12 -> 0 | AG14: =AF14*$AG$12 -> 0 | AH14: =AF14+AG14 -> 0 | AI14: =$C14*$AD14*$AF$12 -> 0 | AK14: =AH14+AI14+AJ14 -> 0 | AL14: =AK14*$AH$12 -> 0 | AO14: =$B14*$AM14*$AN14*$AO$12 -> 0 | AP14: =AO14*$AP$12 -> 0 | AQ14: =AO14+AP14 -> 0 | AR14: =$C14*$AM14*$AO$12 -> 0 | AT14: =AQ14+AR14+AS14 -> 0 | AU14: =AT14*$AQ$12 -> 0 | AX14: =$B14*$AV14*$AW14*$AX$12 -> 0 | AY14: =AX14*$AY$12 -> 0 | AZ14: =AX14+AY14 -> 0 | BA14: =$C14*$AV14*$AX$12 -> 0 | BC14: =AZ14+BA14+BB14 -> 0 | BD14: =BC14*$AZ$12 -> 0
A15: Pozíció2 | F15: =$B15*$D15*$E15*$F$12 -> 0 | G15: =F15*$G$12 -> 0 | H15: =F15+G15 -> 0 | I15: =$C15*$D15*$F$12 -> 0 | K15: =H15+I15+J15 -> 0 | N15: =$B15*$L15*$M15*$N$12 -> 0 | O15: =N15*$O$12 -> 0 | P15: =N15+O15 -> 0 | Q15: =$C15*$L15*$N$12 -> 0 | S15: =P15+Q15+R15 -> 0 | T15: =S15*$P$12 -> 0 | W15: =$B15*$U15*$V15*$W$12 -> 0 | X15: =W15*$X$12 -> 0 | Y15: =W15+X15 -> 0 | Z15: =$C15*$U15*$W$12 -> 0 | AB15: =Y15+Z15+AA15 -> 0 | AC15: =AB15*$Y$12 -> 0 | AF15: =$B15*$AD15*$AE15*$AF$12 -> 0 | AG15: =AF15*$AG$12 -> 0 | AH15: =AF15+AG15 -> 0 | AI15: =$C15*$AD15*$AF$12 -> 0 | AK15: =AH15+AI15+AJ15 -> 0 | AL15: =AK15*$AH$12 -> 0 | AO15: =$B15*$AM15*$AN15*$AO$12 -> 0 | AP15: =AO15*$AP$12 -> 0 | AQ15: =AO15+AP15 -> 0 | AR15: =$C15*$AM15*$AO$12 -> 0 | AT15: =AQ15+AR15+AS15 -> 0 | AU15: =AT15*$AQ$12 -> 0 | AX15: =$B15*$AV15*$AW15*$AX$12 -> 0 | AY15: =AX15*$AY$12 -> 0 | AZ15: =AX15+AY15 -> 0 | BA15: =$C15*$AV15*$AX$12 -> 0 | BC15: =AZ15+BA15+BB15 -> 0 | BD15: =BC15*$AZ$12 -> 0
A16: Pozíció3 | F16: =$B16*$D16*$E16*$F$12 -> 0 | G16: =F16*$G$12 -> 0 | H16: =F16+G16 -> 0 | I16: =$C16*$D16*$F$12 -> 0 | K16: =H16+I16+J16 -> 0 | N16: =$B16*$L16*$M16*$N$12 -> 0 | O16: =N16*$O$12 -> 0 | P16: =N16+O16 -> 0 | Q16: =$C16*$L16*$N$12 -> 0 | S16: =P16+Q16+R16 -> 0 | T16: =S16*$P$12 -> 0 | W16: =$B16*$U16*$V16*$W$12 -> 0 | X16: =W16*$X$12 -> 0 | Y16: =W16+X16 -> 0 | Z16: =$C16*$U16*$W$12 -> 0 | AB16: =Y16+Z16+AA16 -> 0 | AC16: =AB16*$Y$12 -> 0 | AF16: =$B16*$AD16*$AE16*$AF$12 -> 0 | AG16: =AF16*$AG$12 -> 0 | AH16: =AF16+AG16 -> 0 | AI16: =$C16*$AD16*$AF$12 -> 0 | AK16: =AH16+AI16+AJ16 -> 0 | AL16: =AK16*$AH$12 -> 0 | AO16: =$B16*$AM16*$AN16*$AO$12 -> 0 | AP16: =AO16*$AP$12 -> 0 | AQ16: =AO16+AP16 -> 0 | AR16: =$C16*$AM16*$AO$12 -> 0 | AT16: =AQ16+AR16+AS16 -> 0 | AU16: =AT16*$AQ$12 -> 0 | AX16: =$B16*$AV16*$AW16*$AX$12 -> 0 | AY16: =AX16*$AY$12 -> 0 | AZ16: =AX16+AY16 -> 0 | BA16: =$C16*$AV16*$AX$12 -> 0 | BC16: =AZ16+BA16+BB16 -> 0 | BD16: =BC16*$AZ$12 -> 0
A17: Pozíció4 | F17: =$B17*$D17*$E17*$F$12 -> 0 | G17: =F17*$G$12 -> 0 | H17: =F17+G17 -> 0 | I17: =$C17*$D17*$F$12 -> 0 | K17: =H17+I17+J17 -> 0 | N17: =$B17*$L17*$M17*$N$12 -> 0 | O17: =N17*$O$12 -> 0 | P17: =N17+O17 -> 0 | Q17: =$C17*$L17*$N$12 -> 0 | S17: =P17+Q17+R17 -> 0 | T17: =S17*$P$12 -> 0 | W17: =$B17*$U17*$V17*$W$12 -> 0 | X17: =W17*$X$12 -> 0 | Y17: =W17+X17 -> 0 | Z17: =$C17*$U17*$W$12 -> 0 | AB17: =Y17+Z17+AA17 -> 0 | AC17: =AB17*$Y$12 -> 0 | AF17: =$B17*$AD17*$AE17*$AF$12 -> 0 | AG17: =AF17*$AG$12 -> 0 | AH17: =AF17+AG17 -> 0 | AI17: =$C17*$AD17*$AF$12 -> 0 | AK17: =AH17+AI17+AJ17 -> 0 | AL17: =AK17*$AH$12 -> 0 | AO17: =$B17*$AM17*$AN17*$AO$12 -> 0 | AP17: =AO17*$AP$12 -> 0 | AQ17: =AO17+AP17 -> 0 | AR17: =$C17*$AM17*$AO$12 -> 0 | AT17: =AQ17+AR17+AS17 -> 0 | AU17: =AT17*$AQ$12 -> 0 | AX17: =$B17*$AV17*$AW17*$AX$12 -> 0 | AY17: =AX17*$AY$12 -> 0 | AZ17: =AX17+AY17 -> 0 | BA17: =$C17*$AV17*$AX$12 -> 0 | BC17: =AZ17+BA17+BB17 -> 0 | BD17: =BC17*$AZ$12 -> 0
A18: Pozíció5 | F18: =$B18*$D18*$E18*$F$12 -> 0 | G18: =F18*$G$12 -> 0 | H18: =F18+G18 -> 0 | I18: =$C18*$D18*$F$12 -> 0 | K18: =H18+I18+J18 -> 0 | N18: =$B18*$L18*$M18*$N$12 -> 0 | O18: =N18*$O$12 -> 0 | P18: =N18+O18 -> 0 | Q18: =$C18*$L18*$N$12 -> 0 | S18: =P18+Q18+R18 -> 0 | T18: =S18*$P$12 -> 0 | W18: =$B18*$U18*$V18*$W$12 -> 0 | X18: =W18*$X$12 -> 0 | Y18: =W18+X18 -> 0 | Z18: =$C18*$U18*$W$12 -> 0 | AB18: =Y18+Z18+AA18 -> 0 | AC18: =AB18*$Y$12 -> 0 | AF18: =$B18*$AD18*$AE18*$AF$12 -> 0 | AG18: =AF18*$AG$12 -> 0 | AH18: =AF18+AG18 -> 0 | AI18: =$C18*$AD18*$AF$12 -> 0 | AK18: =AH18+AI18+AJ18 -> 0 | AL18: =AK18*$AH$12 -> 0 | AO18: =$B18*$AM18*$AN18*$AO$12 -> 0 | AP18: =AO18*$AP$12 -> 0 | AQ18: =AO18+AP18 -> 0 | AR18: =$C18*$AM18*$AO$12 -> 0 | AT18: =AQ18+AR18+AS18 -> 0 | AU18: =AT18*$AQ$12 -> 0 | AX18: =$B18*$AV18*$AW18*$AX$12 -> 0 | AY18: =AX18*$AY$12 -> 0 | AZ18: =AX18+AY18 -> 0 | BA18: =$C18*$AV18*$AX$12 -> 0 | BC18: =AZ18+BA18+BB18 -> 0 | BD18: =BC18*$AZ$12 -> 0
A19: Pozíció6 | F19: =$B19*$D19*$E19*$F$12 -> 0 | G19: =F19*$G$12 -> 0 | H19: =F19+G19 -> 0 | I19: =$C19*$D19*$F$12 -> 0 | K19: =H19+I19+J19 -> 0 | N19: =$B19*$L19*$M19*$N$12 -> 0 | O19: =N19*$O$12 -> 0 | P19: =N19+O19 -> 0 | Q19: =$C19*$L19*$N$12 -> 0 | S19: =P19+Q19+R19 -> 0 | T19: =S19*$P$12 -> 0 | W19: =$B19*$U19*$V19*$W$12 -> 0 | X19: =W19*$X$12 -> 0 | Y19: =W19+X19 -> 0 | Z19: =$C19*$U19*$W$12 -> 0 | AB19: =Y19+Z19+AA19 -> 0 | AC19: =AB19*$Y$12 -> 0 | AF19: =$B19*$AD19*$AE19*$AF$12 -> 0 | AG19: =AF19*$AG$12 -> 0 | AH19: =AF19+AG19 -> 0 | AI19: =$C19*$AD19*$AF$12 -> 0 | AK19: =AH19+AI19+AJ19 -> 0 | AL19: =AK19*$AH$12 -> 0 | AO19: =$B19*$AM19*$AN19*$AO$12 -> 0 | AP19: =AO19*$AP$12 -> 0 | AQ19: =AO19+AP19 -> 0 | AR19: =$C19*$AM19*$AO$12 -> 0 | AT19: =AQ19+AR19+AS19 -> 0 | AU19: =AT19*$AQ$12 -> 0 | AX19: =$B19*$AV19*$AW19*$AX$12 -> 0 | AY19: =AX19*$AY$12 -> 0 | AZ19: =AX19+AY19 -> 0 | BA19: =$C19*$AV19*$AX$12 -> 0 | BC19: =AZ19+BA19+BB19 -> 0 | BD19: =BC19*$AZ$12 -> 0
A20: Pozíció7 | F20: =$B20*$D20*$E20*$F$12 -> 0 | G20: =F20*$G$12 -> 0 | H20: =F20+G20 -> 0 | I20: =$C20*$D20*$F$12 -> 0 | K20: =H20+I20+J20 -> 0 | N20: =$B20*$L20*$M20*$N$12 -> 0 | O20: =N20*$O$12 -> 0 | P20: =N20+O20 -> 0 | Q20: =$C20*$L20*$N$12 -> 0 | S20: =P20+Q20+R20 -> 0 | T20: =S20*$P$12 -> 0 | W20: =$B20*$U20*$V20*$W$12 -> 0 | X20: =W20*$X$12 -> 0 | Y20: =W20+X20 -> 0 | Z20: =$C20*$U20*$W$12 -> 0 | AB20: =Y20+Z20+AA20 -> 0 | AC20: =AB20*$Y$12 -> 0 | AF20: =$B20*$AD20*$AE20*$AF$12 -> 0 | AG20: =AF20*$AG$12 -> 0 | AH20: =AF20+AG20 -> 0 | AI20: =$C20*$AD20*$AF$12 -> 0 | AK20: =AH20+AI20+AJ20 -> 0 | AL20: =AK20*$AH$12 -> 0 | AO20: =$B20*$AM20*$AN20*$AO$12 -> 0 | AP20: =AO20*$AP$12 -> 0 | AQ20: =AO20+AP20 -> 0 | AR20: =$C20*$AM20*$AO$12 -> 0 | AT20: =AQ20+AR20+AS20 -> 0 | AU20: =AT20*$AQ$12 -> 0 | AX20: =$B20*$AV20*$AW20*$AX$12 -> 0 | AY20: =AX20*$AY$12 -> 0 | AZ20: =AX20+AY20 -> 0 | BA20: =$C20*$AV20*$AX$12 -> 0 | BC20: =AZ20+BA20+BB20 -> 0 | BD20: =BC20*$AZ$12 -> 0
A21: Pozíció8 | F21: =$B21*$D21*$E21*$F$12 -> 0 | G21: =F21*$G$12 -> 0 | H21: =F21+G21 -> 0 | I21: =$C21*$D21*$F$12 -> 0 | K21: =H21+I21+J21 -> 0 | N21: =$B21*$L21*$M21*$N$12 -> 0 | O21: =N21*$O$12 -> 0 | P21: =N21+O21 -> 0 | Q21: =$C21*$L21*$N$12 -> 0 | S21: =P21+Q21+R21 -> 0 | T21: =S21*$P$12 -> 0 | W21: =$B21*$U21*$V21*$W$12 -> 0 | X21: =W21*$X$12 -> 0 | Y21: =W21+X21 -> 0 | Z21: =$C21*$U21*$W$12 -> 0 | AB21: =Y21+Z21+AA21 -> 0 | AC21: =AB21*$Y$12 -> 0 | AF21: =$B21*$AD21*$AE21*$AF$12 -> 0 | AG21: =AF21*$AG$12 -> 0 | AH21: =AF21+AG21 -> 0 | AI21: =$C21*$AD21*$AF$12 -> 0 | AK21: =AH21+AI21+AJ21 -> 0 | AL21: =AK21*$AH$12 -> 0 | AO21: =$B21*$AM21*$AN21*$AO$12 -> 0 | AP21: =AO21*$AP$12 -> 0 | AQ21: =AO21+AP21 -> 0 | AR21: =$C21*$AM21*$AO$12 -> 0 | AT21: =AQ21+AR21+AS21 -> 0 | AU21: =AT21*$AQ$12 -> 0 | AX21: =$B21*$AV21*$AW21*$AX$12 -> 0 | AY21: =AX21*$AY$12 -> 0 | AZ21: =AX21+AY21 -> 0 | BA21: =$C21*$AV21*$AX$12 -> 0 | BC21: =AZ21+BA21+BB21 -> 0 | BD21: =BC21*$AZ$12 -> 0
A22: Pozíció9 | F22: =$B22*$D22*$E22*$F$12 -> 0 | G22: =F22*$G$12 -> 0 | H22: =F22+G22 -> 0 | I22: =$C22*$D22*$F$12 -> 0 | K22: =H22+I22+J22 -> 0 | N22: =$B22*$L22*$M22*$N$12 -> 0 | O22: =N22*$O$12 -> 0 | P22: =N22+O22 -> 0 | Q22: =$C22*$L22*$N$12 -> 0 | S22: =P22+Q22+R22 -> 0 | T22: =S22*$P$12 -> 0 | W22: =$B22*$U22*$V22*$W$12 -> 0 | X22: =W22*$X$12 -> 0 | Y22: =W22+X22 -> 0 | Z22: =$C22*$U22*$W$12 -> 0 | AB22: =Y22+Z22+AA22 -> 0 | AC22: =AB22*$Y$12 -> 0 | AF22: =$B22*$AD22*$AE22*$AF$12 -> 0 | AG22: =AF22*$AG$12 -> 0 | AH22: =AF22+AG22 -> 0 | AI22: =$C22*$AD22*$AF$12 -> 0 | AK22: =AH22+AI22+AJ22 -> 0 | AL22: =AK22*$AH$12 -> 0 | AO22: =$B22*$AM22*$AN22*$AO$12 -> 0 | AP22: =AO22*$AP$12 -> 0 | AQ22: =AO22+AP22 -> 0 | AR22: =$C22*$AM22*$AO$12 -> 0 | AT22: =AQ22+AR22+AS22 -> 0 | AU22: =AT22*$AQ$12 -> 0 | AX22: =$B22*$AV22*$AW22*$AX$12 -> 0 | AY22: =AX22*$AY$12 -> 0 | AZ22: =AX22+AY22 -> 0 | BA22: =$C22*$AV22*$AX$12 -> 0 | BC22: =AZ22+BA22+BB22 -> 0 | BD22: =BC22*$AZ$12 -> 0
A23: Pozíció10 | F23: =$B23*$D23*$E23*$F$12 -> 0 | G23: =F23*$G$12 -> 0 | H23: =F23+G23 -> 0 | I23: =$C23*$D23*$F$12 -> 0 | K23: =H23+I23+J23 -> 0 | N23: =$B23*$L23*$M23*$N$12 -> 0 | O23: =N23*$O$12 -> 0 | P23: =N23+O23 -> 0 | Q23: =$C23*$L23*$N$12 -> 0 | S23: =P23+Q23+R23 -> 0 | T23: =S23*$P$12 -> 0 | W23: =$B23*$U23*$V23*$W$12 -> 0 | X23: =W23*$X$12 -> 0 | Y23: =W23+X23 -> 0 | Z23: =$C23*$U23*$W$12 -> 0 | AB23: =Y23+Z23+AA23 -> 0 | AC23: =AB23*$Y$12 -> 0 | AF23: =$B23*$AD23*$AE23*$AF$12 -> 0 | AG23: =AF23*$AG$12 -> 0 | AH23: =AF23+AG23 -> 0 | AI23: =$C23*$AD23*$AF$12 -> 0 | AK23: =AH23+AI23+AJ23 -> 0 | AL23: =AK23*$AH$12 -> 0 | AO23: =$B23*$AM23*$AN23*$AO$12 -> 0 | AP23: =AO23*$AP$12 -> 0 | AQ23: =AO23+AP23 -> 0 | AR23: =$C23*$AM23*$AO$12 -> 0 | AT23: =AQ23+AR23+AS23 -> 0 | AU23: =AT23*$AQ$12 -> 0 | AX23: =$B23*$AV23*$AW23*$AX$12 -> 0 | AY23: =AX23*$AY$12 -> 0 | AZ23: =AX23+AY23 -> 0 | BA23: =$C23*$AV23*$AX$12 -> 0 | BC23: =AZ23+BA23+BB23 -> 0 | BD23: =BC23*$AZ$12 -> 0
A24: Pozíció11 | F24: =$B24*$D24*$E24*$F$12 -> 0 | G24: =F24*$G$12 -> 0 | H24: =F24+G24 -> 0 | I24: =$C24*$D24*$F$12 -> 0 | K24: =H24+I24+J24 -> 0 | N24: =$B24*$L24*$M24*$N$12 -> 0 | O24: =N24*$O$12 -> 0 | P24: =N24+O24 -> 0 | Q24: =$C24*$L24*$N$12 -> 0 | S24: =P24+Q24+R24 -> 0 | T24: =S24*$P$12 -> 0 | W24: =$B24*$U24*$V24*$W$12 -> 0 | X24: =W24*$X$12 -> 0 | Y24: =W24+X24 -> 0 | Z24: =$C24*$U24*$W$12 -> 0 | AB24: =Y24+Z24+AA24 -> 0 | AC24: =AB24*$Y$12 -> 0 | AF24: =$B24*$AD24*$AE24*$AF$12 -> 0 | AG24: =AF24*$AG$12 -> 0 | AH24: =AF24+AG24 -> 0 | AI24: =$C24*$AD24*$AF$12 -> 0 | AK24: =AH24+AI24+AJ24 -> 0 | AL24: =AK24*$AH$12 -> 0 | AO24: =$B24*$AM24*$AN24*$AO$12 -> 0 | AP24: =AO24*$AP$12 -> 0 | AQ24: =AO24+AP24 -> 0 | AR24: =$C24*$AM24*$AO$12 -> 0 | AT24: =AQ24+AR24+AS24 -> 0 | AU24: =AT24*$AQ$12 -> 0 | AX24: =$B24*$AV24*$AW24*$AX$12 -> 0 | AY24: =AX24*$AY$12 -> 0 | AZ24: =AX24+AY24 -> 0 | BA24: =$C24*$AV24*$AX$12 -> 0 | BC24: =AZ24+BA24+BB24 -> 0 | BD24: =BC24*$AZ$12 -> 0
A25: Pozíció12 | F25: =$B25*$D25*$E25*$F$12 -> 0 | G25: =F25*$G$12 -> 0 | H25: =F25+G25 -> 0 | I25: =$C25*$D25*$F$12 -> 0 | K25: =H25+I25+J25 -> 0 | N25: =$B25*$L25*$M25*$N$12 -> 0 | O25: =N25*$O$12 -> 0 | P25: =N25+O25 -> 0 | Q25: =$C25*$L25*$N$12 -> 0 | S25: =P25+Q25+R25 -> 0 | T25: =S25*$P$12 -> 0 | W25: =$B25*$U25*$V25*$W$12 -> 0 | X25: =W25*$X$12 -> 0 | Y25: =W25+X25 -> 0 | Z25: =$C25*$U25*$W$12 -> 0 | AB25: =Y25+Z25+AA25 -> 0 | AC25: =AB25*$Y$12 -> 0 | AF25: =$B25*$AD25*$AE25*$AF$12 -> 0 | AG25: =AF25*$AG$12 -> 0 | AH25: =AF25+AG25 -> 0 | AI25: =$C25*$AD25*$AF$12 -> 0 | AK25: =AH25+AI25+AJ25 -> 0 | AL25: =AK25*$AH$12 -> 0 | AO25: =$B25*$AM25*$AN25*$AO$12 -> 0 | AP25: =AO25*$AP$12 -> 0 | AQ25: =AO25+AP25 -> 0 | AR25: =$C25*$AM25*$AO$12 -> 0 | AT25: =AQ25+AR25+AS25 -> 0 | AU25: =AT25*$AQ$12 -> 0 | AX25: =$B25*$AV25*$AW25*$AX$12 -> 0 | AY25: =AX25*$AY$12 -> 0 | AZ25: =AX25+AY25 -> 0 | BA25: =$C25*$AV25*$AX$12 -> 0 | BC25: =AZ25+BA25+BB25 -> 0 | BD25: =BC25*$AZ$12 -> 0
... A33: Pozíció20 | F33: =$B33*$D33*$E33*$F$12 -> 0 | G33: =F33*$G$12 -> 0 | H33: =F33+G33 -> 0 | I33: =$C33*$D33*$F$12 -> 0 | K33: =H33+I33+J33 -> 0 | N33: =$B33*$L33*$M33*$N$12 -> 0 | O33: =N33*$O$12 -> 0 | P33: =N33+O33 -> 0 | Q33: =$C33*$L33*$N$12 -> 0 | S33: =P33+Q33+R33 -> 0 | T33: =S33*$P$12 -> 0 | W33: =$B33*$U33*$V33*$W$12 -> 0 | X33: =W33*$X$12 -> 0 | Y33: =W33+X33 -> 0 | Z33: =$C33*$U33*$W$12 -> 0 | AB33: =Y33+Z33+AA33 -> 0 | AC33: =AB33*$Y$12 -> 0 | AF33: =$B33*$AD33*$AE33*$AF$12 -> 0 | AG33: =AF33*$AG$12 -> 0 | AH33: =AF33+AG33 -> 0 | AI33: =$C33*$AD33*$AF$12 -> 0 | AK33: =AH33+AI33+AJ33 -> 0 | AL33: =AK33*$AH$12 -> 0 | AO33: =$B33*$AM33*$AN33*$AO$12 -> 0 | AP33: =AO33*$AP$12 -> 0 | AQ33: =AO33+AP33 -> 0 | AR33: =$C33*$AM33*$AO$12 -> 0 | AT33: =AQ33+AR33+AS33 -> 0 | AU33: =AT33*$AQ$12 -> 0 | AX33: =$B33*$AV33*$AW33*$AX$12 -> 0 | AY33: =AX33*$AY$12 -> 0 | AZ33: =AX33+AY33 -> 0 | BA33: =$C33*$AV33*$AX$12 -> 0 | BC33: =AZ33+BA33+BB33 -> 0 | BD33: =BC33*$AZ$12 -> 0
A34: ÖSSZESEN | D34: =SUM(D14:D33) -> 0 | F34: =SUM(F14:F33) -> 0 | G34: =SUM(G14:G33) -> 0 | H34: =SUM(H14:H33) -> 0 | I34: =SUM(I14:I33) -> 0 | J34: =SUM(J14:J33) -> 0 | K34: =SUM(K14:K33) -> 0 | L34: =SUM(L14:L33) -> 0 | N34: =SUM(N14:N33) -> 0 | O34: =SUM(O14:O33) -> 0 | P34: =SUM(P14:P33) -> 0 | Q34: =SUM(Q14:Q33) -> 0 | R34: =SUM(R14:R33) -> 0 | S34: =SUM(S14:S33) -> 0 | T34: =SUM(T14:T33) -> 0 | U34: =SUM(U14:U33) -> 0 | W34: =SUM(W14:W33) -> 0 | X34: =SUM(X14:X33) -> 0 | Y34: =SUM(Y14:Y33) -> 0 | Z34: =SUM(Z14:Z33) -> 0 | AA34: =SUM(AA14:AA33) -> 0 | AB34: =SUM(AB14:AB33) -> 0 | AC34: =SUM(AC14:AC33) -> 0 | AD34: =SUM(AD14:AD33) -> 0 | AF34: =SUM(AF14:AF33) -> 0 | AG34: =SUM(AG14:AG33) -> 0 | AH34: =SUM(AH14:AH33) -> 0 | AI34: =SUM(AI14:AI33) -> 0 | AJ34: =SUM(AJ14:AJ33) -> 0 | AK34: =SUM(AK14:AK33) -> 0 | AL34: =SUM(AL14:AL33) -> 0 | AM34: =SUM(AM14:AM33) -> 0 | AO34: =SUM(AO14:AO33) -> 0 | AP34: =SUM(AP14:AP33) -> 0 | AQ34: =SUM(AQ14:AQ33) -> 0 | AR34: =SUM(AR14:AR33) -> 0 | AS34: =SUM(AS14:AS33) -> 0 | AT34: =SUM(AT14:AT33) -> 0 | AU34: =SUM(AU14:AU33) -> 0 | AV34: =SUM(AV14:AV33) -> 0 | AX34: =SUM(AX14:AX33) -> 0 | AY34: =SUM(AY14:AY33) -> 0 | AZ34: =SUM(AZ14:AZ33) -> 0 | BA34: =SUM(BA14:BA33) -> 0 | BB34: =SUM(BB14:BB33) -> 0 | BC34: =SUM(BC14:BC33) -> 0 | BD34: =SUM(BD14:BD33) -> 0
A38: SZEMÉLYI JELLEGŰ RÁFORDÍTÁSOK - DOLGOZÓK, OKTATÓK Megbízási jogviszony (magánszemély vagy vállalkozó) esetén | F38: 0. év | G38: ='Bemeneti adatok'!E18 -> 1900 | H38: járulék szorzó | L38: 1. év | M38: ='Bemeneti adatok'!$F$18 -> 1901 | N38: járulék szorzó | O38: kumulált reálbér index | S38: 2. év | T38: ='Bemeneti adatok'!$G$18 -> 1902 | U38: járulék szorzó | V38: kumulált reálbér index | Z38: 3. év | AA38: ='Bemeneti adatok'!$H$18 -> 1903 | AB38: járulék szorzó | AC38: kumulált reálbér index | AG38: 4. év | AH38: ='Bemeneti adatok'!$I$18 -> 1904 | AI38: járulék szorzó | AJ38: kumulált reálbér index | AN38: 5. év | AO38: ='Bemeneti adatok'!$J$18 -> 1905 | AP38: járulék szorzó | AQ38: kumulált reálbér index
H39: ='Bemeneti adatok'!$E$26 -> 0.13 | N39: ='Bemeneti adatok'!$E$26 -> 0.13 | O39: ='Bemeneti adatok'!$F$22 -> 1.122 | U39: ='Bemeneti adatok'!$E$26 -> 0.13 | V39: ='Bemeneti adatok'!$G$22 -> 1.253274 | AB39: ='Bemeneti adatok'!$E$26 -> 0.13 | AC39: ='Bemeneti adatok'!$H$22 -> 1.3936407 | AI39: ='Bemeneti adatok'!$E$26 -> 0.13 | AJ39: ='Bemeneti adatok'!$I$22 -> 1.5427602 | AP39: ='Bemeneti adatok'!$E$26 -> 0.13 | AQ39: ='Bemeneti adatok'!$J$22 -> 1.7001218
A40: Pozíció | B40: Magánszemély/ vállalkozó | C40: Bruttó megbízási díj/fő/hó (Ft) | D40: Költséghányad (%) | E40: Jövedelem/fő/hó (Ft) | F40: Létszám (fő) | G40: Megbízási szerződéssel érintett hónapok száma/év | H40: Összes bruttó megbízási díj (Ft) | I40: Összes jövedelem (Ft) | J40: Összes járulék | K40: Összesen (Ft) | L40: Létszám (fő) | M40: Megbízási szerződéssel érintett hónapok száma/év | N40: Összes bruttó megbízási díj (Ft) | O40: Összes jövedelem (Ft) | P40: Összes járulék | Q40: Összesen (Ft) | R40: Összesen (Ft) kumulált reálbér indexszel növelve | S40: Létszám (fő) | T40: Megbízási szerződéssel érintett hónapok száma/év | U40: Összes bruttó megbízási díj (Ft) | V40: Összes jövedelem (Ft) | W40: Összes járulék | X40: Összesen (Ft) | Y40: Összesen (Ft) kumulált reálbér indexszel növelve | Z40: Létszám (fő) | AA40: Megbízási szerződéssel érintett hónapok száma/év | AB40: Összes bruttó megbízási díj (Ft) | AC40: Összes jövedelem (Ft) | AD40: Összes járulék | AE40: Összesen (Ft) | AF40: Összesen (Ft) kumulált reálbér indexszel növelve | AG40: Létszám (fő) | AH40: Megbízási szerződéssel érintett hónapok száma/év | AI40: Összes bruttó megbízási díj (Ft) | AJ40: Összes jövedelem (Ft) | AK40: Összes járulék | AL40: Összesen (Ft) | AM40: Összesen (Ft) kumulált reálbér indexszel növelve | AN40: Létszám (fő) | AO40: Megbízási szerződéssel érintett hónapok száma/év | AP40: Összes bruttó megbízási díj (Ft) | AQ40: Összes jövedelem (Ft) | AR40: Összes járulék | AS40: Összesen (Ft) | AT40: Összesen (Ft) kumulált reálbér indexszel növelve
A41: Pozíció1 | E41: =C41*D41 -> 0 | H41: =$C41*F41*G41 -> 0 | I41: =$E41*F41*G41 -> 0 | J41: =IF($B41="magánszemély",I41*$H$39,0) -> 0 | K41: =H41+J41 -> 0 | N41: =$C41*L41*M41 -> 0 | O41: =$E41*L41*M41 -> 0 | P41: =IF($B41="magánszemély",O41*$N$39,0) -> 0 | Q41: =N41+P41 -> 0 | R41: =Q41*$O$39 -> 0 | U41: =$C41*S41*T41 -> 0 | V41: =$E41*S41*T41 -> 0 | W41: =IF($B41="magánszemély",V41*$U$39,0) -> 0 | X41: =U41+W41 -> 0 | Y41: =X41*$V$39 -> 0 | AB41: =$C41*Z41*AA41 -> 0 | AC41: =$E41*Z41*AA41 -> 0 | AD41: =IF($B41="magánszemély",AC41*$AB$39,0) -> 0 | AE41: =AB41+AD41 -> 0 | AF41: =AE41*$AC$39 -> 0 | AI41: =$C41*AG41*AH41 -> 0 | AJ41: =$E41*AG41*AH41 -> 0 | AK41: =IF($B41="magánszemély",AJ41*$AI$39,0) -> 0 | AL41: =AI41+AK41 -> 0 | AM41: =AL41*$AJ$39 -> 0 | AP41: =$C41*AN41*AO41 -> 0 | AQ41: =$E41*AN41*AO41 -> 0 | AR41: =IF($B41="magánszemély",AQ41*$AP$39,0) -> 0 | AS41: =AP41+AR41 -> 0 | AT41: =AS41*$AQ$39 -> 0
A42: Pozíció2 | E42: =C42*D42 -> 0 | H42: =$C42*F42*G42 -> 0 | I42: =$E42*F42*G42 -> 0 | J42: =IF($B42="magánszemély",I42*$H$39,0) -> 0 | K42: =H42+J42 -> 0 | N42: =$C42*L42*M42 -> 0 | O42: =$E42*L42*M42 -> 0 | P42: =IF($B42="magánszemély",O42*$N$39,0) -> 0 | Q42: =N42+P42 -> 0 | R42: =Q42*$O$39 -> 0 | U42: =$C42*S42*T42 -> 0 | V42: =$E42*S42*T42 -> 0 | W42: =IF($B42="magánszemély",V42*$U$39,0) -> 0 | X42: =U42+W42 -> 0 | Y42: =X42*$V$39 -> 0 | AB42: =$C42*Z42*AA42 -> 0 | AC42: =$E42*Z42*AA42 -> 0 | AD42: =IF($B42="magánszemély",AC42*$AB$39,0) -> 0 | AE42: =AB42+AD42 -> 0 | AF42: =AE42*$AC$39 -> 0 | AI42: =$C42*AG42*AH42 -> 0 | AJ42: =$E42*AG42*AH42 -> 0 | AK42: =IF($B42="magánszemély",AJ42*$AI$39,0) -> 0 | AL42: =AI42+AK42 -> 0 | AM42: =AL42*$AJ$39 -> 0 | AP42: =$C42*AN42*AO42 -> 0 | AQ42: =$E42*AN42*AO42 -> 0 | AR42: =IF($B42="magánszemély",AQ42*$AP$39,0) -> 0 | AS42: =AP42+AR42 -> 0 | AT42: =AS42*$AQ$39 -> 0
A43: Pozíció3 | E43: =C43*D43 -> 0 | H43: =$C43*F43*G43 -> 0 | I43: =$E43*F43*G43 -> 0 | J43: =IF($B43="magánszemély",I43*$H$39,0) -> 0 | K43: =H43+J43 -> 0 | N43: =$C43*L43*M43 -> 0 | O43: =$E43*L43*M43 -> 0 | P43: =IF($B43="magánszemély",O43*$N$39,0) -> 0 | Q43: =N43+P43 -> 0 | R43: =Q43*$O$39 -> 0 | U43: =$C43*S43*T43 -> 0 | V43: =$E43*S43*T43 -> 0 | W43: =IF($B43="magánszemély",V43*$U$39,0) -> 0 | X43: =U43+W43 -> 0 | Y43: =X43*$V$39 -> 0 | AB43: =$C43*Z43*AA43 -> 0 | AC43: =$E43*Z43*AA43 -> 0 | AD43: =IF($B43="magánszemély",AC43*$AB$39,0) -> 0 | AE43: =AB43+AD43 -> 0 | AF43: =AE43*$AC$39 -> 0 | AI43: =$C43*AG43*AH43 -> 0 | AJ43: =$E43*AG43*AH43 -> 0 | AK43: =IF($B43="magánszemély",AJ43*$AI$39,0) -> 0 | AL43: =AI43+AK43 -> 0 | AM43: =AL43*$AJ$39 -> 0 | AP43: =$C43*AN43*AO43 -> 0 | AQ43: =$E43*AN43*AO43 -> 0 | AR43: =IF($B43="magánszemély",AQ43*$AP$39,0) -> 0 | AS43: =AP43+AR43 -> 0 | AT43: =AS43*$AQ$39 -> 0
A44: Pozíció4 | E44: =C44*D44 -> 0 | H44: =$C44*F44*G44 -> 0 | I44: =$E44*F44*G44 -> 0 | J44: =IF($B44="magánszemély",I44*$H$39,0) -> 0 | K44: =H44+J44 -> 0 | N44: =$C44*L44*M44 -> 0 | O44: =$E44*L44*M44 -> 0 | P44: =IF($B44="magánszemély",O44*$N$39,0) -> 0 | Q44: =N44+P44 -> 0 | R44: =Q44*$O$39 -> 0 | U44: =$C44*S44*T44 -> 0 | V44: =$E44*S44*T44 -> 0 | W44: =IF($B44="magánszemély",V44*$U$39,0) -> 0 | X44: =U44+W44 -> 0 | Y44: =X44*$V$39 -> 0 | AB44: =$C44*Z44*AA44 -> 0 | AC44: =$E44*Z44*AA44 -> 0 | AD44: =IF($B44="magánszemély",AC44*$AB$39,0) -> 0 | AE44: =AB44+AD44 -> 0 | AF44: =AE44*$AC$39 -> 0 | AI44: =$C44*AG44*AH44 -> 0 | AJ44: =$E44*AG44*AH44 -> 0 | AK44: =IF($B44="magánszemély",AJ44*$AI$39,0) -> 0 | AL44: =AI44+AK44 -> 0 | AM44: =AL44*$AJ$39 -> 0 | AP44: =$C44*AN44*AO44 -> 0 | AQ44: =$E44*AN44*AO44 -> 0 | AR44: =IF($B44="magánszemély",AQ44*$AP$39,0) -> 0 | AS44: =AP44+AR44 -> 0 | AT44: =AS44*$AQ$39 -> 0
A45: Pozíció5 | E45: =C45*D45 -> 0 | H45: =$C45*F45*G45 -> 0 | I45: =$E45*F45*G45 -> 0 | J45: =IF($B45="magánszemély",I45*$H$39,0) -> 0 | K45: =H45+J45 -> 0 | N45: =$C45*L45*M45 -> 0 | O45: =$E45*L45*M45 -> 0 | P45: =IF($B45="magánszemély",O45*$N$39,0) -> 0 | Q45: =N45+P45 -> 0 | R45: =Q45*$O$39 -> 0 | U45: =$C45*S45*T45 -> 0 | V45: =$E45*S45*T45 -> 0 | W45: =IF($B45="magánszemély",V45*$U$39,0) -> 0 | X45: =U45+W45 -> 0 | Y45: =X45*$V$39 -> 0 | AB45: =$C45*Z45*AA45 -> 0 | AC45: =$E45*Z45*AA45 -> 0 | AD45: =IF($B45="magánszemély",AC45*$AB$39,0) -> 0 | AE45: =AB45+AD45 -> 0 | AF45: =AE45*$AC$39 -> 0 | AI45: =$C45*AG45*AH45 -> 0 | AJ45: =$E45*AG45*AH45 -> 0 | AK45: =IF($B45="magánszemély",AJ45*$AI$39,0) -> 0 | AL45: =AI45+AK45 -> 0 | AM45: =AL45*$AJ$39 -> 0 | AP45: =$C45*AN45*AO45 -> 0 | AQ45: =$E45*AN45*AO45 -> 0 | AR45: =IF($B45="magánszemély",AQ45*$AP$39,0) -> 0 | AS45: =AP45+AR45 -> 0 | AT45: =AS45*$AQ$39 -> 0
A46: Pozíció6 | E46: =C46*D46 -> 0 | H46: =$C46*F46*G46 -> 0 | I46: =$E46*F46*G46 -> 0 | J46: =IF($B46="magánszemély",I46*$H$39,0) -> 0 | K46: =H46+J46 -> 0 | N46: =$C46*L46*M46 -> 0 | O46: =$E46*L46*M46 -> 0 | P46: =IF($B46="magánszemély",O46*$N$39,0) -> 0 | Q46: =N46+P46 -> 0 | R46: =Q46*$O$39 -> 0 | U46: =$C46*S46*T46 -> 0 | V46: =$E46*S46*T46 -> 0 | W46: =IF($B46="magánszemély",V46*$U$39,0) -> 0 | X46: =U46+W46 -> 0 | Y46: =X46*$V$39 -> 0 | AB46: =$C46*Z46*AA46 -> 0 | AC46: =$E46*Z46*AA46 -> 0 | AD46: =IF($B46="magánszemély",AC46*$AB$39,0) -> 0 | AE46: =AB46+AD46 -> 0 | AF46: =AE46*$AC$39 -> 0 | AI46: =$C46*AG46*AH46 -> 0 | AJ46: =$E46*AG46*AH46 -> 0 | AK46: =IF($B46="magánszemély",AJ46*$AI$39,0) -> 0 | AL46: =AI46+AK46 -> 0 | AM46: =AL46*$AJ$39 -> 0 | AP46: =$C46*AN46*AO46 -> 0 | AQ46: =$E46*AN46*AO46 -> 0 | AR46: =IF($B46="magánszemély",AQ46*$AP$39,0) -> 0 | AS46: =AP46+AR46 -> 0 | AT46: =AS46*$AQ$39 -> 0
A47: Pozíció7 | E47: =C47*D47 -> 0 | H47: =$C47*F47*G47 -> 0 | I47: =$E47*F47*G47 -> 0 | J47: =IF($B47="magánszemély",I47*$H$39,0) -> 0 | K47: =H47+J47 -> 0 | N47: =$C47*L47*M47 -> 0 | O47: =$E47*L47*M47 -> 0 | P47: =IF($B47="magánszemély",O47*$N$39,0) -> 0 | Q47: =N47+P47 -> 0 | R47: =Q47*$O$39 -> 0 | U47: =$C47*S47*T47 -> 0 | V47: =$E47*S47*T47 -> 0 | W47: =IF($B47="magánszemély",V47*$U$39,0) -> 0 | X47: =U47+W47 -> 0 | Y47: =X47*$V$39 -> 0 | AB47: =$C47*Z47*AA47 -> 0 | AC47: =$E47*Z47*AA47 -> 0 | AD47: =IF($B47="magánszemély",AC47*$AB$39,0) -> 0 | AE47: =AB47+AD47 -> 0 | AF47: =AE47*$AC$39 -> 0 | AI47: =$C47*AG47*AH47 -> 0 | AJ47: =$E47*AG47*AH47 -> 0 | AK47: =IF($B47="magánszemély",AJ47*$AI$39,0) -> 0 | AL47: =AI47+AK47 -> 0 | AM47: =AL47*$AJ$39 -> 0 | AP47: =$C47*AN47*AO47 -> 0 | AQ47: =$E47*AN47*AO47 -> 0 | AR47: =IF($B47="magánszemély",AQ47*$AP$39,0) -> 0 | AS47: =AP47+AR47 -> 0 | AT47: =AS47*$AQ$39 -> 0
A48: Pozíció8 | E48: =C48*D48 -> 0 | H48: =$C48*F48*G48 -> 0 | I48: =$E48*F48*G48 -> 0 | J48: =IF($B48="magánszemély",I48*$H$39,0) -> 0 | K48: =H48+J48 -> 0 | N48: =$C48*L48*M48 -> 0 | O48: =$E48*L48*M48 -> 0 | P48: =IF($B48="magánszemély",O48*$N$39,0) -> 0 | Q48: =N48+P48 -> 0 | R48: =Q48*$O$39 -> 0 | U48: =$C48*S48*T48 -> 0 | V48: =$E48*S48*T48 -> 0 | W48: =IF($B48="magánszemély",V48*$U$39,0) -> 0 | X48: =U48+W48 -> 0 | Y48: =X48*$V$39 -> 0 | AB48: =$C48*Z48*AA48 -> 0 | AC48: =$E48*Z48*AA48 -> 0 | AD48: =IF($B48="magánszemély",AC48*$AB$39,0) -> 0 | AE48: =AB48+AD48 -> 0 | AF48: =AE48*$AC$39 -> 0 | AI48: =$C48*AG48*AH48 -> 0 | AJ48: =$E48*AG48*AH48 -> 0 | AK48: =IF($B48="magánszemély",AJ48*$AI$39,0) -> 0 | AL48: =AI48+AK48 -> 0 | AM48: =AL48*$AJ$39 -> 0 | AP48: =$C48*AN48*AO48 -> 0 | AQ48: =$E48*AN48*AO48 -> 0 | AR48: =IF($B48="magánszemély",AQ48*$AP$39,0) -> 0 | AS48: =AP48+AR48 -> 0 | AT48: =AS48*$AQ$39 -> 0
A49: Pozíció9 | E49: =C49*D49 -> 0 | H49: =$C49*F49*G49 -> 0 | I49: =$E49*F49*G49 -> 0 | J49: =IF($B49="magánszemély",I49*$H$39,0) -> 0 | K49: =H49+J49 -> 0 | N49: =$C49*L49*M49 -> 0 | O49: =$E49*L49*M49 -> 0 | P49: =IF($B49="magánszemély",O49*$N$39,0) -> 0 | Q49: =N49+P49 -> 0 | R49: =Q49*$O$39 -> 0 | U49: =$C49*S49*T49 -> 0 | V49: =$E49*S49*T49 -> 0 | W49: =IF($B49="magánszemély",V49*$U$39,0) -> 0 | X49: =U49+W49 -> 0 | Y49: =X49*$V$39 -> 0 | AB49: =$C49*Z49*AA49 -> 0 | AC49: =$E49*Z49*AA49 -> 0 | AD49: =IF($B49="magánszemély",AC49*$AB$39,0) -> 0 | AE49: =AB49+AD49 -> 0 | AF49: =AE49*$AC$39 -> 0 | AI49: =$C49*AG49*AH49 -> 0 | AJ49: =$E49*AG49*AH49 -> 0 | AK49: =IF($B49="magánszemély",AJ49*$AI$39,0) -> 0 | AL49: =AI49+AK49 -> 0 | AM49: =AL49*$AJ$39 -> 0 | AP49: =$C49*AN49*AO49 -> 0 | AQ49: =$E49*AN49*AO49 -> 0 | AR49: =IF($B49="magánszemély",AQ49*$AP$39,0) -> 0 | AS49: =AP49+AR49 -> 0 | AT49: =AS49*$AQ$39 -> 0
A50: Pozíció10 | E50: =C50*D50 -> 0 | H50: =$C50*F50*G50 -> 0 | I50: =$E50*F50*G50 -> 0 | J50: =IF($B50="magánszemély",I50*$H$39,0) -> 0 | K50: =H50+J50 -> 0 | N50: =$C50*L50*M50 -> 0 | O50: =$E50*L50*M50 -> 0 | P50: =IF($B50="magánszemély",O50*$N$39,0) -> 0 | Q50: =N50+P50 -> 0 | R50: =Q50*$O$39 -> 0 | U50: =$C50*S50*T50 -> 0 | V50: =$E50*S50*T50 -> 0 | W50: =IF($B50="magánszemély",V50*$U$39,0) -> 0 | X50: =U50+W50 -> 0 | Y50: =X50*$V$39 -> 0 | AB50: =$C50*Z50*AA50 -> 0 | AC50: =$E50*Z50*AA50 -> 0 | AD50: =IF($B50="magánszemély",AC50*$AB$39,0) -> 0 | AE50: =AB50+AD50 -> 0 | AF50: =AE50*$AC$39 -> 0 | AI50: =$C50*AG50*AH50 -> 0 | AJ50: =$E50*AG50*AH50 -> 0 | AK50: =IF($B50="magánszemély",AJ50*$AI$39,0) -> 0 | AL50: =AI50+AK50 -> 0 | AM50: =AL50*$AJ$39 -> 0 | AP50: =$C50*AN50*AO50 -> 0 | AQ50: =$E50*AN50*AO50 -> 0 | AR50: =IF($B50="magánszemély",AQ50*$AP$39,0) -> 0 | AS50: =AP50+AR50 -> 0 | AT50: =AS50*$AQ$39 -> 0
A51: Pozíció11 | E51: =C51*D51 -> 0 | H51: =$C51*F51*G51 -> 0 | I51: =$E51*F51*G51 -> 0 | J51: =IF($B51="magánszemély",I51*$H$39,0) -> 0 | K51: =H51+J51 -> 0 | N51: =$C51*L51*M51 -> 0 | O51: =$E51*L51*M51 -> 0 | P51: =IF($B51="magánszemély",O51*$N$39,0) -> 0 | Q51: =N51+P51 -> 0 | R51: =Q51*$O$39 -> 0 | U51: =$C51*S51*T51 -> 0 | V51: =$E51*S51*T51 -> 0 | W51: =IF($B51="magánszemély",V51*$U$39,0) -> 0 | X51: =U51+W51 -> 0 | Y51: =X51*$V$39 -> 0 | AB51: =$C51*Z51*AA51 -> 0 | AC51: =$E51*Z51*AA51 -> 0 | AD51: =IF($B51="magánszemély",AC51*$AB$39,0) -> 0 | AE51: =AB51+AD51 -> 0 | AF51: =AE51*$AC$39 -> 0 | AI51: =$C51*AG51*AH51 -> 0 | AJ51: =$E51*AG51*AH51 -> 0 | AK51: =IF($B51="magánszemély",AJ51*$AI$39,0) -> 0 | AL51: =AI51+AK51 -> 0 | AM51: =AL51*$AJ$39 -> 0 | AP51: =$C51*AN51*AO51 -> 0 | AQ51: =$E51*AN51*AO51 -> 0 | AR51: =IF($B51="magánszemély",AQ51*$AP$39,0) -> 0 | AS51: =AP51+AR51 -> 0 | AT51: =AS51*$AQ$39 -> 0
A52: Pozíció12 | E52: =C52*D52 -> 0 | H52: =$C52*F52*G52 -> 0 | I52: =$E52*F52*G52 -> 0 | J52: =IF($B52="magánszemély",I52*$H$39,0) -> 0 | K52: =H52+J52 -> 0 | N52: =$C52*L52*M52 -> 0 | O52: =$E52*L52*M52 -> 0 | P52: =IF($B52="magánszemély",O52*$N$39,0) -> 0 | Q52: =N52+P52 -> 0 | R52: =Q52*$O$39 -> 0 | U52: =$C52*S52*T52 -> 0 | V52: =$E52*S52*T52 -> 0 | W52: =IF($B52="magánszemély",V52*$U$39,0) -> 0 | X52: =U52+W52 -> 0 | Y52: =X52*$V$39 -> 0 | AB52: =$C52*Z52*AA52 -> 0 | AC52: =$E52*Z52*AA52 -> 0 | AD52: =IF($B52="magánszemély",AC52*$AB$39,0) -> 0 | AE52: =AB52+AD52 -> 0 | AF52: =AE52*$AC$39 -> 0 | AI52: =$C52*AG52*AH52 -> 0 | AJ52: =$E52*AG52*AH52 -> 0 | AK52: =IF($B52="magánszemély",AJ52*$AI$39,0) -> 0 | AL52: =AI52+AK52 -> 0 | AM52: =AL52*$AJ$39 -> 0 | AP52: =$C52*AN52*AO52 -> 0 | AQ52: =$E52*AN52*AO52 -> 0 | AR52: =IF($B52="magánszemély",AQ52*$AP$39,0) -> 0 | AS52: =AP52+AR52 -> 0 | AT52: =AS52*$AQ$39 -> 0
... A60: Pozíció20 | E60: =C60*D60 -> 0 | H60: =$C60*F60*G60 -> 0 | I60: =$E60*F60*G60 -> 0 | J60: =IF($B60="magánszemély",I60*$H$39,0) -> 0 | K60: =H60+J60 -> 0 | N60: =$C60*L60*M60 -> 0 | O60: =$E60*L60*M60 -> 0 | P60: =IF($B60="magánszemély",O60*$N$39,0) -> 0 | Q60: =N60+P60 -> 0 | R60: =Q60*$O$39 -> 0 | U60: =$C60*S60*T60 -> 0 | V60: =$E60*S60*T60 -> 0 | W60: =IF($B60="magánszemély",V60*$U$39,0) -> 0 | X60: =U60+W60 -> 0 | Y60: =X60*$V$39 -> 0 | AB60: =$C60*Z60*AA60 -> 0 | AC60: =$E60*Z60*AA60 -> 0 | AD60: =IF($B60="magánszemély",AC60*$AB$39,0) -> 0 | AE60: =AB60+AD60 -> 0 | AF60: =AE60*$AC$39 -> 0 | AI60: =$C60*AG60*AH60 -> 0 | AJ60: =$E60*AG60*AH60 -> 0 | AK60: =IF($B60="magánszemély",AJ60*$AI$39,0) -> 0 | AL60: =AI60+AK60 -> 0 | AM60: =AL60*$AJ$39 -> 0 | AP60: =$C60*AN60*AO60 -> 0 | AQ60: =$E60*AN60*AO60 -> 0 | AR60: =IF($B60="magánszemély",AQ60*$AP$39,0) -> 0 | AS60: =AP60+AR60 -> 0 | AT60: =AS60*$AQ$39 -> 0
A61: ÖSSZESEN | F61: =SUM(F41:F60) -> 0 | H61: =SUM(H41:H60) -> 0 | I61: =SUM(I41:I60) -> 0 | J61: =SUM(J41:J60) -> 0 | K61: =SUM(K41:K60) -> 0 | L61: =SUM(L41:L60) -> 0 | N61: =SUM(N41:N60) -> 0 | O61: =SUM(O41:O60) -> 0 | P61: =SUM(P41:P60) -> 0 | Q61: =SUM(Q41:Q60) -> 0 | R61: =SUM(R41:R60) -> 0 | S61: =SUM(S41:S60) -> 0 | U61: =SUM(U41:U60) -> 0 | V61: =SUM(V41:V60) -> 0 | W61: =SUM(W41:W60) -> 0 | X61: =SUM(X41:X60) -> 0 | Y61: =SUM(Y41:Y60) -> 0 | Z61: =SUM(Z41:Z60) -> 0 | AB61: =SUM(AB41:AB60) -> 0 | AC61: =SUM(AC41:AC60) -> 0 | AD61: =SUM(AD41:AD60) -> 0 | AE61: =SUM(AE41:AE60) -> 0 | AF61: =SUM(AF41:AF60) -> 0 | AG61: =SUM(AG41:AG60) -> 0 | AI61: =SUM(AI41:AI60) -> 0 | AJ61: =SUM(AJ41:AJ60) -> 0 | AK61: =SUM(AK41:AK60) -> 0 | AL61: =SUM(AL41:AL60) -> 0 | AM61: =SUM(AM41:AM60) -> 0 | AN61: =SUM(AN41:AN60) -> 0 | AP61: =SUM(AP41:AP60) -> 0 | AQ61: =SUM(AQ41:AQ60) -> 0 | AR61: =SUM(AR41:AR60) -> 0 | AS61: =SUM(AS41:AS60) -> 0 | AT61: =SUM(AT41:AT60) -> 0
D65: 0. év | E65: 1. év | F65: 2. év | G65: 3. év | H65: 4. év | I65: 5. év
D66: ='Bemeneti adatok'!E18 -> 1900 | E66: ='Bemeneti adatok'!F18 -> 1901 | F66: ='Bemeneti adatok'!G18 -> 1902 | G66: ='Bemeneti adatok'!H18 -> 1903 | H66: ='Bemeneti adatok'!I18 -> 1904 | I66: ='Bemeneti adatok'!J18 -> 1905
C67: Kumulált infláció | D67: ='Bemeneti adatok'!E20 -> 1 | E67: ='Bemeneti adatok'!F20 -> 1.035 | F67: ='Bemeneti adatok'!G20 -> 1.071225 | G67: ='Bemeneti adatok'!H20 -> 1.1033617 | H67: ='Bemeneti adatok'!I20 -> 1.1364626 | I67: ='Bemeneti adatok'!J20 -> 1.1705565
A68: TOVÁBBI KÖLTSÉGEK | B68: Költségkategória | C68: 1 tanulóra, hallgatóra jutó éves bruttó egységköltség (Ft) vagy havi bruttó költség | D68: 0. évre kalkulált költség (Ft) | E68: 1. évre kalkulált költség inflációs indexszel növelve (Ft) | F68: 2. évre kalkulált költség inflációs indexszel növelve (Ft) | G68: 3. évre kalkulált költség inflációs indexszel növelve (Ft) | H68: 4. évre kalkulált költség inflációs indexszel növelve (Ft) | I68: 5. évre kalkulált költség inflációs indexszel növelve (Ft)
A69: Anyag/segédanyag | B69: Anyagjellegű ráfordítások | D69: =($C69/12)*$F$12*$E$122 -> 0 | E69: =$C69*$J$122*E$67 -> 0 | F69: =$C69*$P$122*F$67 -> 0 | G69: =$C69*$V$122*G$67 -> 0 | H69: =$C69*$AB$122*H$67 -> 0 | I69: =$C69*$AH$122*I$67 -> 0
A70: Munkafelszerelés | B70: Anyagjellegű ráfordítások | D70: =$C70*$E$122 -> 0 | E70: =$C70*$J$122*E$67 -> 0 | F70: =$C70*$P$122*F$67 -> 0 | G70: =$C70*$V$122*G$67 -> 0 | H70: =$C70*$AB$122*H$67 -> 0 | I70: =$C70*$AH$122*I$67 -> 0
...

Sheet További költség-kimutatás
A10: További költségek (kimutatás) | B10: 0. év | C10: 1. év | D10: 2. év | E10: 3. év | F10: 4. év | G10: 5. év
A11: Anyagjellegű ráfordítások | B11: 0 | C11: 0 | D11: 0 | E11: 0 | F11: 0 | G11: 0
A12: Egyéb nem bérjellegű kifizetések | B12: 0 | C12: 0 | D12: 0 | E12: 0 | F12: 0 | G12: 0
A13: Egyéb szolgáltatás | B13: 0 | C13: 0 | D13: 0 | E13: 0 | F13: 0 | G13: 0
A14: Igénybevett szolgáltatások | B14: 0 | C14: 0 | D14: 0 | E14: 0 | F14: 0 | G14: 0
A15: (üres) | B15: 0 | C15: 0 | D15: 0 | E15: 0 | F15: 0 | G15: 0
A16: Végösszeg | B16: 0 | C16: 0 | D16: 0 | E16: 0 | F16: 0 | G16: 0

Sheet Bevétel
A11: önköltség | B11: ='Bemeneti adatok'!E30 -> 1200000 | I11: 0. év | J11: év munkanap: | K11: ='Bemeneti adatok'!E23 -> --- | N11: 1. év | O11: év munkanap: | P11: ='Bemeneti adatok'!F23 -> --- | Q11: kumulált infláció: | R11: ='Bemeneti adatok'!F20 -> 1.035 | T11: 2. év | U11: év munkanap: | V11: ='Bemeneti adatok'!G23 -> --- | W11: kumulált infláció: | X11: ='Bemeneti adatok'!G20 -> 1.071225 | Z11: 3. év | AA11: év munkanap: | AB11: ='Bemeneti adatok'!H23 -> --- | AC11: kumulált infláció: | AD11: ='Bemeneti adatok'!H20 -> 1.1033617 | AF11: 4. év | AG11: év munkanap: | AH11: ='Bemeneti adatok'!I23 -> --- | AI11: kumulált infláció: | AJ11: ='Bemeneti adatok'!I20 -> 1.1364626 | AL11: 5. év | AM11: év munkanap: | AN11: ='Bemeneti adatok'!J23 -> --- | AO11: kumulált infláció: | AP11: ='Bemeneti adatok'!J20 -> 1.1705565
A12: TANULÓI JOGVISZONY/FELNŐTTKÉPZÉSI JOGVISZONY UTÁN JÁRÓ MUNKASZERZŐDÉS ALAPÚ ADÓVISSZATÉRÍTÉS | I12: ='Bemeneti adatok'!$E$41 -> 1900 | J12: átlagos havi munkanapok: | K12: ='Bemeneti adatok'!E24 -> --- | N12: ='Bemeneti adatok'!$H$41 -> 1901 | O12: átlagos havi munkanap: | P12: ='Bemeneti adatok'!F24 -> --- | T12: ='Bemeneti adatok'!$K$41 -> 1902 | U12: átlagos havi munkanap: | V12: ='Bemeneti adatok'!G24 -> --- | Z12: ='Bemeneti adatok'!$N$41 -> 1903 | AA12: átlagos havi munkanap: | AB12: ='Bemeneti adatok'!H24 -> --- | AF12: ='Bemeneti adatok'!$Q$41 -> 1904 | AG12: átlagos havi munkanap: | AH12: ='Bemeneti adatok'!I24 -> --- | AL12: ='Bemeneti adatok'!$T$41 -> 1905 | AM12: átlagos havi munkanap: | AN12: ='Bemeneti adatok'!J24 -> ---
A13: Szakirányú oktatás időtartama | B13: Évfolyam | C13: technikum/ szakképző iskola | D13: ágazat | E13: nagykorú/ fiatalkorú | F13: évfolyami szorzó | G13: szakmaszorzó | H13: súlyszorzó | I13: arányosított önköltség 1 munkaórára (hallgatók esetén 1 munkanapra) | J13: szakirányú oktatás ténylegesen teljesített éves óraszáma/fő (hallgatók esetén napszáma/fő) | K13: kedvezmény éves összege/fő (Ft) | L13: létszám (fő) | M13: kedvezmény összege összesen (Ft) | N13: arányosított önköltség 1 munkaórára (hallgatók esetén 1 munkanapra) | O13: szakirányú oktatás ténylegesen teljesített éves óraszáma/fő (hallgatók esetén napszáma/fő) | P13: kedvezmény éves összege/fő (Ft) | Q13: létszám (fő) | R13: kedvezmény összege teljes/év (Ft) | S13: kedvezmény összege teljes/év kumulált inflációval növelve (Ft) | T13: arányosított önköltség 1 munkaórára (hallgatók esetén 1 munkanapra) | U13: szakirányú oktatás ténylegesen teljesített éves óraszáma/fő (hallgatók esetén napszáma/fő) | V13: kedvezmény éves összege/fő (Ft) | W13: létszám (fő) | X13: kedvezmény összege teljes/év (Ft) | Y13: kedvezmény összege teljes/év kumulált inflációval növelve (Ft) | Z13: arányosított önköltség 1 munkaórára (hallgatók esetén 1 munkanapra) | AA13: szakirányú oktatás ténylegesen teljesített éves óraszáma/fő (hallgatók esetén napszáma/fő) | AB13: kedvezmény éves összege/fő (Ft) | AC13: létszám (fő) | AD13: kedvezmény összege teljes/év (Ft) | AE13: kedvezmény összege teljes/év kumulált inflációval növelve (Ft) | AF13: arányosított önköltség 1 munkaórára (hallgatók esetén 1 munkanapra) | AG13: szakirányú oktatás ténylegesen teljesített éves óraszáma/fő (hallgatók esetén napszáma/fő) | AH13: kedvezmény éves összege/fő (Ft) | AI13: létszám (fő) | AJ13: kedvezmény összege teljes/év (Ft) | AK13: kedvezmény összege teljes/év kumulált inflációval növelve (Ft) | AL13: arányosított önköltség 1 munkaórára (hallgatók esetén 1 munkanapra) | AM13: szakirányú oktatás ténylegesen teljesített éves óraszáma/fő (hallgatók esetén napszáma/fő) | AN13: kedvezmény éves összege/fő (Ft) | AO13: létszám (fő) | AP13: kedvezmény összege teljes/év (Ft) | AQ13: kedvezmény összege teljes/év kumulált inflációval növelve (Ft)
